BEGIN:VCALENDAR
VERSION:2.0
PRODID:-//Poblenou Urban District - ECPv6.15.20//NONSGML v1.0//EN
CALSCALE:GREGORIAN
METHOD:PUBLISH
X-WR-CALNAME:Poblenou Urban District
X-ORIGINAL-URL:https://poblenouurbandistrict.com/ca
X-WR-CALDESC:Esdeveniments per Poblenou Urban District
REFRESH-INTERVAL;VALUE=DURATION:PT1H
X-Robots-Tag:noindex
X-PUBLISHED-TTL:PT1H
BEGIN:VTIMEZONE
TZID:Europe/Madrid
BEGIN:DAYLIGHT
TZOFFSETFROM:+0100
TZOFFSETTO:+0200
TZNAME:CEST
DTSTART:20240331T010000
END:DAYLIGHT
BEGIN:STANDARD
TZOFFSETFROM:+0200
TZOFFSETTO:+0100
TZNAME:CET
DTSTART:20241027T010000
END:STANDARD
BEGIN:DAYLIGHT
TZOFFSETFROM:+0100
TZOFFSETTO:+0200
TZNAME:CEST
DTSTART:20250330T010000
END:DAYLIGHT
BEGIN:STANDARD
TZOFFSETFROM:+0200
TZOFFSETTO:+0100
TZNAME:CET
DTSTART:20251026T010000
END:STANDARD
BEGIN:DAYLIGHT
TZOFFSETFROM:+0100
TZOFFSETTO:+0200
TZNAME:CEST
DTSTART:20260329T010000
END:DAYLIGHT
BEGIN:STANDARD
TZOFFSETFROM:+0200
TZOFFSETTO:+0100
TZNAME:CET
DTSTART:20261025T010000
END:STANDARD
END:VTIMEZONE
BEGIN:VEVENT
DTSTART;TZID=Europe/Madrid:20251220T090000
DTEND;TZID=Europe/Madrid:20251220T090000
DTSTAMP:20260422T225826
CREATED:20251216T115017Z
LAST-MODIFIED:20251216T115047Z
UID:10007399-1766221200-1766221200@poblenouurbandistrict.com
SUMMARY:EN CLAVE DE SOUL
DESCRIPTION:
URL:https://poblenouurbandistrict.com/ca/agenda/en-clave-de-soul/
LOCATION:La Nau
CATEGORIES:Música
ATTACH;FMTTYPE=image/jpeg:https://media.poblenouurbandistrict.com/2025/12/25100226/enclave.jpg
END:VEVENT
BEGIN:VEVENT
DTSTART;TZID=Europe/Madrid:20251220T200000
DTEND;TZID=Europe/Madrid:20251220T200000
DTSTAMP:20260422T225826
CREATED:20251216T104231Z
LAST-MODIFIED:20251216T104303Z
UID:10007378-1766260800-1766260800@poblenouurbandistrict.com
SUMMARY:Santa Salut
DESCRIPTION:
URL:https://poblenouurbandistrict.com/ca/agenda/santa-salut/
LOCATION:Sala Razzmatazz\, C/ dels Almogàvers\, 122\, Barcelona\, Barcelona\, 08018\, Espanya
CATEGORIES:Música
ATTACH;FMTTYPE=image/jpeg:https://media.poblenouurbandistrict.com/2025/12/25100012/ss-1000x540-1.jpg
END:VEVENT
BEGIN:VEVENT
DTSTART;TZID=Europe/Madrid:20251220T200000
DTEND;TZID=Europe/Madrid:20251220T200000
DTSTAMP:20260422T225826
CREATED:20251216T104443Z
LAST-MODIFIED:20251216T104523Z
UID:10007379-1766260800-1766260800@poblenouurbandistrict.com
SUMMARY:Bala + Gyoza
DESCRIPTION:
URL:https://poblenouurbandistrict.com/ca/agenda/bala-gyoza/
LOCATION:Sala Razzmatazz\, C/ dels Almogàvers\, 122\, Barcelona\, Barcelona\, 08018\, Espanya
CATEGORIES:Música
ATTACH;FMTTYPE=image/jpeg:https://media.poblenouurbandistrict.com/2025/12/25100015/balaprisas95ppp-9467-1000x540-1.jpg
END:VEVENT
BEGIN:VEVENT
DTSTART;TZID=Europe/Madrid:20251220T203000
DTEND;TZID=Europe/Madrid:20251220T203000
DTSTAMP:20260422T225826
CREATED:20251216T115309Z
LAST-MODIFIED:20251216T115353Z
UID:10007400-1766262600-1766262600@poblenouurbandistrict.com
SUMMARY:[:ca]Quintal Delas (Samba) + Tropicalles[:es]Quintal Delas (Samba)+ Topicalles[:en]Quintal Delas (Samba)+ Topicalles[:]
DESCRIPTION:
URL:https://poblenouurbandistrict.com/ca/agenda/quintal-delas-samba-tropicalles/
LOCATION:La Nau
CATEGORIES:Música
ATTACH;FMTTYPE=image/jpeg:https://media.poblenouurbandistrict.com/2025/12/25100229/cartelsamba2012web.jpg
END:VEVENT
END:VCALENDAR