BEGIN:VCALENDAR
VERSION:2.0
PRODID:-//Poblenou Urban District - ECPv6.15.20//NONSGML v1.0//EN
CALSCALE:GREGORIAN
METHOD:PUBLISH
X-WR-CALNAME:Poblenou Urban District
X-ORIGINAL-URL:https://poblenouurbandistrict.com/ca
X-WR-CALDESC:Esdeveniments per Poblenou Urban District
REFRESH-INTERVAL;VALUE=DURATION:PT1H
X-Robots-Tag:noindex
X-PUBLISHED-TTL:PT1H
BEGIN:VTIMEZONE
TZID:Europe/Madrid
BEGIN:DAYLIGHT
TZOFFSETFROM:+0100
TZOFFSETTO:+0200
TZNAME:CEST
DTSTART:20250330T010000
END:DAYLIGHT
BEGIN:STANDARD
TZOFFSETFROM:+0200
TZOFFSETTO:+0100
TZNAME:CET
DTSTART:20251026T010000
END:STANDARD
BEGIN:DAYLIGHT
TZOFFSETFROM:+0100
TZOFFSETTO:+0200
TZNAME:CEST
DTSTART:20260329T010000
END:DAYLIGHT
BEGIN:STANDARD
TZOFFSETFROM:+0200
TZOFFSETTO:+0100
TZNAME:CET
DTSTART:20261025T010000
END:STANDARD
BEGIN:DAYLIGHT
TZOFFSETFROM:+0100
TZOFFSETTO:+0200
TZNAME:CEST
DTSTART:20270328T010000
END:DAYLIGHT
BEGIN:STANDARD
TZOFFSETFROM:+0200
TZOFFSETTO:+0100
TZNAME:CET
DTSTART:20271031T010000
END:STANDARD
END:VTIMEZONE
BEGIN:VEVENT
DTSTART;TZID=Europe/Madrid:20260103T190000
DTEND;TZID=Europe/Madrid:20260110T190000
DTSTAMP:20260422T210021
CREATED:20251216T120155Z
LAST-MODIFIED:20251216T120155Z
UID:10007405-1767466800-1768071600@poblenouurbandistrict.com
SUMMARY:BANDA NEON Gira Guapíssima
DESCRIPTION:
URL:https://poblenouurbandistrict.com/ca/agenda/banda-neon-gira-guapissima/
LOCATION:La Nau
CATEGORIES:Música
ATTACH;FMTTYPE=image/jpeg:https://media.poblenouurbandistrict.com/2025/12/25100245/10.jpg
END:VEVENT
BEGIN:VEVENT
DTSTART;TZID=Europe/Madrid:20260110T193000
DTEND;TZID=Europe/Madrid:20260110T193000
DTSTAMP:20260422T210021
CREATED:20251216T110606Z
LAST-MODIFIED:20251216T110606Z
UID:10007388-1768073400-1768073400@poblenouurbandistrict.com
SUMMARY:MIGUEL CAMPELLO
DESCRIPTION:
URL:https://poblenouurbandistrict.com/ca/agenda/miguel-campello/
LOCATION:Sala Razzmatazz\, C/ dels Almogàvers\, 122\, Barcelona\, Barcelona\, 08018\, Espanya
CATEGORIES:Música
ATTACH;FMTTYPE=image/jpeg:https://media.poblenouurbandistrict.com/2025/12/25100151/miguelcampello-1000x540-1.jpg
END:VEVENT
BEGIN:VEVENT
DTSTART;TZID=Europe/Madrid:20260110T200000
DTEND;TZID=Europe/Madrid:20260110T200000
DTSTAMP:20260422T210021
CREATED:20251216T110744Z
LAST-MODIFIED:20251216T110744Z
UID:10007389-1768075200-1768075200@poblenouurbandistrict.com
SUMMARY:THE NIGHT PROWLERS
DESCRIPTION:
URL:https://poblenouurbandistrict.com/ca/agenda/the-night-prowlers/
LOCATION:Sala Razzmatazz\, C/ dels Almogàvers\, 122\, Barcelona\, Barcelona\, 08018\, Espanya
CATEGORIES:Música
ATTACH;FMTTYPE=image/jpeg:https://media.poblenouurbandistrict.com/2025/12/25100154/tnp1.jpg
END:VEVENT
BEGIN:VEVENT
DTSTART;TZID=Europe/Madrid:20260110T203000
DTEND;TZID=Europe/Madrid:20260110T203000
DTSTAMP:20260422T210021
CREATED:20251216T110927Z
LAST-MODIFIED:20251216T112001Z
UID:10007390-1768077000-1768077000@poblenouurbandistrict.com
SUMMARY:SUZETE - BABY WATA
DESCRIPTION:
URL:https://poblenouurbandistrict.com/ca/agenda/suzete-baby-wata/
LOCATION:Sala Razzmatazz\, C/ dels Almogàvers\, 122\, Barcelona\, Barcelona\, 08018\, Espanya
CATEGORIES:Música
ATTACH;FMTTYPE=image/jpeg:https://media.poblenouurbandistrict.com/2025/12/25100159/suzete-1000x540-1.jpg
END:VEVENT
END:VCALENDAR