BEGIN:VCALENDAR
VERSION:2.0
PRODID:-//Poblenou Urban District - ECPv6.15.20//NONSGML v1.0//EN
CALSCALE:GREGORIAN
METHOD:PUBLISH
X-WR-CALNAME:Poblenou Urban District
X-ORIGINAL-URL:https://poblenouurbandistrict.com/ca
X-WR-CALDESC:Esdeveniments per Poblenou Urban District
REFRESH-INTERVAL;VALUE=DURATION:PT1H
X-Robots-Tag:noindex
X-PUBLISHED-TTL:PT1H
BEGIN:VTIMEZONE
TZID:Europe/Madrid
BEGIN:DAYLIGHT
TZOFFSETFROM:+0100
TZOFFSETTO:+0200
TZNAME:CEST
DTSTART:20250330T010000
END:DAYLIGHT
BEGIN:STANDARD
TZOFFSETFROM:+0200
TZOFFSETTO:+0100
TZNAME:CET
DTSTART:20251026T010000
END:STANDARD
BEGIN:DAYLIGHT
TZOFFSETFROM:+0100
TZOFFSETTO:+0200
TZNAME:CEST
DTSTART:20260329T010000
END:DAYLIGHT
BEGIN:STANDARD
TZOFFSETFROM:+0200
TZOFFSETTO:+0100
TZNAME:CET
DTSTART:20261025T010000
END:STANDARD
BEGIN:DAYLIGHT
TZOFFSETFROM:+0100
TZOFFSETTO:+0200
TZNAME:CEST
DTSTART:20270328T010000
END:DAYLIGHT
BEGIN:STANDARD
TZOFFSETFROM:+0200
TZOFFSETTO:+0100
TZNAME:CET
DTSTART:20271031T010000
END:STANDARD
END:VTIMEZONE
BEGIN:VEVENT
DTSTART;TZID=Europe/Madrid:20260225T200000
DTEND;TZID=Europe/Madrid:20260225T200000
DTSTAMP:20260422T170040
CREATED:20260223T130021Z
LAST-MODIFIED:20260223T130021Z
UID:10007422-1772049600-1772049600@poblenouurbandistrict.com
SUMMARY:The Cost - The Doppler Affection Tour 2026
DESCRIPTION:
URL:https://poblenouurbandistrict.com/ca/agenda/the-cost-the-doppler-affection-tour-2026/
LOCATION:Sala Razzmatazz\, C/ dels Almogàvers\, 122\, Barcelona\, Barcelona\, 08018\, Espanya
CATEGORIES:Música
ATTACH;FMTTYPE=image/png:https://media.poblenouurbandistrict.com/2026/02/25101252/screenshot-2026-02-23-at-135515.png
END:VEVENT
END:VCALENDAR