BEGIN:VCALENDAR
VERSION:2.0
PRODID:-//Poblenou Urban District - ECPv6.15.20//NONSGML v1.0//EN
CALSCALE:GREGORIAN
METHOD:PUBLISH
X-ORIGINAL-URL:https://poblenouurbandistrict.com/ca
X-WR-CALDESC:Esdeveniments per Poblenou Urban District
REFRESH-INTERVAL;VALUE=DURATION:PT1H
X-Robots-Tag:noindex
X-PUBLISHED-TTL:PT1H
BEGIN:VTIMEZONE
TZID:Europe/Madrid
BEGIN:DAYLIGHT
TZOFFSETFROM:+0100
TZOFFSETTO:+0200
TZNAME:CEST
DTSTART:20210328T010000
END:DAYLIGHT
BEGIN:STANDARD
TZOFFSETFROM:+0200
TZOFFSETTO:+0100
TZNAME:CET
DTSTART:20211031T010000
END:STANDARD
BEGIN:DAYLIGHT
TZOFFSETFROM:+0100
TZOFFSETTO:+0200
TZNAME:CEST
DTSTART:20220327T010000
END:DAYLIGHT
BEGIN:STANDARD
TZOFFSETFROM:+0200
TZOFFSETTO:+0100
TZNAME:CET
DTSTART:20221030T010000
END:STANDARD
BEGIN:DAYLIGHT
TZOFFSETFROM:+0100
TZOFFSETTO:+0200
TZNAME:CEST
DTSTART:20230326T010000
END:DAYLIGHT
BEGIN:STANDARD
TZOFFSETFROM:+0200
TZOFFSETTO:+0100
TZNAME:CET
DTSTART:20231029T010000
END:STANDARD
END:VTIMEZONE
BEGIN:VEVENT
DTSTART;TZID=Europe/Madrid:20220304T183000
DTEND;TZID=Europe/Madrid:20220304T213000
DTSTAMP:20260421T151006
CREATED:20220210T111612Z
LAST-MODIFIED:20220210T111612Z
UID:10002339-1646418600-1646429400@poblenouurbandistrict.com
SUMMARY:[:ca]Taller thai[:es]Taller thai[:]
DESCRIPTION:vie\, 04 mar | Espai Granada\nPer a aquest taller l’Espai Granada compta amb l’experiència personal del seu xef després de passar per Tailàndia els mostrarà tot el sabor de la seva cuina.
URL:https://poblenouurbandistrict.com/ca/agenda/taller-thai/
LOCATION:Espai Granada\, Carrer de la Ciutat de Granada 28B\, Barcelona\, Barcelona\, 08005\, España
CATEGORIES:Taller
ATTACH;FMTTYPE=image/jpeg:https://media.poblenouurbandistrict.com/2022/02/25044701/capture-decran-2022-02-10-a-121422.jpg
END:VEVENT
BEGIN:VEVENT
DTSTART;TZID=Europe/Madrid:20220304T183000
DTEND;TZID=Europe/Madrid:20220304T213000
DTSTAMP:20260421T151006
CREATED:20220223T154525Z
LAST-MODIFIED:20220223T154525Z
UID:10002411-1646418600-1646429400@poblenouurbandistrict.com
SUMMARY:[:ca]Taller Thai[:es]Taller Thai[:]
DESCRIPTION:Els assistents prepararan completament els plats amb productes ecològics i de proximitat\, amb la idea de fomentar una alimentació de qualitat\, saludable i sostenible. En concloure el taller es comparteixen els plats en un ambient informal i relaxat\, acompanyats de begudes ( s’hi inclouen dues copes de vi o dues cerveses).
URL:https://poblenouurbandistrict.com/ca/agenda/taller-thai-2/
LOCATION:Espai Granada\, Carrer de la Ciutat de Granada 28B\, Barcelona\, Barcelona\, 08005\, España
CATEGORIES:Gastronomia,Taller
ATTACH;FMTTYPE=image/jpeg:https://media.poblenouurbandistrict.com/2022/02/25044845/diseno-sin-titulo-2-2.jpg
END:VEVENT
BEGIN:VEVENT
DTSTART;TZID=Europe/Madrid:20220305T103000
DTEND;TZID=Europe/Madrid:20220305T123000
DTSTAMP:20260421T151006
CREATED:20220223T155609Z
LAST-MODIFIED:20220223T155609Z
UID:10002412-1646476200-1646483400@poblenouurbandistrict.com
SUMMARY:[:ca]Taller Pizza Party per nens[:es]Taller Pizza Party para niños[:]
DESCRIPTION:Al taller s’aprendrà la recepta de la pizza\, es farà la mateixa massa\, es posaran els ingredients que més agradin i s’enfornarà…deliciosa!
URL:https://poblenouurbandistrict.com/ca/agenda/taller-pizza-party-per-nens/
LOCATION:Espai Granada\, Carrer de la Ciutat de Granada 28B\, Barcelona\, Barcelona\, 08005\, España
CATEGORIES:Gastronomia,Taller
ATTACH;FMTTYPE=image/jpeg:https://media.poblenouurbandistrict.com/2022/02/25044846/diseno-sin-titulo-3-2.jpg
END:VEVENT
BEGIN:VEVENT
DTSTART;TZID=Europe/Madrid:20220305T113000
DTEND;TZID=Europe/Madrid:20220305T133000
DTSTAMP:20260421T151006
CREATED:20220224T162032Z
LAST-MODIFIED:20220404T112628Z
UID:10002520-1646479800-1646487000@poblenouurbandistrict.com
SUMMARY:[:ca]Taller: Objectes que creen objectes[:es]Taller: Objetos que crean objetos[:]
DESCRIPTION:Us convidem al Museu del Disseny a descobrir un procés de producció industrial molt habitual en els objectes que tenim a casa: el treball amb motlles.
URL:https://poblenouurbandistrict.com/ca/agenda/taller-objectes-que-creen-objectes/2022-03-05/
LOCATION:Museu del Disseny\, Plaça de les Glòries Catalanes\,\, 37\, Barcelona\, Barcelona\, 08018\, Espanya
CATEGORIES:Taller,Teatre
ATTACH;FMTTYPE=image/jpeg:https://media.poblenouurbandistrict.com/2022/02/25044917/diseno-sin-titulo-15-2.jpg
END:VEVENT
BEGIN:VEVENT
DTSTART;TZID=Europe/Madrid:20220305T170000
DTEND;TZID=Europe/Madrid:20220305T203000
DTSTAMP:20260421T151006
CREATED:20220210T093544Z
LAST-MODIFIED:20220210T093544Z
UID:10002332-1646499600-1646512200@poblenouurbandistrict.com
SUMMARY:[:ca]Presentació de “Proceso Corporal Integrativo”[:es]Presentación de “Proceso Corporal Integrativo”[:]
DESCRIPTION:Antonio del Olmo és un antic col·laborador a ALAS Artes en Movimiento\, i aquest any per primera vegada portarà la seva formació “Procés Corporal Integratiu” a Barcelona.\nLa formació comença a l’abril i tindrà lloc a ALAS.
URL:https://poblenouurbandistrict.com/ca/agenda/presentacio-de-proceso-corporal-integrativo/
LOCATION:ALAS\, Passatge de Masoliver\, 25\, 1ª\, Barcelona\, 08005
CATEGORIES:Taller
ATTACH;FMTTYPE=image/jpeg:https://media.poblenouurbandistrict.com/2022/02/25044650/capture-decran-2022-02-10-a-103256.jpg
END:VEVENT
BEGIN:VEVENT
DTSTART;TZID=Europe/Madrid:20220306T113000
DTEND;TZID=Europe/Madrid:20220306T133000
DTSTAMP:20260421T151006
CREATED:20220225T095948Z
LAST-MODIFIED:20220404T112113Z
UID:10002532-1646566200-1646573400@poblenouurbandistrict.com
SUMMARY:[:ca]Taller familiar EXLIBRIS\, PITIBRIS![:es]Taller familiar EXLIBRIS\, PITIBRIS![:]
DESCRIPTION:Al taller Exlibris\, pitibris! ens inspirarem en les peces gràfiques de la col·lecció del Museu per crear el nostre exlibris personal\, farem el tampó i finalment pensarem un encanteri per protegir els nostres llibres. \nEls Diumenges
URL:https://poblenouurbandistrict.com/ca/agenda/taller-familiar-exlibris-pitibris/2022-03-06/
LOCATION:Museu del Disseny\, Plaça de les Glòries Catalanes\,\, 37\, Barcelona\, Barcelona\, 08018\, Espanya
CATEGORIES:Taller
ATTACH;FMTTYPE=image/jpeg:https://media.poblenouurbandistrict.com/2022/02/25044919/diseno-sin-titulo-16-2.jpg
END:VEVENT
BEGIN:VEVENT
DTSTART;TZID=Europe/Madrid:20220309T183000
DTEND;TZID=Europe/Madrid:20220309T213000
DTSTAMP:20260421T151006
CREATED:20220210T112341Z
LAST-MODIFIED:20220210T112341Z
UID:10002342-1646850600-1646861400@poblenouurbandistrict.com
SUMMARY:[:ca]Taller d'arrossos no aptes per a turistes[:es]Taller de arroces no aptos para turistas[:]
DESCRIPTION:dime\, 09 mar | Barcelona\nJuntament amb el xef David Olivé\, descobrirem els tipus d’arrossos i quina és la millor manera de cuinar-los. Tot això mentre donem respostes als dubtes eterns\, resolem enigmes i ens enfrontem als mites d’aquest aliment.
URL:https://poblenouurbandistrict.com/ca/agenda/taller-darrossos-no-aptes-per-a-turistes/
LOCATION:Espai Granada\, Carrer de la Ciutat de Granada 28B\, Barcelona\, Barcelona\, 08005\, España
CATEGORIES:Taller
ATTACH;FMTTYPE=image/jpeg:https://media.poblenouurbandistrict.com/2022/02/25044704/capture-decran-2022-02-10-a-122239.jpg
END:VEVENT
BEGIN:VEVENT
DTSTART;TZID=Europe/Madrid:20220310T183000
DTEND;TZID=Europe/Madrid:20220310T210000
DTSTAMP:20260421T151006
CREATED:20220214T120030Z
LAST-MODIFIED:20220302T094157Z
UID:10002401-1646937000-1646946000@poblenouurbandistrict.com
SUMMARY:[:es]MENTORÍA PARA ARTISTAS[:]
DESCRIPTION:Disculpa\, pero esta entrada está disponible sólo en Castellano.
URL:https://poblenouurbandistrict.com/ca/agenda/mentoria-para-artistas/
LOCATION:Open Design Studio\, Gran Via 757\, Barcelona\, Barcelona\, 08013\, Espanya
CATEGORIES:Taller
ATTACH;FMTTYPE=image/jpeg:https://media.poblenouurbandistrict.com/2022/02/25044748/mentoria-artistas.jpg
ORGANIZER;CN="Open Design Studio":MAILTO:hello@opendesignstudio.eu
END:VEVENT
BEGIN:VEVENT
DTSTART;TZID=Europe/Madrid:20220311T173000
DTEND;TZID=Europe/Madrid:20220313T140000
DTSTAMP:20260421T151006
CREATED:20220307T101956Z
LAST-MODIFIED:20220307T101956Z
UID:10002631-1647019800-1647180000@poblenouurbandistrict.com
SUMMARY:[:ca]Taller intensiu: Moviment Autèntic[:es]Taller intensivo: Movimiento Auténtico[:]
DESCRIPTION:La pràctica de MA ofereix un espai de trobada i aprofundiment amb un mateix i amb els altres\, obrint-nos a una experiència corporal en què els nostres continguts inconscients emergeixen alhora que es revelen i es tornen conscients.
URL:https://poblenouurbandistrict.com/ca/agenda/taller-intensiu-moviment-autentic/
LOCATION:ALAS\, Passatge de Masoliver\, 25\, 1ª\, Barcelona\, 08005
CATEGORIES:Taller
ATTACH;FMTTYPE=image/jpeg:https://media.poblenouurbandistrict.com/2022/03/25045029/movimiento-autentico-taller-24cb626b-small.jpg
END:VEVENT
BEGIN:VEVENT
DTSTART;TZID=Europe/Madrid:20220312T113000
DTEND;TZID=Europe/Madrid:20220312T133000
DTSTAMP:20260421T151006
CREATED:20220224T162032Z
LAST-MODIFIED:20220404T112628Z
UID:10002521-1647084600-1647091800@poblenouurbandistrict.com
SUMMARY:[:ca]Taller: Objectes que creen objectes[:es]Taller: Objetos que crean objetos[:]
DESCRIPTION:Us convidem al Museu del Disseny a descobrir un procés de producció industrial molt habitual en els objectes que tenim a casa: el treball amb motlles.
URL:https://poblenouurbandistrict.com/ca/agenda/taller-objectes-que-creen-objectes/2022-03-12/
LOCATION:Museu del Disseny\, Plaça de les Glòries Catalanes\,\, 37\, Barcelona\, Barcelona\, 08018\, Espanya
CATEGORIES:Taller,Teatre
ATTACH;FMTTYPE=image/jpeg:https://media.poblenouurbandistrict.com/2022/02/25044917/diseno-sin-titulo-15-2.jpg
END:VEVENT
BEGIN:VEVENT
DTSTART;VALUE=DATE:20220313
DTEND;VALUE=DATE:20220314
DTSTAMP:20260421T151006
CREATED:20220309T161732Z
LAST-MODIFIED:20220309T161732Z
UID:10002703-1647129600-1647215999@poblenouurbandistrict.com
SUMMARY:[:ca]Taller familiar: Tutti Fan Piu[:es]Taller familiar: Tutti Fan Piu[:]
DESCRIPTION:En aquest taller es treballarà la música del concert “Tutti fan piu” i es lliuraran materials amb informació del concert\, un resum del taller i suggeriments per a continuar gaudint de la música conjuntament a casa. \nEls assistents podran conèixer als músics després dels concerts del 19 de març a les 17 h i el 20 de març a les 12 h.
URL:https://poblenouurbandistrict.com/ca/agenda/taller-familiar-tutti-fan-piu/
LOCATION:L’Auditori\, Carrer de Lepant\, 150\, Barcelona\, 08013\, Espanya
CATEGORIES:Taller
ATTACH;FMTTYPE=image/jpeg:https://media.poblenouurbandistrict.com/2022/03/25045109/pud-agenda-5-1.jpg
END:VEVENT
BEGIN:VEVENT
DTSTART;TZID=Europe/Madrid:20220313T113000
DTEND;TZID=Europe/Madrid:20220313T133000
DTSTAMP:20260421T151006
CREATED:20220225T095948Z
LAST-MODIFIED:20220404T112113Z
UID:10002533-1647171000-1647178200@poblenouurbandistrict.com
SUMMARY:[:ca]Taller familiar EXLIBRIS\, PITIBRIS![:es]Taller familiar EXLIBRIS\, PITIBRIS![:]
DESCRIPTION:Al taller Exlibris\, pitibris! ens inspirarem en les peces gràfiques de la col·lecció del Museu per crear el nostre exlibris personal\, farem el tampó i finalment pensarem un encanteri per protegir els nostres llibres. \nEls Diumenges
URL:https://poblenouurbandistrict.com/ca/agenda/taller-familiar-exlibris-pitibris/2022-03-13/
LOCATION:Museu del Disseny\, Plaça de les Glòries Catalanes\,\, 37\, Barcelona\, Barcelona\, 08018\, Espanya
CATEGORIES:Taller
ATTACH;FMTTYPE=image/jpeg:https://media.poblenouurbandistrict.com/2022/02/25044919/diseno-sin-titulo-16-2.jpg
END:VEVENT
BEGIN:VEVENT
DTSTART;TZID=Europe/Madrid:20220316T183000
DTEND;TZID=Europe/Madrid:20220316T213000
DTSTAMP:20260421T151006
CREATED:20220223T162837Z
LAST-MODIFIED:20220223T164629Z
UID:10002414-1647455400-1647466200@poblenouurbandistrict.com
SUMMARY:[:ca]Taller de menjar català[:es]Taller de comida catalana[:]
DESCRIPTION:En aquest taller es prepararà: \n\nBacallà a la llauna.\nMandonguilles mar i muntanya.\nBunyols de Quaresma.\n\nPlats típics de Catalunya que estan per llepar-se els dits!!
URL:https://poblenouurbandistrict.com/ca/agenda/taller-de-menjar-catala/
LOCATION:Espai Granada\, Carrer de la Ciutat de Granada 28B\, Barcelona\, Barcelona\, 08005\, España
CATEGORIES:Gastronomia,Taller
ATTACH;FMTTYPE=image/jpeg:https://media.poblenouurbandistrict.com/2022/02/25044851/diseno-sin-titulo-7-2.jpg
END:VEVENT
BEGIN:VEVENT
DTSTART;TZID=Europe/Madrid:20220319T113000
DTEND;TZID=Europe/Madrid:20220319T133000
DTSTAMP:20260421T151006
CREATED:20220224T162032Z
LAST-MODIFIED:20220404T112628Z
UID:10002522-1647689400-1647696600@poblenouurbandistrict.com
SUMMARY:[:ca]Taller: Objectes que creen objectes[:es]Taller: Objetos que crean objetos[:]
DESCRIPTION:Us convidem al Museu del Disseny a descobrir un procés de producció industrial molt habitual en els objectes que tenim a casa: el treball amb motlles.
URL:https://poblenouurbandistrict.com/ca/agenda/taller-objectes-que-creen-objectes/2022-03-19/
LOCATION:Museu del Disseny\, Plaça de les Glòries Catalanes\,\, 37\, Barcelona\, Barcelona\, 08018\, Espanya
CATEGORIES:Taller,Teatre
ATTACH;FMTTYPE=image/jpeg:https://media.poblenouurbandistrict.com/2022/02/25044917/diseno-sin-titulo-15-2.jpg
END:VEVENT
BEGIN:VEVENT
DTSTART;TZID=Europe/Madrid:20220319T170000
DTEND;TZID=Europe/Madrid:20220319T170000
DTSTAMP:20260421T151006
CREATED:20220225T101657Z
LAST-MODIFIED:20220225T101657Z
UID:10002540-1647709200-1647709200@poblenouurbandistrict.com
SUMMARY:[:ca]Petites històries\, grans dones: Inma Bermúdez[:es]Pequeñas historias\, grandes mujeres: Inma Bermúdez[:]
DESCRIPTION:Amb motiu del dia Internacional de la Dona\, 10 museus de Barcelona i l’àrea metropolitana es posen d’acord per cinquena vegada per oferir el cicle de contacontes Petites històries\, grans dones.\nAl Museu del Disseny de Barcelona coneixerem a la dissenyadora Inma Bermúdez.
URL:https://poblenouurbandistrict.com/ca/agenda/petites-histories-grans-dones-inma-bermudez/
LOCATION:Museu del Disseny\, Plaça de les Glòries Catalanes\,\, 37\, Barcelona\, Barcelona\, 08018\, Espanya
CATEGORIES:Taller
ATTACH;FMTTYPE=image/jpeg:https://media.poblenouurbandistrict.com/2022/02/25044920/diseno-sin-titulo-17-1.jpg
END:VEVENT
BEGIN:VEVENT
DTSTART;TZID=Europe/Madrid:20220320T113000
DTEND;TZID=Europe/Madrid:20220320T133000
DTSTAMP:20260421T151006
CREATED:20220225T095948Z
LAST-MODIFIED:20220404T112113Z
UID:10002534-1647775800-1647783000@poblenouurbandistrict.com
SUMMARY:[:ca]Taller familiar EXLIBRIS\, PITIBRIS![:es]Taller familiar EXLIBRIS\, PITIBRIS![:]
DESCRIPTION:Al taller Exlibris\, pitibris! ens inspirarem en les peces gràfiques de la col·lecció del Museu per crear el nostre exlibris personal\, farem el tampó i finalment pensarem un encanteri per protegir els nostres llibres. \nEls Diumenges
URL:https://poblenouurbandistrict.com/ca/agenda/taller-familiar-exlibris-pitibris/2022-03-20/
LOCATION:Museu del Disseny\, Plaça de les Glòries Catalanes\,\, 37\, Barcelona\, Barcelona\, 08018\, Espanya
CATEGORIES:Taller
ATTACH;FMTTYPE=image/jpeg:https://media.poblenouurbandistrict.com/2022/02/25044919/diseno-sin-titulo-16-2.jpg
END:VEVENT
BEGIN:VEVENT
DTSTART;VALUE=DATE:20220324
DTEND;VALUE=DATE:20220325
DTSTAMP:20260421T151006
CREATED:20220222T114855Z
LAST-MODIFIED:20220222T114855Z
UID:10002410-1648080000-1648166399@poblenouurbandistrict.com
SUMMARY:[:ca]Taller: Escriure la por[:es]Taller: Escribir el miedo[:]
DESCRIPTION:Parlem de la por\, de la por com a emoció\, com a plaer\, com a condicionant\, com a estímul\, com a salt al buit. Si la nostra cultura comença amb el llenguatge\, el llenguatge comença amb les emocions. I la por és una emoció primària\, potser la que va donar origen al que avui anomenem literatura. \nComença el 24 de març\nLes trobades seran tots els dijous (sis en total) de 19 a 21h
URL:https://poblenouurbandistrict.com/ca/agenda/taller-escriure-la-por/
LOCATION:Stay Hungry Stay Foolish\, Gran Via de les Corts Catalanes\, 757\, Barcelona\, 08013
CATEGORIES:Taller
ATTACH;FMTTYPE=image/jpeg:https://media.poblenouurbandistrict.com/2022/02/25044835/capture-decran-2022-02-22-a-124734.jpg
END:VEVENT
BEGIN:VEVENT
DTSTART;TZID=Europe/Madrid:20220325T163000
DTEND;TZID=Europe/Madrid:20220326T133000
DTSTAMP:20260421T151006
CREATED:20220307T104519Z
LAST-MODIFIED:20220307T104519Z
UID:10002632-1648225800-1648301400@poblenouurbandistrict.com
SUMMARY:[:ca]Taller: Accerelació Creativa[:es]Taller: Aceleración Creativa[:]
DESCRIPTION:En aquest taller\, s’aprendrà a treure-li el rendiment més gran possible al procés creatiu i a fer servir eines creatives amb què construir grans idees i tècniques per aprofitar el temps al màxim.
URL:https://poblenouurbandistrict.com/ca/agenda/taller-accerelacio-creativa/
LOCATION:Barcelona School of Creativity\, Carrer Pallars\, 65\, Nau 4\, Barcelona\, Catalunya\, 08018\, España
CATEGORIES:Taller
ATTACH;FMTTYPE=image/png:https://poblenouurbandistrict.com/wp-content/uploads/2022/03/pud-agenda-1.jpg
ORGANIZER;CN="Barcelona School of Creativity":MAILTO:hola@barcelonaschoolofcreativity.com
END:VEVENT
BEGIN:VEVENT
DTSTART;TZID=Europe/Madrid:20220326T113000
DTEND;TZID=Europe/Madrid:20220326T133000
DTSTAMP:20260421T151006
CREATED:20220224T162032Z
LAST-MODIFIED:20220404T112628Z
UID:10002523-1648294200-1648301400@poblenouurbandistrict.com
SUMMARY:[:ca]Taller: Objectes que creen objectes[:es]Taller: Objetos que crean objetos[:]
DESCRIPTION:Us convidem al Museu del Disseny a descobrir un procés de producció industrial molt habitual en els objectes que tenim a casa: el treball amb motlles.
URL:https://poblenouurbandistrict.com/ca/agenda/taller-objectes-que-creen-objectes/2022-03-26/
LOCATION:Museu del Disseny\, Plaça de les Glòries Catalanes\,\, 37\, Barcelona\, Barcelona\, 08018\, Espanya
CATEGORIES:Taller,Teatre
ATTACH;FMTTYPE=image/jpeg:https://media.poblenouurbandistrict.com/2022/02/25044917/diseno-sin-titulo-15-2.jpg
END:VEVENT
BEGIN:VEVENT
DTSTART;TZID=Europe/Madrid:20220326T120000
DTEND;TZID=Europe/Madrid:20220326T130000
DTSTAMP:20260421T151006
CREATED:20220324T170852Z
LAST-MODIFIED:20220324T170852Z
UID:10003000-1648296000-1648299600@poblenouurbandistrict.com
SUMMARY:[:ca]Taller: Ukelele\, el viatge de tornada[:es]Taller: Ukelele\, el viaje de vuelta[:]
DESCRIPTION:Taller participatiu d’introducció a la pràctica de l’instrument\, descobrirem la història d’aquest simpàtic instrument\, veurem com se’n poden construir amb una caixa de cigars i aprendrem a tocar alguns acords.
URL:https://poblenouurbandistrict.com/ca/agenda/taller-ukelele-el-viatge-de-tornada/
LOCATION:L’Auditori\, Carrer de Lepant\, 150\, Barcelona\, 08013\, Espanya
CATEGORIES:Música,Taller
ATTACH;FMTTYPE=image/jpeg:https://media.poblenouurbandistrict.com/2022/03/25045811/screenshot-2022-03-24-at-180744.jpg
END:VEVENT
BEGIN:VEVENT
DTSTART;TZID=Europe/Madrid:20220327T110000
DTEND;TZID=Europe/Madrid:20220327T173000
DTSTAMP:20260421T151006
CREATED:20220223T163839Z
LAST-MODIFIED:20220303T150551Z
UID:10002416-1648378800-1648402200@poblenouurbandistrict.com
SUMMARY:[:ca]Brunch Setè Cel[:es]Brunch Séptimo Cielo[:]
DESCRIPTION:Vine a celebrar un dia inoblidable amb un brunch mediterrani deliciós\, un viatge per Grècia\, Itàlia\, Turquia\, Israel i el Líban. El preu per persona és de 18€ i inclou la reserva de la plaça\, un plat principal a escollir de la nostra carta i una beguda no alcohòlica.
URL:https://poblenouurbandistrict.com/ca/agenda/brunch-sete-cel/
LOCATION:Espai Granada\, Carrer de la Ciutat de Granada 28B\, Barcelona\, Barcelona\, 08005\, España
CATEGORIES:Gastronomia,Taller
ATTACH;FMTTYPE=image/jpeg:https://media.poblenouurbandistrict.com/2022/02/25044853/diseno-sin-titulo-8-2.jpg
END:VEVENT
BEGIN:VEVENT
DTSTART;TZID=Europe/Madrid:20220327T113000
DTEND;TZID=Europe/Madrid:20220327T133000
DTSTAMP:20260421T151006
CREATED:20220225T095948Z
LAST-MODIFIED:20220404T112113Z
UID:10002535-1648380600-1648387800@poblenouurbandistrict.com
SUMMARY:[:ca]Taller familiar EXLIBRIS\, PITIBRIS![:es]Taller familiar EXLIBRIS\, PITIBRIS![:]
DESCRIPTION:Al taller Exlibris\, pitibris! ens inspirarem en les peces gràfiques de la col·lecció del Museu per crear el nostre exlibris personal\, farem el tampó i finalment pensarem un encanteri per protegir els nostres llibres. \nEls Diumenges
URL:https://poblenouurbandistrict.com/ca/agenda/taller-familiar-exlibris-pitibris/2022-03-27/
LOCATION:Museu del Disseny\, Plaça de les Glòries Catalanes\,\, 37\, Barcelona\, Barcelona\, 08018\, Espanya
CATEGORIES:Taller
ATTACH;FMTTYPE=image/jpeg:https://media.poblenouurbandistrict.com/2022/02/25044919/diseno-sin-titulo-16-2.jpg
END:VEVENT
BEGIN:VEVENT
DTSTART;TZID=Europe/Madrid:20220331T183000
DTEND;TZID=Europe/Madrid:20220331T193000
DTSTAMP:20260421T151006
CREATED:20220324T173713Z
LAST-MODIFIED:20220324T173713Z
UID:10003006-1648751400-1648755000@poblenouurbandistrict.com
SUMMARY:[:ca]Esdeveniment: Type Thursday[:es]Evento: Type Thursday[:]
DESCRIPTION:Type Thursday\, el gran esdeveniment tipogràfic de Barcelona\, torna a la BAU en format presencial. Aquesta edició es basarà en una Type Crit\, un espai de crítica constructiva i participativa de projectes en curs que impliquen el disseny de lletres o l’ús de tipografia.
URL:https://poblenouurbandistrict.com/ca/agenda/esdeveniment-type-thursday/
LOCATION:BAU\, Carrer de Pujades\, 118\, Barcelona\, Barcelona\, 08005\, Espanya
CATEGORIES:Taller,Xerrada
ATTACH;FMTTYPE=image/jpeg:https://media.poblenouurbandistrict.com/2022/03/25045815/screenshot-2022-03-24-at-183623.jpg
END:VEVENT
END:VCALENDAR