BEGIN:VCALENDAR
VERSION:2.0
PRODID:-//Poblenou Urban District - ECPv6.15.20//NONSGML v1.0//EN
CALSCALE:GREGORIAN
METHOD:PUBLISH
X-WR-CALNAME:Poblenou Urban District
X-ORIGINAL-URL:https://poblenouurbandistrict.com/ca
X-WR-CALDESC:Esdeveniments per Poblenou Urban District
REFRESH-INTERVAL;VALUE=DURATION:PT1H
X-Robots-Tag:noindex
X-PUBLISHED-TTL:PT1H
BEGIN:VTIMEZONE
TZID:Europe/Madrid
BEGIN:DAYLIGHT
TZOFFSETFROM:+0100
TZOFFSETTO:+0200
TZNAME:CEST
DTSTART:20210328T010000
END:DAYLIGHT
BEGIN:STANDARD
TZOFFSETFROM:+0200
TZOFFSETTO:+0100
TZNAME:CET
DTSTART:20211031T010000
END:STANDARD
BEGIN:DAYLIGHT
TZOFFSETFROM:+0100
TZOFFSETTO:+0200
TZNAME:CEST
DTSTART:20220327T010000
END:DAYLIGHT
BEGIN:STANDARD
TZOFFSETFROM:+0200
TZOFFSETTO:+0100
TZNAME:CET
DTSTART:20221030T010000
END:STANDARD
BEGIN:DAYLIGHT
TZOFFSETFROM:+0100
TZOFFSETTO:+0200
TZNAME:CEST
DTSTART:20230326T010000
END:DAYLIGHT
BEGIN:STANDARD
TZOFFSETFROM:+0200
TZOFFSETTO:+0100
TZNAME:CET
DTSTART:20231029T010000
END:STANDARD
END:VTIMEZONE
BEGIN:VEVENT
DTSTART;TZID=Europe/Madrid:20220501T130000
DTEND;TZID=Europe/Madrid:20220501T174500
DTSTAMP:20260421T112941
CREATED:20220408T143610Z
LAST-MODIFIED:20220517T162306Z
UID:10002752-1651410000-1651427100@poblenouurbandistrict.com
SUMMARY:[:ca]Brunch Setè Cel edició BBQ[:es]Brunch Séptimo Cielo edición BBQ[:en]Seventh Heaven Brunch BBQ edition[:]
DESCRIPTION:Espai Granada presenta Setè Cel\, un autèntic Homemade Brunch amb les millors vistes de la ciutat en un espai segur i a l’aire lliure. \nSetè Cel estrena barbacoa\, veuen a gaudir dels sabors grill en la nostra pròxima edició.
URL:https://poblenouurbandistrict.com/ca/agenda/brunch-sete-cel-edicio-bbq/2022-05-01/
LOCATION:Espai Granada\, Carrer de la Ciutat de Granada 28B\, Barcelona\, Barcelona\, 08005\, España
CATEGORIES:Gastronomia,Taller
ATTACH;FMTTYPE=image/jpeg:https://media.poblenouurbandistrict.com/2021/09/25041804/flyer-brunch-openday-2020-espaigranada-00-1.jpg
END:VEVENT
BEGIN:VEVENT
DTSTART;VALUE=DATE:20220505
DTEND;VALUE=DATE:20220506
DTSTAMP:20260421T112941
CREATED:20220412T083525Z
LAST-MODIFIED:20220412T083525Z
UID:10002773-1651708800-1651795199@poblenouurbandistrict.com
SUMMARY:Festival: OFFF Barcelona
DESCRIPTION:Del 5 al 7 de maig\, el Disseny Hub Barcelona acollirà una nova edició de l’OFFF Barcelona\, el festival de referència en l’àmbit de la creativitat i el disseny.
URL:https://poblenouurbandistrict.com/ca/agenda/festival-offf-barcelona/2022-05-05/
LOCATION:Disseny Hub\, Pl. de les Glòries Catalanes 37\, Barcelona\, Catalunya\, 08018\, España
CATEGORIES:Exposició,Taller,Xerrada
ATTACH;FMTTYPE=image/jpeg:https://media.poblenouurbandistrict.com/2022/04/25050307/pud-agenda-3.jpg
ORGANIZER;CN="Disseny Hub":MAILTO:dissenyhub@bcn.cat
END:VEVENT
BEGIN:VEVENT
DTSTART;TZID=Europe/Madrid:20220505T160000
DTEND;TZID=Europe/Madrid:20220505T190000
DTSTAMP:20260421T112941
CREATED:20220427T164825Z
LAST-MODIFIED:20220427T164825Z
UID:10003268-1651766400-1651777200@poblenouurbandistrict.com
SUMMARY:[:ca]Portes obertes online IAAC[:es]Puertas abiertas online IAAC[:en]Online Open Day IAAC[:]
DESCRIPTION:Jornada de Portes Obertes del IAAC En línia. Destacarem els plans de l’institut per a l’any vinent acadèmic. Parla amb el professorat del IAAC sobre els nostres programes educatius\, instal·lacions\, aprenentatge i vida a #Barcelona.
URL:https://poblenouurbandistrict.com/ca/agenda/portes-obertes-online-iaac/
LOCATION:IAAC\, Carrer de Pujades\, 102\, Barcelona\, 08005
CATEGORIES:Curs,Taller,Xerrada
ATTACH;FMTTYPE=image/jpeg:https://media.poblenouurbandistrict.com/2022/04/25050755/279045386-342825977840200-3598158899253277125-n.jpg
END:VEVENT
BEGIN:VEVENT
DTSTART;TZID=Europe/Madrid:20220505T180000
DTEND;TZID=Europe/Madrid:20220505T193000
DTSTAMP:20260421T112941
CREATED:20220427T164300Z
LAST-MODIFIED:20220427T164351Z
UID:10003263-1651773600-1651779000@poblenouurbandistrict.com
SUMMARY:[:ca]Taller creatiu d'escriptura de poemes[:es]Taller creativo de escritura de poemas[:en]Creative Poem Writing Workshop[:]
DESCRIPTION:En aquestes sessions aprendràs a entrar en contacte amb la teva veu poètica\, a reconèixer-la\, a donar-li l’espai i el temps que necessita per poder enfortir-se\, fluir i manifestar la seva naturalesa. El taller serà essencialment pràctic i els textos es posaran en comú amb tots els assistents. \nCal inscripció prèvia a la biblioteca. Durada: 4 sessions d’1 hora 30 minuts
URL:https://poblenouurbandistrict.com/ca/agenda/taller-creatiu-descriptura-de-poemes/2022-05-05/
LOCATION:Disseny Hub\, Pl. de les Glòries Catalanes 37\, Barcelona\, Catalunya\, 08018\, España
CATEGORIES:Taller
ATTACH;FMTTYPE=image/jpeg:https://media.poblenouurbandistrict.com/2022/04/25050753/screenshot-2022-04-27-at-184223.jpg
ORGANIZER;CN="Disseny Hub":MAILTO:dissenyhub@bcn.cat
END:VEVENT
BEGIN:VEVENT
DTSTART;TZID=Europe/Madrid:20220505T190000
DTEND;TZID=Europe/Madrid:20220505T220000
DTSTAMP:20260421T112941
CREATED:20220408T143935Z
LAST-MODIFIED:20220408T143935Z
UID:10002756-1651777200-1651788000@poblenouurbandistrict.com
SUMMARY:[:ca]Taller: Batch cooking[:es]Taller: Batch cooking[:en]Workshop: Batch cooking[:]
DESCRIPTION:Un taller en Espai Granada per a organitzar la nostra dieta amb diferents elaboracions per a anar combinant al llarg la setmana.
URL:https://poblenouurbandistrict.com/ca/agenda/taller-batch-cooking/
LOCATION:Espai Granada\, Carrer de la Ciutat de Granada 28B\, Barcelona\, Barcelona\, 08005\, España
CATEGORIES:Gastronomia,Taller
ATTACH;FMTTYPE=image/jpeg:https://media.poblenouurbandistrict.com/2022/04/25050259/screenshot-2022-04-08-at-163904.jpg
END:VEVENT
BEGIN:VEVENT
DTSTART;VALUE=DATE:20220506
DTEND;VALUE=DATE:20220507
DTSTAMP:20260421T112941
CREATED:20220412T083525Z
LAST-MODIFIED:20220412T083525Z
UID:10002774-1651795200-1651881599@poblenouurbandistrict.com
SUMMARY:Festival: OFFF Barcelona
DESCRIPTION:Del 5 al 7 de maig\, el Disseny Hub Barcelona acollirà una nova edició de l’OFFF Barcelona\, el festival de referència en l’àmbit de la creativitat i el disseny.
URL:https://poblenouurbandistrict.com/ca/agenda/festival-offf-barcelona/2022-05-06/
LOCATION:Disseny Hub\, Pl. de les Glòries Catalanes 37\, Barcelona\, Catalunya\, 08018\, España
CATEGORIES:Exposició,Taller,Xerrada
ATTACH;FMTTYPE=image/jpeg:https://media.poblenouurbandistrict.com/2022/04/25050307/pud-agenda-3.jpg
ORGANIZER;CN="Disseny Hub":MAILTO:dissenyhub@bcn.cat
END:VEVENT
BEGIN:VEVENT
DTSTART;TZID=Europe/Madrid:20220506T163000
DTEND;TZID=Europe/Madrid:20220506T193000
DTSTAMP:20260421T112941
CREATED:20220408T141118Z
LAST-MODIFIED:20220517T155506Z
UID:10003149-1651854600-1651865400@poblenouurbandistrict.com
SUMMARY:[:ca]Taller: Creativitat Inside Out[:es]Taller: Creatividad Inside Out[:en]Workshop: Creativity Inside Out[:]
DESCRIPTION:En aquest taller aprendràs altres maneres d’explorar i crear connectant amb els teus propis recursos per afrontar els teus projectes creatius\, siguin guions\, il·lustracions o anuncis publicitaris. Està dirigit a professionals de la creativitat que vulguin augmentar la seva capacitat creativa i disminuir el bloqueig i/o estrès que comporta la professió.
URL:https://poblenouurbandistrict.com/ca/agenda/taller-creativitat-inside-out/2022-05-06/
LOCATION:Barcelona School of Creativity\, Carrer Pallars\, 65\, Nau 4\, Barcelona\, Catalunya\, 08018\, España
CATEGORIES:Taller
ATTACH;FMTTYPE=image/png:https://poblenouurbandistrict.com/wp-content/uploads/2022/03/pud-agenda-2.jpg
ORGANIZER;CN="Barcelona School of Creativity":MAILTO:hola@barcelonaschoolofcreativity.com
END:VEVENT
BEGIN:VEVENT
DTSTART;VALUE=DATE:20220507
DTEND;VALUE=DATE:20220508
DTSTAMP:20260421T112941
CREATED:20220310T171738Z
LAST-MODIFIED:20220405T220009Z
UID:10002739-1651881600-1651967999@poblenouurbandistrict.com
SUMMARY:[:ca]Poblenou Open Day[:es]Poblenou Open Day[:]
DESCRIPTION:El pròxim 7 de maig celebrem el Poblenou Open Day\, una jornada on la comunitat creativa del Poblenou Urban District obre espais oferint una programació variada\, en la qual es convida al públic a descobrir l’oferta del districte cultural i creatiu de Barcelona.
URL:https://poblenouurbandistrict.com/ca/agenda/poblenou-open-day/
LOCATION:Poblenou Urban District\, Pujades 99\, bxs.\, Barcelona\, Catalunya\, España
CATEGORIES:Curs,Exposició,Gastronomia,Música,Taller,Teatre,Xerrada
ATTACH;FMTTYPE=image/jpeg:https://media.poblenouurbandistrict.com/2022/03/25045127/open-day.jpg
ORGANIZER;CN="Poblenou Urban District":MAILTO:info@poblenouurbandistrict.com
END:VEVENT
BEGIN:VEVENT
DTSTART;VALUE=DATE:20220507
DTEND;VALUE=DATE:20220508
DTSTAMP:20260421T112941
CREATED:20220412T083525Z
LAST-MODIFIED:20220412T083525Z
UID:10002775-1651881600-1651967999@poblenouurbandistrict.com
SUMMARY:Festival: OFFF Barcelona
DESCRIPTION:Del 5 al 7 de maig\, el Disseny Hub Barcelona acollirà una nova edició de l’OFFF Barcelona\, el festival de referència en l’àmbit de la creativitat i el disseny.
URL:https://poblenouurbandistrict.com/ca/agenda/festival-offf-barcelona/2022-05-07/
LOCATION:Disseny Hub\, Pl. de les Glòries Catalanes 37\, Barcelona\, Catalunya\, 08018\, España
CATEGORIES:Exposició,Taller,Xerrada
ATTACH;FMTTYPE=image/jpeg:https://media.poblenouurbandistrict.com/2022/04/25050307/pud-agenda-3.jpg
ORGANIZER;CN="Disseny Hub":MAILTO:dissenyhub@bcn.cat
END:VEVENT
BEGIN:VEVENT
DTSTART;TZID=Europe/Madrid:20220508T121500
DTEND;TZID=Europe/Madrid:20220508T130000
DTSTAMP:20260421T112941
CREATED:20220428T151723Z
LAST-MODIFIED:20220428T151723Z
UID:10003284-1652012100-1652014800@poblenouurbandistrict.com
SUMMARY:[:ca]Taller per a famílies: Els colors del metall[:es]Taller para familias: Los colores del metal[:en]Workshop for families: The colors of metal[:]
DESCRIPTION:En aquest taller es treballarà la música del concert “Els colors del metall” i es lliuraran materials amb informació del concert\, un resum del taller i suggeriments per a continuar gaudint de la música conjuntament a casa.
URL:https://poblenouurbandistrict.com/ca/agenda/taller-per-a-families-els-colors-del-metall/
LOCATION:L’Auditori\, Carrer de Lepant\, 150\, Barcelona\, 08013\, Espanya
CATEGORIES:Taller
ATTACH;FMTTYPE=image/jpeg:https://media.poblenouurbandistrict.com/2022/04/25050835/screenshot-2022-04-28-at-171648.jpg
END:VEVENT
BEGIN:VEVENT
DTSTART;TZID=Europe/Madrid:20220512T180000
DTEND;TZID=Europe/Madrid:20220512T193000
DTSTAMP:20260421T112941
CREATED:20220427T164300Z
LAST-MODIFIED:20220427T164351Z
UID:10003264-1652378400-1652383800@poblenouurbandistrict.com
SUMMARY:[:ca]Taller creatiu d'escriptura de poemes[:es]Taller creativo de escritura de poemas[:en]Creative Poem Writing Workshop[:]
DESCRIPTION:En aquestes sessions aprendràs a entrar en contacte amb la teva veu poètica\, a reconèixer-la\, a donar-li l’espai i el temps que necessita per poder enfortir-se\, fluir i manifestar la seva naturalesa. El taller serà essencialment pràctic i els textos es posaran en comú amb tots els assistents. \nCal inscripció prèvia a la biblioteca. Durada: 4 sessions d’1 hora 30 minuts
URL:https://poblenouurbandistrict.com/ca/agenda/taller-creatiu-descriptura-de-poemes/2022-05-12/
LOCATION:Disseny Hub\, Pl. de les Glòries Catalanes 37\, Barcelona\, Catalunya\, 08018\, España
CATEGORIES:Taller
ATTACH;FMTTYPE=image/jpeg:https://media.poblenouurbandistrict.com/2022/04/25050753/screenshot-2022-04-27-at-184223.jpg
ORGANIZER;CN="Disseny Hub":MAILTO:dissenyhub@bcn.cat
END:VEVENT
BEGIN:VEVENT
DTSTART;TZID=Europe/Madrid:20220513T190000
DTEND;TZID=Europe/Madrid:20220513T213000
DTSTAMP:20260421T112941
CREATED:20220411T104417Z
LAST-MODIFIED:20220411T104417Z
UID:10002759-1652468400-1652477400@poblenouurbandistrict.com
SUMMARY:[:ca]Taller: Postres vegans[:es]Taller: Postres veganos[:en]Workshop: Vegan Desserts[:]
DESCRIPTION:El xef napolità Natale Russo de Espai Granada ensenyarà receptes veganes de postres que sorprendran tant pel seu sabor com els seus ingredients d’origen vegetal.
URL:https://poblenouurbandistrict.com/ca/agenda/taller-postres-vegans/
LOCATION:Espai Granada\, Carrer de la Ciutat de Granada 28B\, Barcelona\, Barcelona\, 08005\, España
CATEGORIES:Gastronomia,Taller
ATTACH;FMTTYPE=image/jpeg:https://media.poblenouurbandistrict.com/2022/04/25050300/screenshot-2022-04-11-at-124347.jpg
END:VEVENT
BEGIN:VEVENT
DTSTART;TZID=Europe/Madrid:20220515T110000
DTEND;TZID=Europe/Madrid:20220515T180000
DTSTAMP:20260421T112941
CREATED:20220411T104657Z
LAST-MODIFIED:20220517T163046Z
UID:10002760-1652612400-1652637600@poblenouurbandistrict.com
SUMMARY:[:ca]Brunch Setè Cel[:es]Brunch Séptimo Cielo[:en]Brunch Séptimo Cielo[:]
DESCRIPTION:Espai Granada presenta Setè Cel\, un autèntic Homemade Brunch amb les millors vistes de la ciutat en un espai segur i a l’aire lliure.
URL:https://poblenouurbandistrict.com/ca/agenda/brunch-sete-cel-2/2022-05-15/
LOCATION:Espai Granada\, Carrer de la Ciutat de Granada 28B\, Barcelona\, Barcelona\, 08005\, España
CATEGORIES:Gastronomia,Taller
ATTACH;FMTTYPE=image/jpeg:https://media.poblenouurbandistrict.com/2021/09/25041804/flyer-brunch-openday-2020-espaigranada-00-1.jpg
END:VEVENT
BEGIN:VEVENT
DTSTART;TZID=Europe/Madrid:20220519T180000
DTEND;TZID=Europe/Madrid:20220519T193000
DTSTAMP:20260421T112941
CREATED:20220427T164300Z
LAST-MODIFIED:20220427T164351Z
UID:10003265-1652983200-1652988600@poblenouurbandistrict.com
SUMMARY:[:ca]Taller creatiu d'escriptura de poemes[:es]Taller creativo de escritura de poemas[:en]Creative Poem Writing Workshop[:]
DESCRIPTION:En aquestes sessions aprendràs a entrar en contacte amb la teva veu poètica\, a reconèixer-la\, a donar-li l’espai i el temps que necessita per poder enfortir-se\, fluir i manifestar la seva naturalesa. El taller serà essencialment pràctic i els textos es posaran en comú amb tots els assistents. \nCal inscripció prèvia a la biblioteca. Durada: 4 sessions d’1 hora 30 minuts
URL:https://poblenouurbandistrict.com/ca/agenda/taller-creatiu-descriptura-de-poemes/2022-05-19/
LOCATION:Disseny Hub\, Pl. de les Glòries Catalanes 37\, Barcelona\, Catalunya\, 08018\, España
CATEGORIES:Taller
ATTACH;FMTTYPE=image/jpeg:https://media.poblenouurbandistrict.com/2022/04/25050753/screenshot-2022-04-27-at-184223.jpg
ORGANIZER;CN="Disseny Hub":MAILTO:dissenyhub@bcn.cat
END:VEVENT
BEGIN:VEVENT
DTSTART;TZID=Europe/Madrid:20220521T103000
DTEND;TZID=Europe/Madrid:20220521T133000
DTSTAMP:20260421T112941
CREATED:20220408T140321Z
LAST-MODIFIED:20220408T140321Z
UID:10003146-1653129000-1653139800@poblenouurbandistrict.com
SUMMARY:[:ca]Taller: Acceleració Creativa[:es]Taller: Aceleración Creativa[:en]Workshop: Creative Acceleration[:]
DESCRIPTION:En aquest taller\, s’aprendrà a treure-li el rendiment més gran possible al procés creatiu i a fer servir eines creatives amb què construir grans idees i tècniques per aprofitar el temps al màxim. \nHorari del curs\nDivendres de 16\,30 a 19\,30 h. i dissabte de 10\,30 a 13\,30 h
URL:https://poblenouurbandistrict.com/ca/agenda/taller-acceleracio-creativa/2022-05-21/
LOCATION:Barcelona School of Creativity\, Carrer Pallars\, 65\, Nau 4\, Barcelona\, Catalunya\, 08018\, España
CATEGORIES:Taller
ATTACH;FMTTYPE=image/png:https://poblenouurbandistrict.com/wp-content/uploads/2022/03/pud-agenda-1.jpg
ORGANIZER;CN="Barcelona School of Creativity":MAILTO:hola@barcelonaschoolofcreativity.com
END:VEVENT
BEGIN:VEVENT
DTSTART;TZID=Europe/Madrid:20220524T170000
DTEND;TZID=Europe/Madrid:20220524T200000
DTSTAMP:20260421T112941
CREATED:20220519T154450Z
LAST-MODIFIED:20220519T154450Z
UID:10003550-1653411600-1653422400@poblenouurbandistrict.com
SUMMARY:[:ca]Tallers: Damos la corriente[:es]Talleres: Damos la corriente[:en]Workshops: Damos la corriente[:]
DESCRIPTION:Demos la corriente són una sèrie de tallers entorn de la cura d’equips electroacústics i les maneres d’obtenir d’ells el millor rendiment possible. Està pensat per a residents i sòcies de La Escocesa pero està obert a qualsevol persona interessada. Aquí aprendreu a utilitzar l’equipament sonor de la fàbrica\, a muntar sets d’efectes\, a fabricar micròfons de contacte\, realitzar enregistraments de camp i familiaritzar-te amb els rudiments bàsics de la postproducció d’àudio.
URL:https://poblenouurbandistrict.com/ca/agenda/tallers-damos-la-corriente/2022-05-24/
LOCATION:La Escocesa\, C. de Pere IV\, 345\, Barcelona\, Barcelona\, 08020\, Espanya
CATEGORIES:Curs,Música,Taller
ATTACH;FMTTYPE=image/jpeg:https://media.poblenouurbandistrict.com/2022/05/25051839/et-communicator-cropped-by-mattingly23-cc-by30.jpg
END:VEVENT
BEGIN:VEVENT
DTSTART;TZID=Europe/Madrid:20220526T183000
DTEND;TZID=Europe/Madrid:20220526T203000
DTSTAMP:20260421T112941
CREATED:20220523T150035Z
LAST-MODIFIED:20220523T150035Z
UID:10003140-1653589800-1653597000@poblenouurbandistrict.com
SUMMARY:[:ca]Type Thursday: Lletres que expliquen històries[:es]Type Thursday: Letras que explican historias[:en]Type Thursday: Letters that tell stories[:]
DESCRIPTION:Torna Type Thursday\, el gran esdeveniment tipogràfic de Barcelona. La trobada tindrà lloc el dijous 26 de maig a partir de les 18.30 en BAU. \nAquesta edició es basarà de nou en una Type Crit\, un espai de crítica constructiva i participativa de projectes en curs que impliquen el disseny de lletres o l’ús de tipografia.
URL:https://poblenouurbandistrict.com/ca/agenda/type-thursday-lletres-que-expliquen-histories/
LOCATION:BAU\, Carrer de Pujades\, 118\, Barcelona\, Barcelona\, 08005\, Espanya
CATEGORIES:Taller,Xerrada
ATTACH;FMTTYPE=image/jpeg:https://media.poblenouurbandistrict.com/2022/05/25051937/screenshot-2022-05-23-at-170008.jpg
END:VEVENT
BEGIN:VEVENT
DTSTART;TZID=Europe/Madrid:20220527T163000
DTEND;TZID=Europe/Madrid:20220527T193000
DTSTAMP:20260421T112941
CREATED:20220506T110828Z
LAST-MODIFIED:20220506T110828Z
UID:10003395-1653669000-1653679800@poblenouurbandistrict.com
SUMMARY:[:ca]Taller: Acceleració Creativa[:es]Taller: Aceleración Creativa[:en]Workshop: Creative Acceleration[:]
DESCRIPTION:Aquest és un taller en el qual aprendrem a treure-li el rendiment més gran possible al nostre procés creatiu. Aprendrem a usar eines creatives amb les quals construir grans idees i tècniques per a aprofitar el temps al màxim.
URL:https://poblenouurbandistrict.com/ca/agenda/taller-acceleracio-creativa-2/2022-05-27/
LOCATION:Barcelona School of Creativity\, Carrer Pallars\, 65\, Nau 4\, Barcelona\, Catalunya\, 08018\, España
CATEGORIES:Taller
ATTACH;FMTTYPE=image/jpeg:https://media.poblenouurbandistrict.com/2022/05/25051242/screenshot-2022-05-06-at-130705.jpg
ORGANIZER;CN="Barcelona School of Creativity":MAILTO:hola@barcelonaschoolofcreativity.com
END:VEVENT
BEGIN:VEVENT
DTSTART;TZID=Europe/Madrid:20220527T190000
DTEND;TZID=Europe/Madrid:20220527T220000
DTSTAMP:20260421T112941
CREATED:20220411T105405Z
LAST-MODIFIED:20220411T105405Z
UID:10002764-1653678000-1653688800@poblenouurbandistrict.com
SUMMARY:[:ca]Taller: Cuina coreana[:es]Taller: Cocina coreana[:en]Workshop: Korean cuisine[:]
DESCRIPTION:Taller en Espai Granada: La xef Mayela Armes\, amb gran experiència en la cuina coreana\, ens introdueix en la gastronomia i ens mostra tècniques de cocció.
URL:https://poblenouurbandistrict.com/ca/agenda/taller-cuina-coreana/
LOCATION:Espai Granada\, Carrer de la Ciutat de Granada 28B\, Barcelona\, Barcelona\, 08005\, España
CATEGORIES:Gastronomia,Taller
ATTACH;FMTTYPE=image/jpeg:https://media.poblenouurbandistrict.com/2022/04/25050302/screenshot-2022-04-11-at-125102.jpg
END:VEVENT
BEGIN:VEVENT
DTSTART;TZID=Europe/Madrid:20220528T103000
DTEND;TZID=Europe/Madrid:20220528T133000
DTSTAMP:20260421T112941
CREATED:20220506T110828Z
LAST-MODIFIED:20220506T110828Z
UID:10003396-1653733800-1653744600@poblenouurbandistrict.com
SUMMARY:[:ca]Taller: Acceleració Creativa[:es]Taller: Aceleración Creativa[:en]Workshop: Creative Acceleration[:]
DESCRIPTION:Aquest és un taller en el qual aprendrem a treure-li el rendiment més gran possible al nostre procés creatiu. Aprendrem a usar eines creatives amb les quals construir grans idees i tècniques per a aprofitar el temps al màxim.
URL:https://poblenouurbandistrict.com/ca/agenda/taller-acceleracio-creativa-2/2022-05-28/
LOCATION:Barcelona School of Creativity\, Carrer Pallars\, 65\, Nau 4\, Barcelona\, Catalunya\, 08018\, España
CATEGORIES:Taller
ATTACH;FMTTYPE=image/jpeg:https://media.poblenouurbandistrict.com/2022/05/25051242/screenshot-2022-05-06-at-130705.jpg
ORGANIZER;CN="Barcelona School of Creativity":MAILTO:hola@barcelonaschoolofcreativity.com
END:VEVENT
BEGIN:VEVENT
DTSTART;TZID=Europe/Madrid:20220530T150000
DTEND;TZID=Europe/Madrid:20220530T170000
DTSTAMP:20260421T112941
CREATED:20220506T105904Z
LAST-MODIFIED:20220506T105904Z
UID:10003390-1653922800-1653930000@poblenouurbandistrict.com
SUMMARY:[:ca]Taller: Disseny de "portfolio"[:es]Taller: Diseño de porfolio[:en]Workshop: Portfolio Design[:]
DESCRIPTION:Si vols treballar com a creatiu o. creativa\, tu no ets tu. Tu ets el que has fet\, la qual cosa pots fer\, les teves idees\, les teves campanyes\, les teves imatges o els teus textos. Tu ets el teu book. \nEn aquest workshop aprendràs a dominar WIX\, una de les plataformes de disseny de porfolios més habituals. Aprendràs de plugins\, ginys\, cookies\, etiquetes\, SEO\, SEM i més.
URL:https://poblenouurbandistrict.com/ca/agenda/taller-disseny-de-portfolio/2022-05-30/
LOCATION:Barcelona School of Creativity\, Carrer Pallars\, 65\, Nau 4\, Barcelona\, Catalunya\, 08018\, España
CATEGORIES:Taller
ATTACH;FMTTYPE=image/jpeg:https://media.poblenouurbandistrict.com/2022/05/25051241/screenshot-2022-05-06-at-125827.jpg
ORGANIZER;CN="Barcelona School of Creativity":MAILTO:hola@barcelonaschoolofcreativity.com
END:VEVENT
BEGIN:VEVENT
DTSTART;TZID=Europe/Madrid:20220531T150000
DTEND;TZID=Europe/Madrid:20220531T170000
DTSTAMP:20260421T112941
CREATED:20220506T105904Z
LAST-MODIFIED:20220506T105904Z
UID:10003391-1654009200-1654016400@poblenouurbandistrict.com
SUMMARY:[:ca]Taller: Disseny de "portfolio"[:es]Taller: Diseño de porfolio[:en]Workshop: Portfolio Design[:]
DESCRIPTION:Si vols treballar com a creatiu o. creativa\, tu no ets tu. Tu ets el que has fet\, la qual cosa pots fer\, les teves idees\, les teves campanyes\, les teves imatges o els teus textos. Tu ets el teu book. \nEn aquest workshop aprendràs a dominar WIX\, una de les plataformes de disseny de porfolios més habituals. Aprendràs de plugins\, ginys\, cookies\, etiquetes\, SEO\, SEM i més.
URL:https://poblenouurbandistrict.com/ca/agenda/taller-disseny-de-portfolio/2022-05-31/
LOCATION:Barcelona School of Creativity\, Carrer Pallars\, 65\, Nau 4\, Barcelona\, Catalunya\, 08018\, España
CATEGORIES:Taller
ATTACH;FMTTYPE=image/jpeg:https://media.poblenouurbandistrict.com/2022/05/25051241/screenshot-2022-05-06-at-125827.jpg
ORGANIZER;CN="Barcelona School of Creativity":MAILTO:hola@barcelonaschoolofcreativity.com
END:VEVENT
BEGIN:VEVENT
DTSTART;TZID=Europe/Madrid:20220531T170000
DTEND;TZID=Europe/Madrid:20220531T200000
DTSTAMP:20260421T112941
CREATED:20220519T154450Z
LAST-MODIFIED:20220519T154450Z
UID:10003551-1654016400-1654027200@poblenouurbandistrict.com
SUMMARY:[:ca]Tallers: Damos la corriente[:es]Talleres: Damos la corriente[:en]Workshops: Damos la corriente[:]
DESCRIPTION:Demos la corriente són una sèrie de tallers entorn de la cura d’equips electroacústics i les maneres d’obtenir d’ells el millor rendiment possible. Està pensat per a residents i sòcies de La Escocesa pero està obert a qualsevol persona interessada. Aquí aprendreu a utilitzar l’equipament sonor de la fàbrica\, a muntar sets d’efectes\, a fabricar micròfons de contacte\, realitzar enregistraments de camp i familiaritzar-te amb els rudiments bàsics de la postproducció d’àudio.
URL:https://poblenouurbandistrict.com/ca/agenda/tallers-damos-la-corriente/2022-05-31/
LOCATION:La Escocesa\, C. de Pere IV\, 345\, Barcelona\, Barcelona\, 08020\, Espanya
CATEGORIES:Curs,Música,Taller
ATTACH;FMTTYPE=image/jpeg:https://media.poblenouurbandistrict.com/2022/05/25051839/et-communicator-cropped-by-mattingly23-cc-by30.jpg
END:VEVENT
END:VCALENDAR