BEGIN:VCALENDAR
VERSION:2.0
PRODID:-//Poblenou Urban District - ECPv6.15.20//NONSGML v1.0//EN
CALSCALE:GREGORIAN
METHOD:PUBLISH
X-ORIGINAL-URL:https://poblenouurbandistrict.com/ca
X-WR-CALDESC:Esdeveniments per Poblenou Urban District
REFRESH-INTERVAL;VALUE=DURATION:PT1H
X-Robots-Tag:noindex
X-PUBLISHED-TTL:PT1H
BEGIN:VTIMEZONE
TZID:Europe/Madrid
BEGIN:DAYLIGHT
TZOFFSETFROM:+0100
TZOFFSETTO:+0200
TZNAME:CEST
DTSTART:20220327T010000
END:DAYLIGHT
BEGIN:STANDARD
TZOFFSETFROM:+0200
TZOFFSETTO:+0100
TZNAME:CET
DTSTART:20221030T010000
END:STANDARD
BEGIN:DAYLIGHT
TZOFFSETFROM:+0100
TZOFFSETTO:+0200
TZNAME:CEST
DTSTART:20230326T010000
END:DAYLIGHT
BEGIN:STANDARD
TZOFFSETFROM:+0200
TZOFFSETTO:+0100
TZNAME:CET
DTSTART:20231029T010000
END:STANDARD
BEGIN:DAYLIGHT
TZOFFSETFROM:+0100
TZOFFSETTO:+0200
TZNAME:CEST
DTSTART:20240331T010000
END:DAYLIGHT
BEGIN:STANDARD
TZOFFSETFROM:+0200
TZOFFSETTO:+0100
TZNAME:CET
DTSTART:20241027T010000
END:STANDARD
END:VTIMEZONE
BEGIN:VEVENT
DTSTART;TZID=Europe/Madrid:20230908T173000
DTEND;TZID=Europe/Madrid:20230908T193000
DTSTAMP:20260420T111635
CREATED:20230908T092455Z
LAST-MODIFIED:20230908T144523Z
UID:10006638-1694194200-1694201400@poblenouurbandistrict.com
SUMMARY:[:ca]Workshop - Tècnica del retrat expressionista[:es]Workshop - Técnica del retrato expresionista[:]
DESCRIPTION:
URL:https://poblenouurbandistrict.com/ca/agenda/workshop-tecnica-del-retrat-expressionista/
LOCATION:artesi\, Pujades\, 172\, Barcelona\, Catalunya\, 08005\, Espanya
CATEGORIES:Art,Taller
END:VEVENT
BEGIN:VEVENT
DTSTART;TZID=Europe/Madrid:20230915T170000
DTEND;TZID=Europe/Madrid:20230915T200000
DTSTAMP:20260420T111635
CREATED:20230913T105601Z
LAST-MODIFIED:20230913T143528Z
UID:10006664-1694797200-1694808000@poblenouurbandistrict.com
SUMMARY:[:ca]Tallers La Escocesa[:es]Talleres La Escocesa[:]
DESCRIPTION:
URL:https://poblenouurbandistrict.com/ca/agenda/tallers-la-escocesa/
LOCATION:La Escocesa\, C. de Pere IV\, 345\, Barcelona\, Barcelona\, 08020\, Espanya
CATEGORIES:Taller
END:VEVENT
BEGIN:VEVENT
DTSTART;TZID=Europe/Madrid:20230916T110000
DTEND;TZID=Europe/Madrid:20230916T140000
DTSTAMP:20260420T111635
CREATED:20230913T105735Z
LAST-MODIFIED:20230913T143459Z
UID:10006665-1694862000-1694872800@poblenouurbandistrict.com
SUMMARY:[:ca]Tallers La Escocesa[:es]Talleres La Escocesa[:]
DESCRIPTION:
URL:https://poblenouurbandistrict.com/ca/agenda/tallers-la-escocesa-2/2023-09-16/1/
LOCATION:La Escocesa\, C. de Pere IV\, 345\, Barcelona\, Barcelona\, 08020\, Espanya
CATEGORIES:Taller
END:VEVENT
BEGIN:VEVENT
DTSTART;TZID=Europe/Madrid:20230916T170000
DTEND;TZID=Europe/Madrid:20230916T200000
DTSTAMP:20260420T111635
CREATED:20230913T105735Z
LAST-MODIFIED:20230913T143459Z
UID:10006666-1694883600-1694894400@poblenouurbandistrict.com
SUMMARY:[:ca]Tallers La Escocesa[:es]Talleres La Escocesa[:]
DESCRIPTION:
URL:https://poblenouurbandistrict.com/ca/agenda/tallers-la-escocesa-2/2023-09-16/2/
LOCATION:La Escocesa\, C. de Pere IV\, 345\, Barcelona\, Barcelona\, 08020\, Espanya
CATEGORIES:Taller
END:VEVENT
BEGIN:VEVENT
DTSTART;TZID=Europe/Madrid:20230917T110000
DTEND;TZID=Europe/Madrid:20230917T140000
DTSTAMP:20260420T111635
CREATED:20230913T105847Z
LAST-MODIFIED:20230913T143334Z
UID:10006667-1694948400-1694959200@poblenouurbandistrict.com
SUMMARY:[:ca]Tallers La Escocesa[:es]Tallers La Escocesa[:]
DESCRIPTION:
URL:https://poblenouurbandistrict.com/ca/agenda/tallers-la-escocesa-3/
LOCATION:La Escocesa\, C. de Pere IV\, 345\, Barcelona\, Barcelona\, 08020\, Espanya
CATEGORIES:Taller
END:VEVENT
BEGIN:VEVENT
DTSTART;TZID=Europe/Madrid:20230922T190000
DTEND;TZID=Europe/Madrid:20230922T210000
DTSTAMP:20260420T111635
CREATED:20230920T100157Z
LAST-MODIFIED:20230920T100157Z
UID:10006703-1695409200-1695416400@poblenouurbandistrict.com
SUMMARY:[:ca]Club de ceràmica i vi[:es]Club de cerámica y vino[:]
DESCRIPTION:
URL:https://poblenouurbandistrict.com/ca/agenda/club-de-ceramica-i-vi/
LOCATION:Camping\, Carmen Amaya 18\, Barcelona\, Barcelona\, 08005\, Espanya
CATEGORIES:Art,Taller
END:VEVENT
END:VCALENDAR