BEGIN:VCALENDAR
VERSION:2.0
PRODID:-//Poblenou Urban District - ECPv6.15.20//NONSGML v1.0//EN
CALSCALE:GREGORIAN
METHOD:PUBLISH
X-WR-CALNAME:Poblenou Urban District
X-ORIGINAL-URL:https://poblenouurbandistrict.com/ca
X-WR-CALDESC:Esdeveniments per Poblenou Urban District
REFRESH-INTERVAL;VALUE=DURATION:PT1H
X-Robots-Tag:noindex
X-PUBLISHED-TTL:PT1H
BEGIN:VTIMEZONE
TZID:Europe/Madrid
BEGIN:DAYLIGHT
TZOFFSETFROM:+0100
TZOFFSETTO:+0200
TZNAME:CEST
DTSTART:20210328T010000
END:DAYLIGHT
BEGIN:STANDARD
TZOFFSETFROM:+0200
TZOFFSETTO:+0100
TZNAME:CET
DTSTART:20211031T010000
END:STANDARD
BEGIN:DAYLIGHT
TZOFFSETFROM:+0100
TZOFFSETTO:+0200
TZNAME:CEST
DTSTART:20220327T010000
END:DAYLIGHT
BEGIN:STANDARD
TZOFFSETFROM:+0200
TZOFFSETTO:+0100
TZNAME:CET
DTSTART:20221030T010000
END:STANDARD
BEGIN:DAYLIGHT
TZOFFSETFROM:+0100
TZOFFSETTO:+0200
TZNAME:CEST
DTSTART:20230326T010000
END:DAYLIGHT
BEGIN:STANDARD
TZOFFSETFROM:+0200
TZOFFSETTO:+0100
TZNAME:CET
DTSTART:20231029T010000
END:STANDARD
END:VTIMEZONE
BEGIN:VEVENT
DTSTART;TZID=Europe/Madrid:20220411T090000
DTEND;TZID=Europe/Madrid:20220411T170000
DTSTAMP:20260421T151033
CREATED:20220325T125458Z
LAST-MODIFIED:20220404T095258Z
UID:10002705-1649667600-1649696400@poblenouurbandistrict.com
SUMMARY:[:ca]Tallers: Casal de Pasqua Food Design[:es]Talleres: Casal de Pascua Food Design[:en]Workshops: Easter Food Design[:]
DESCRIPTION:Durant la setmana de Pasqua\, l’Espai Granada durà a terme un casal de menjar per cuinar amb els nens i les nenes d’una manera lúdica i participativa\, aquest any sobre el Food Design. \n11 d’abril: Workshop Food Art \n12 d’abril: Workshop de Cookie Box \n13 d’abril: FOOD GIMKANA
URL:https://poblenouurbandistrict.com/ca/agenda/tallers-casal-de-pasqua-food-design/2022-04-11/
LOCATION:Espai Granada\, Carrer de la Ciutat de Granada 28B\, Barcelona\, Barcelona\, 08005\, España
CATEGORIES:Gastronomia,Taller
ATTACH;FMTTYPE=image/jpeg:https://media.poblenouurbandistrict.com/2022/03/25045835/screenshot-2022-03-25-at-135318.jpg
END:VEVENT
END:VCALENDAR