BEGIN:VCALENDAR
VERSION:2.0
PRODID:-//Poblenou Urban District - ECPv6.15.20//NONSGML v1.0//EN
CALSCALE:GREGORIAN
METHOD:PUBLISH
X-ORIGINAL-URL:https://poblenouurbandistrict.com/ca
X-WR-CALDESC:Esdeveniments per Poblenou Urban District
REFRESH-INTERVAL;VALUE=DURATION:PT1H
X-Robots-Tag:noindex
X-PUBLISHED-TTL:PT1H
BEGIN:VTIMEZONE
TZID:Europe/Madrid
BEGIN:DAYLIGHT
TZOFFSETFROM:+0100
TZOFFSETTO:+0200
TZNAME:CEST
DTSTART:20210328T010000
END:DAYLIGHT
BEGIN:STANDARD
TZOFFSETFROM:+0200
TZOFFSETTO:+0100
TZNAME:CET
DTSTART:20211031T010000
END:STANDARD
BEGIN:DAYLIGHT
TZOFFSETFROM:+0100
TZOFFSETTO:+0200
TZNAME:CEST
DTSTART:20220327T010000
END:DAYLIGHT
BEGIN:STANDARD
TZOFFSETFROM:+0200
TZOFFSETTO:+0100
TZNAME:CET
DTSTART:20221030T010000
END:STANDARD
BEGIN:DAYLIGHT
TZOFFSETFROM:+0100
TZOFFSETTO:+0200
TZNAME:CEST
DTSTART:20230326T010000
END:DAYLIGHT
BEGIN:STANDARD
TZOFFSETFROM:+0200
TZOFFSETTO:+0100
TZNAME:CET
DTSTART:20231029T010000
END:STANDARD
END:VTIMEZONE
BEGIN:VEVENT
DTSTART;VALUE=DATE:20220419
DTEND;VALUE=DATE:20220420
DTSTAMP:20260421T153452
CREATED:20220412T085129Z
LAST-MODIFIED:20220412T085129Z
UID:10003153-1650326400-1650412799@poblenouurbandistrict.com
SUMMARY:[:ca]Xerrada: Diàlegs de Sant Jordi[:es]Charla: Diálogos de Sant Jordi[:en]Talk: Sant Jordi Dialogues[:]
DESCRIPTION:Biblioteques de Barcelona celebrarà Sant Jordi uns dies abans amb un espai de trobada entre escriptors i lectors. Es tracta dels Diàlegs de Sant Jordi\, que enguany tindrà lloc el 19 i el 21 d’abril al Disseny Hub Barcelona.
URL:https://poblenouurbandistrict.com/ca/agenda/xerrada-dialegs-de-sant-jordi/2022-04-19/
LOCATION:Disseny Hub\, Pl. de les Glòries Catalanes 37\, Barcelona\, Catalunya\, 08018\, España
CATEGORIES:Taller,Xerrada
ATTACH;FMTTYPE=image/jpeg:https://media.poblenouurbandistrict.com/2022/04/25050310/pud-agenda-4.jpg
ORGANIZER;CN="Disseny Hub":MAILTO:dissenyhub@bcn.cat
END:VEVENT
BEGIN:VEVENT
DTSTART;TZID=Europe/Madrid:20220419T193000
DTEND;TZID=Europe/Madrid:20220419T220000
DTSTAMP:20260421T153452
CREATED:20220321T125511Z
LAST-MODIFIED:20220321T125511Z
UID:10002838-1650396600-1650405600@poblenouurbandistrict.com
SUMMARY:[:ca]Taller: Entrenament Creatiu[:es]Taller: Entrenamiento Creativo[:]
DESCRIPTION:L’entrenament creatiu és un procés\, deu setmanes en les quals la inspiració\, la motivació i les teves passions troben el seu espai natural a partir d’una metodologia de treball per a explorar-les a fons i potenciar-les al màxim. \nComença el 19 d’abril. \nLes trobades (10 en total) seran els dimarts de 19:30 a 22 h.
URL:https://poblenouurbandistrict.com/ca/agenda/taller-entrenament-creatiu/
LOCATION:Stay Hungry Stay Foolish\, Gran Via de les Corts Catalanes\, 757\, Barcelona\, 08013
CATEGORIES:Curs,Taller
ATTACH;FMTTYPE=image/jpeg:https://media.poblenouurbandistrict.com/2022/03/25045600/274175573-1044075299474344-152694560662716411-n.jpg
END:VEVENT
END:VCALENDAR