BEGIN:VCALENDAR
VERSION:2.0
PRODID:-//Poblenou Urban District - ECPv6.15.20//NONSGML v1.0//EN
CALSCALE:GREGORIAN
METHOD:PUBLISH
X-WR-CALNAME:Poblenou Urban District
X-ORIGINAL-URL:https://poblenouurbandistrict.com/ca
X-WR-CALDESC:Esdeveniments per Poblenou Urban District
REFRESH-INTERVAL;VALUE=DURATION:PT1H
X-Robots-Tag:noindex
X-PUBLISHED-TTL:PT1H
BEGIN:VTIMEZONE
TZID:Europe/Madrid
BEGIN:DAYLIGHT
TZOFFSETFROM:+0100
TZOFFSETTO:+0200
TZNAME:CEST
DTSTART:20210328T010000
END:DAYLIGHT
BEGIN:STANDARD
TZOFFSETFROM:+0200
TZOFFSETTO:+0100
TZNAME:CET
DTSTART:20211031T010000
END:STANDARD
BEGIN:DAYLIGHT
TZOFFSETFROM:+0100
TZOFFSETTO:+0200
TZNAME:CEST
DTSTART:20220327T010000
END:DAYLIGHT
BEGIN:STANDARD
TZOFFSETFROM:+0200
TZOFFSETTO:+0100
TZNAME:CET
DTSTART:20221030T010000
END:STANDARD
BEGIN:DAYLIGHT
TZOFFSETFROM:+0100
TZOFFSETTO:+0200
TZNAME:CEST
DTSTART:20230326T010000
END:DAYLIGHT
BEGIN:STANDARD
TZOFFSETFROM:+0200
TZOFFSETTO:+0100
TZNAME:CET
DTSTART:20231029T010000
END:STANDARD
END:VTIMEZONE
BEGIN:VEVENT
DTSTART;TZID=Europe/Madrid:20220513T190000
DTEND;TZID=Europe/Madrid:20220513T213000
DTSTAMP:20260421T131441
CREATED:20220411T104417Z
LAST-MODIFIED:20220411T104417Z
UID:10002759-1652468400-1652477400@poblenouurbandistrict.com
SUMMARY:[:ca]Taller: Postres vegans[:es]Taller: Postres veganos[:en]Workshop: Vegan Desserts[:]
DESCRIPTION:El xef napolità Natale Russo de Espai Granada ensenyarà receptes veganes de postres que sorprendran tant pel seu sabor com els seus ingredients d’origen vegetal.
URL:https://poblenouurbandistrict.com/ca/agenda/taller-postres-vegans/
LOCATION:Espai Granada\, Carrer de la Ciutat de Granada 28B\, Barcelona\, Barcelona\, 08005\, España
CATEGORIES:Gastronomia,Taller
ATTACH;FMTTYPE=image/jpeg:https://media.poblenouurbandistrict.com/2022/04/25050300/screenshot-2022-04-11-at-124347.jpg
END:VEVENT
END:VCALENDAR