BEGIN:VCALENDAR
VERSION:2.0
PRODID:-//Poblenou Urban District - ECPv6.15.20//NONSGML v1.0//EN
CALSCALE:GREGORIAN
METHOD:PUBLISH
X-ORIGINAL-URL:https://poblenouurbandistrict.com/ca
X-WR-CALDESC:Esdeveniments per Poblenou Urban District
REFRESH-INTERVAL;VALUE=DURATION:PT1H
X-Robots-Tag:noindex
X-PUBLISHED-TTL:PT1H
BEGIN:VTIMEZONE
TZID:Europe/Madrid
BEGIN:DAYLIGHT
TZOFFSETFROM:+0100
TZOFFSETTO:+0200
TZNAME:CEST
DTSTART:20210328T010000
END:DAYLIGHT
BEGIN:STANDARD
TZOFFSETFROM:+0200
TZOFFSETTO:+0100
TZNAME:CET
DTSTART:20211031T010000
END:STANDARD
BEGIN:DAYLIGHT
TZOFFSETFROM:+0100
TZOFFSETTO:+0200
TZNAME:CEST
DTSTART:20220327T010000
END:DAYLIGHT
BEGIN:STANDARD
TZOFFSETFROM:+0200
TZOFFSETTO:+0100
TZNAME:CET
DTSTART:20221030T010000
END:STANDARD
BEGIN:DAYLIGHT
TZOFFSETFROM:+0100
TZOFFSETTO:+0200
TZNAME:CEST
DTSTART:20230326T010000
END:DAYLIGHT
BEGIN:STANDARD
TZOFFSETFROM:+0200
TZOFFSETTO:+0100
TZNAME:CET
DTSTART:20231029T010000
END:STANDARD
END:VTIMEZONE
BEGIN:VEVENT
DTSTART;TZID=Europe/Madrid:20220521T103000
DTEND;TZID=Europe/Madrid:20220521T133000
DTSTAMP:20260421T131504
CREATED:20220408T140321Z
LAST-MODIFIED:20220408T140321Z
UID:10003146-1653129000-1653139800@poblenouurbandistrict.com
SUMMARY:[:ca]Taller: Acceleració Creativa[:es]Taller: Aceleración Creativa[:en]Workshop: Creative Acceleration[:]
DESCRIPTION:En aquest taller\, s’aprendrà a treure-li el rendiment més gran possible al procés creatiu i a fer servir eines creatives amb què construir grans idees i tècniques per aprofitar el temps al màxim. \nHorari del curs\nDivendres de 16\,30 a 19\,30 h. i dissabte de 10\,30 a 13\,30 h
URL:https://poblenouurbandistrict.com/ca/agenda/taller-acceleracio-creativa/2022-05-21/
LOCATION:Barcelona School of Creativity\, Carrer Pallars\, 65\, Nau 4\, Barcelona\, Catalunya\, 08018\, España
CATEGORIES:Taller
ATTACH;FMTTYPE=image/png:https://poblenouurbandistrict.com/wp-content/uploads/2022/03/pud-agenda-1.jpg
ORGANIZER;CN="Barcelona School of Creativity":MAILTO:hola@barcelonaschoolofcreativity.com
END:VEVENT
END:VCALENDAR