BEGIN:VCALENDAR
VERSION:2.0
PRODID:-//Poblenou Urban District - ECPv6.15.20//NONSGML v1.0//EN
CALSCALE:GREGORIAN
METHOD:PUBLISH
X-ORIGINAL-URL:https://poblenouurbandistrict.com/ca
X-WR-CALDESC:Esdeveniments per Poblenou Urban District
REFRESH-INTERVAL;VALUE=DURATION:PT1H
X-Robots-Tag:noindex
X-PUBLISHED-TTL:PT1H
BEGIN:VTIMEZONE
TZID:Europe/Madrid
BEGIN:DAYLIGHT
TZOFFSETFROM:+0100
TZOFFSETTO:+0200
TZNAME:CEST
DTSTART:20210328T010000
END:DAYLIGHT
BEGIN:STANDARD
TZOFFSETFROM:+0200
TZOFFSETTO:+0100
TZNAME:CET
DTSTART:20211031T010000
END:STANDARD
BEGIN:DAYLIGHT
TZOFFSETFROM:+0100
TZOFFSETTO:+0200
TZNAME:CEST
DTSTART:20220327T010000
END:DAYLIGHT
BEGIN:STANDARD
TZOFFSETFROM:+0200
TZOFFSETTO:+0100
TZNAME:CET
DTSTART:20221030T010000
END:STANDARD
BEGIN:DAYLIGHT
TZOFFSETFROM:+0100
TZOFFSETTO:+0200
TZNAME:CEST
DTSTART:20230326T010000
END:DAYLIGHT
BEGIN:STANDARD
TZOFFSETFROM:+0200
TZOFFSETTO:+0100
TZNAME:CET
DTSTART:20231029T010000
END:STANDARD
END:VTIMEZONE
BEGIN:VEVENT
DTSTART;TZID=Europe/Madrid:20220526T183000
DTEND;TZID=Europe/Madrid:20220526T203000
DTSTAMP:20260421T131548
CREATED:20220523T150035Z
LAST-MODIFIED:20220523T150035Z
UID:10003140-1653589800-1653597000@poblenouurbandistrict.com
SUMMARY:[:ca]Type Thursday: Lletres que expliquen històries[:es]Type Thursday: Letras que explican historias[:en]Type Thursday: Letters that tell stories[:]
DESCRIPTION:Torna Type Thursday\, el gran esdeveniment tipogràfic de Barcelona. La trobada tindrà lloc el dijous 26 de maig a partir de les 18.30 en BAU. \nAquesta edició es basarà de nou en una Type Crit\, un espai de crítica constructiva i participativa de projectes en curs que impliquen el disseny de lletres o l’ús de tipografia.
URL:https://poblenouurbandistrict.com/ca/agenda/type-thursday-lletres-que-expliquen-histories/
LOCATION:BAU\, Carrer de Pujades\, 118\, Barcelona\, Barcelona\, 08005\, Espanya
CATEGORIES:Taller,Xerrada
ATTACH;FMTTYPE=image/jpeg:https://media.poblenouurbandistrict.com/2022/05/25051937/screenshot-2022-05-23-at-170008.jpg
END:VEVENT
END:VCALENDAR