BEGIN:VCALENDAR
VERSION:2.0
PRODID:-//Poblenou Urban District - ECPv6.15.20//NONSGML v1.0//EN
CALSCALE:GREGORIAN
METHOD:PUBLISH
X-WR-CALNAME:Poblenou Urban District
X-ORIGINAL-URL:https://poblenouurbandistrict.com/ca
X-WR-CALDESC:Esdeveniments per Poblenou Urban District
REFRESH-INTERVAL;VALUE=DURATION:PT1H
X-Robots-Tag:noindex
X-PUBLISHED-TTL:PT1H
BEGIN:VTIMEZONE
TZID:Europe/Madrid
BEGIN:DAYLIGHT
TZOFFSETFROM:+0100
TZOFFSETTO:+0200
TZNAME:CEST
DTSTART:20210328T010000
END:DAYLIGHT
BEGIN:STANDARD
TZOFFSETFROM:+0200
TZOFFSETTO:+0100
TZNAME:CET
DTSTART:20211031T010000
END:STANDARD
BEGIN:DAYLIGHT
TZOFFSETFROM:+0100
TZOFFSETTO:+0200
TZNAME:CEST
DTSTART:20220327T010000
END:DAYLIGHT
BEGIN:STANDARD
TZOFFSETFROM:+0200
TZOFFSETTO:+0100
TZNAME:CET
DTSTART:20221030T010000
END:STANDARD
BEGIN:DAYLIGHT
TZOFFSETFROM:+0100
TZOFFSETTO:+0200
TZNAME:CEST
DTSTART:20230326T010000
END:DAYLIGHT
BEGIN:STANDARD
TZOFFSETFROM:+0200
TZOFFSETTO:+0100
TZNAME:CET
DTSTART:20231029T010000
END:STANDARD
END:VTIMEZONE
BEGIN:VEVENT
DTSTART;TZID=Europe/Madrid:20220604T113000
DTEND;TZID=Europe/Madrid:20220604T130000
DTSTAMP:20260421T112148
CREATED:20220531T151601Z
LAST-MODIFIED:20220531T151601Z
UID:10003267-1654342200-1654347600@poblenouurbandistrict.com
SUMMARY:[:ca]Taller: Quadern de viatge[:es]Taller: Cuaderno de viaje[:en]Workshop: Traveler's book[:]
DESCRIPTION:A partir de l’observació i el comentari d’algunes obres de la col·lecció del museu\, viatjarem a través de l’espai i del temps i\, tot seguit\, elaborarem el nostre propi quadern de viatge tot inspirant-nos en allò que hem viscut durant el recorregut a les sales. Veniu a descobrir artistes catalans contemporanis\, a viatjar a través de les seves obres i a aprendre noves tècniques artístiques!
URL:https://poblenouurbandistrict.com/ca/agenda/taller-quadern-de-viatge/
LOCATION:Museu Can Framis\, carrer de Roc Boronat\, 116\, 126\, Barcelona\, Barcelona\, 08018\, Espanya
CATEGORIES:Art,Taller
ATTACH;FMTTYPE=image/jpeg:https://media.poblenouurbandistrict.com/2022/05/25052530/screenshot-2022-05-31-at-171536.jpg
END:VEVENT
BEGIN:VEVENT
DTSTART;TZID=Europe/Madrid:20220604T113000
DTEND;TZID=Europe/Madrid:20220604T140000
DTSTAMP:20260421T112148
CREATED:20220517T162144Z
LAST-MODIFIED:20220517T162144Z
UID:10003064-1654342200-1654351200@poblenouurbandistrict.com
SUMMARY:[:ca]Taller: Pastisseria per a adolescents[:es]Taller: Pastelería para adolescentes[:en]Workshop: Baking for teenagers[:]
DESCRIPTION:En aquest taller es vol compartir amb els adolescents receptes de dolços fàcils i saludables per a introduir-los en el meravellós món de les postres.
URL:https://poblenouurbandistrict.com/ca/agenda/taller-pastisseria-per-a-adolescents/
LOCATION:Espai Granada\, Carrer de la Ciutat de Granada 28B\, Barcelona\, Barcelona\, 08005\, España
CATEGORIES:Gastronomia,Taller
ATTACH;FMTTYPE=image/jpeg:https://media.poblenouurbandistrict.com/2022/05/25051707/screenshot-2022-05-17-at-182117.jpg
END:VEVENT
END:VCALENDAR