BEGIN:VCALENDAR
VERSION:2.0
PRODID:-//Poblenou Urban District - ECPv6.15.20//NONSGML v1.0//EN
CALSCALE:GREGORIAN
METHOD:PUBLISH
X-ORIGINAL-URL:https://poblenouurbandistrict.com/ca
X-WR-CALDESC:Esdeveniments per Poblenou Urban District
REFRESH-INTERVAL;VALUE=DURATION:PT1H
X-Robots-Tag:noindex
X-PUBLISHED-TTL:PT1H
BEGIN:VTIMEZONE
TZID:Europe/Madrid
BEGIN:DAYLIGHT
TZOFFSETFROM:+0100
TZOFFSETTO:+0200
TZNAME:CEST
DTSTART:20210328T010000
END:DAYLIGHT
BEGIN:STANDARD
TZOFFSETFROM:+0200
TZOFFSETTO:+0100
TZNAME:CET
DTSTART:20211031T010000
END:STANDARD
BEGIN:DAYLIGHT
TZOFFSETFROM:+0100
TZOFFSETTO:+0200
TZNAME:CEST
DTSTART:20220327T010000
END:DAYLIGHT
BEGIN:STANDARD
TZOFFSETFROM:+0200
TZOFFSETTO:+0100
TZNAME:CET
DTSTART:20221030T010000
END:STANDARD
BEGIN:DAYLIGHT
TZOFFSETFROM:+0100
TZOFFSETTO:+0200
TZNAME:CEST
DTSTART:20230326T010000
END:DAYLIGHT
BEGIN:STANDARD
TZOFFSETFROM:+0200
TZOFFSETTO:+0100
TZNAME:CET
DTSTART:20231029T010000
END:STANDARD
END:VTIMEZONE
BEGIN:VEVENT
DTSTART;TZID=Europe/Madrid:20220609T170000
DTEND;TZID=Europe/Madrid:20220609T210000
DTSTAMP:20260421T113131
CREATED:20220530T105731Z
LAST-MODIFIED:20220530T105731Z
UID:10003704-1654794000-1654808400@poblenouurbandistrict.com
SUMMARY:[:ca]Taller: Vas néixer nua\, la resta és drag[:es]Taller: Naciste desnuda\, lo demás es drag[:en]Workshop: You were born naked\, the rest is drag[:]
DESCRIPTION:Taller pràctic de disseny col·lectiu i anàrquic per a la producció d’un vestit multicos\, multigènere i de construcció modular\, orientat a persones sexe-dissidents o de la comunitat LGTBI+.
URL:https://poblenouurbandistrict.com/ca/agenda/taller-vas-neixer-nua-la-resta-es-drag/2022-06-09/
LOCATION:La Escocesa\, C. de Pere IV\, 345\, Barcelona\, Barcelona\, 08020\, Espanya
CATEGORIES:Taller
ATTACH;FMTTYPE=image/jpeg:https://media.poblenouurbandistrict.com/2022/05/25052459/screenshot-2022-05-30-at-125649.jpg
END:VEVENT
END:VCALENDAR