BEGIN:VCALENDAR
VERSION:2.0
PRODID:-//Poblenou Urban District - ECPv6.15.20//NONSGML v1.0//EN
CALSCALE:GREGORIAN
METHOD:PUBLISH
X-ORIGINAL-URL:https://poblenouurbandistrict.com/ca
X-WR-CALDESC:Esdeveniments per Poblenou Urban District
REFRESH-INTERVAL;VALUE=DURATION:PT1H
X-Robots-Tag:noindex
X-PUBLISHED-TTL:PT1H
BEGIN:VTIMEZONE
TZID:Europe/Madrid
BEGIN:DAYLIGHT
TZOFFSETFROM:+0100
TZOFFSETTO:+0200
TZNAME:CEST
DTSTART:20210328T010000
END:DAYLIGHT
BEGIN:STANDARD
TZOFFSETFROM:+0200
TZOFFSETTO:+0100
TZNAME:CET
DTSTART:20211031T010000
END:STANDARD
BEGIN:DAYLIGHT
TZOFFSETFROM:+0100
TZOFFSETTO:+0200
TZNAME:CEST
DTSTART:20220327T010000
END:DAYLIGHT
BEGIN:STANDARD
TZOFFSETFROM:+0200
TZOFFSETTO:+0100
TZNAME:CET
DTSTART:20221030T010000
END:STANDARD
BEGIN:DAYLIGHT
TZOFFSETFROM:+0100
TZOFFSETTO:+0200
TZNAME:CEST
DTSTART:20230326T010000
END:DAYLIGHT
BEGIN:STANDARD
TZOFFSETFROM:+0200
TZOFFSETTO:+0100
TZNAME:CET
DTSTART:20231029T010000
END:STANDARD
END:VTIMEZONE
BEGIN:VEVENT
DTSTART;TZID=Europe/Madrid:20220611T103000
DTEND;TZID=Europe/Madrid:20220611T133000
DTSTAMP:20260421T114600
CREATED:20220307T105455Z
LAST-MODIFIED:20220530T100104Z
UID:10002634-1654943400-1654954200@poblenouurbandistrict.com
SUMMARY:[:ca]Taller: Unlocking Creativity[:es]Taller: Unlocking Creativity[:]
DESCRIPTION:Unlocking Creativity és un workshop per a professionals de la creativitat que volen augmentar la seva capacitat creativa i disminuir el bloqueig i/o estrès que comporta la professió.
URL:https://poblenouurbandistrict.com/ca/agenda/taller-unlocking-creativity/2022-06-11/
LOCATION:Barcelona School of Creativity\, Carrer Pallars\, 65\, Nau 4\, Barcelona\, Catalunya\, 08018\, España
CATEGORIES:Taller
ATTACH;FMTTYPE=image/png:https://poblenouurbandistrict.com/wp-content/uploads/2022/03/pud-agenda-2.jpg
ORGANIZER;CN="Barcelona School of Creativity":MAILTO:hola@barcelonaschoolofcreativity.com
END:VEVENT
BEGIN:VEVENT
DTSTART;TZID=Europe/Madrid:20220611T103000
DTEND;TZID=Europe/Madrid:20220611T133000
DTSTAMP:20260421T114601
CREATED:20220408T141118Z
LAST-MODIFIED:20220517T155506Z
UID:10003150-1654943400-1654954200@poblenouurbandistrict.com
SUMMARY:[:ca]Taller: Creativitat Inside Out[:es]Taller: Creatividad Inside Out[:en]Workshop: Creativity Inside Out[:]
DESCRIPTION:En aquest taller aprendràs altres maneres d’explorar i crear connectant amb els teus propis recursos per afrontar els teus projectes creatius\, siguin guions\, il·lustracions o anuncis publicitaris. Està dirigit a professionals de la creativitat que vulguin augmentar la seva capacitat creativa i disminuir el bloqueig i/o estrès que comporta la professió.
URL:https://poblenouurbandistrict.com/ca/agenda/taller-creativitat-inside-out/2022-06-11/
LOCATION:Barcelona School of Creativity\, Carrer Pallars\, 65\, Nau 4\, Barcelona\, Catalunya\, 08018\, España
CATEGORIES:Taller
ATTACH;FMTTYPE=image/png:https://poblenouurbandistrict.com/wp-content/uploads/2022/03/pud-agenda-2.jpg
ORGANIZER;CN="Barcelona School of Creativity":MAILTO:hola@barcelonaschoolofcreativity.com
END:VEVENT
END:VCALENDAR