BEGIN:VCALENDAR
VERSION:2.0
PRODID:-//Poblenou Urban District - ECPv6.15.20//NONSGML v1.0//EN
CALSCALE:GREGORIAN
METHOD:PUBLISH
X-WR-CALNAME:Poblenou Urban District
X-ORIGINAL-URL:https://poblenouurbandistrict.com/ca
X-WR-CALDESC:Esdeveniments per Poblenou Urban District
REFRESH-INTERVAL;VALUE=DURATION:PT1H
X-Robots-Tag:noindex
X-PUBLISHED-TTL:PT1H
BEGIN:VTIMEZONE
TZID:Europe/Madrid
BEGIN:DAYLIGHT
TZOFFSETFROM:+0100
TZOFFSETTO:+0200
TZNAME:CEST
DTSTART:20210328T010000
END:DAYLIGHT
BEGIN:STANDARD
TZOFFSETFROM:+0200
TZOFFSETTO:+0100
TZNAME:CET
DTSTART:20211031T010000
END:STANDARD
BEGIN:DAYLIGHT
TZOFFSETFROM:+0100
TZOFFSETTO:+0200
TZNAME:CEST
DTSTART:20220327T010000
END:DAYLIGHT
BEGIN:STANDARD
TZOFFSETFROM:+0200
TZOFFSETTO:+0100
TZNAME:CET
DTSTART:20221030T010000
END:STANDARD
BEGIN:DAYLIGHT
TZOFFSETFROM:+0100
TZOFFSETTO:+0200
TZNAME:CEST
DTSTART:20230326T010000
END:DAYLIGHT
BEGIN:STANDARD
TZOFFSETFROM:+0200
TZOFFSETTO:+0100
TZNAME:CET
DTSTART:20231029T010000
END:STANDARD
END:VTIMEZONE
BEGIN:VEVENT
DTSTART;TZID=Europe/Madrid:20220627T090000
DTEND;TZID=Europe/Madrid:20220701T170000
DTSTAMP:20260421T093031
CREATED:20220517T162921Z
LAST-MODIFIED:20220627T083938Z
UID:10003071-1656320400-1656694800@poblenouurbandistrict.com
SUMMARY:[:ca]Taller: Casal de Cuina Mediterrànea[:es]Taller: Casal de Cocina Mediterránea[:en]Workshop: Mediterranean Cuisine[:]
DESCRIPTION:Coneixerem la dieta mediterrània\, una dieta basada en el consum de l’oli d’oliva\, els llegums\, els vegetals. \nDel 27 de juny al 1 de juliol. Dilluns a divendres de 9.00 a 17.00.
URL:https://poblenouurbandistrict.com/ca/agenda/taller-casal-de-cuina-mediterranea/
LOCATION:Espai Granada\, Carrer de la Ciutat de Granada 28B\, Barcelona\, Barcelona\, 08005\, España
CATEGORIES:Curs,Gastronomia,Taller
ATTACH;FMTTYPE=image/jpeg:https://media.poblenouurbandistrict.com/2022/05/25051710/screenshot-2022-05-17-at-182857.jpg
END:VEVENT
BEGIN:VEVENT
DTSTART;TZID=Europe/Madrid:20220627T090000
DTEND;TZID=Europe/Madrid:20220701T170000
DTSTAMP:20260421T093031
CREATED:20220607T115909Z
LAST-MODIFIED:20220627T082712Z
UID:10003877-1656320400-1656694800@poblenouurbandistrict.com
SUMMARY:[:ca]Casal: La cuina és amor[:es]Casal: La Cocina es Amor[:en]Summer camp: The kitchen is love[:]
DESCRIPTION:Compartirem taules i ganivets amb els amics de Health Warriors que ens ensenyaran la seva preciosa labor i fins i tot\, un dia\, els ajudarem a cuinar per a més de 500 persones sense recursos. Tota aquesta labor la farem juntament amb jocs i diversió per a passar una setmana fantàstica. \nCasal per nens de 6 a 13 anys. \nDurada: del 27 de juny a l’1 de juliol (de dilluns a divendres de 9:00h fins a 17:00h)
URL:https://poblenouurbandistrict.com/ca/agenda/casal-la-cuina-es-amor/
LOCATION:Roc35\, Passatge Masoliver 8\, Barcelona\, Catalunya\, 08005\, España
CATEGORIES:Gastronomia,Taller
ATTACH;FMTTYPE=image/jpeg:https://media.poblenouurbandistrict.com/2022/06/25052713/screenshot-2022-06-07-at-135843.jpg
END:VEVENT
BEGIN:VEVENT
DTSTART;TZID=Europe/Madrid:20220701T120000
DTEND;TZID=Europe/Madrid:20220702T130000
DTSTAMP:20260421T093031
CREATED:20220627T114422Z
LAST-MODIFIED:20220627T115302Z
UID:10003874-1656676800-1656766800@poblenouurbandistrict.com
SUMMARY:Maker Faire Barcelona 2022
DESCRIPTION:Maker Faire Barcelona torna al Fab Lab Barcelona! Els dies 1 i 2 de juliol la sisena edició de Maker Faire Barcelona reuneix de nou Makers locals i internacionals! Aquesta edició pretén explorar la influència de la cultura Maker sobre com i on aprenen les persones: des de l’educació formal i informal fins a les experiències d’aprenentatge al llarg de la vida. Maker Faire Barcelona 2022 destaca la necessitat de repensar i activar un model econòmic més local i diversificat\, basat en el coneixement i en línia amb els objectius del Barcelona Green Deal\, i l’Agenda 2030.
URL:https://poblenouurbandistrict.com/ca/agenda/maker-faire-barcelona-2022/
LOCATION:Fab Lab Barcelona\, Carrer de Pujades 102\, Barcelona\, 08002\, España
CATEGORIES:Diseño,Taller,Xerrada
ATTACH;FMTTYPE=image/jpeg:https://media.poblenouurbandistrict.com/2022/06/25053201/capture-decran-2022-06-27-a-134323.jpg
END:VEVENT
END:VCALENDAR