BEGIN:VCALENDAR
VERSION:2.0
PRODID:-//Poblenou Urban District - ECPv6.15.20//NONSGML v1.0//EN
CALSCALE:GREGORIAN
METHOD:PUBLISH
X-ORIGINAL-URL:https://poblenouurbandistrict.com/ca
X-WR-CALDESC:Esdeveniments per Poblenou Urban District
REFRESH-INTERVAL;VALUE=DURATION:PT1H
X-Robots-Tag:noindex
X-PUBLISHED-TTL:PT1H
BEGIN:VTIMEZONE
TZID:Europe/Madrid
BEGIN:DAYLIGHT
TZOFFSETFROM:+0100
TZOFFSETTO:+0200
TZNAME:CEST
DTSTART:20210328T010000
END:DAYLIGHT
BEGIN:STANDARD
TZOFFSETFROM:+0200
TZOFFSETTO:+0100
TZNAME:CET
DTSTART:20211031T010000
END:STANDARD
BEGIN:DAYLIGHT
TZOFFSETFROM:+0100
TZOFFSETTO:+0200
TZNAME:CEST
DTSTART:20220327T010000
END:DAYLIGHT
BEGIN:STANDARD
TZOFFSETFROM:+0200
TZOFFSETTO:+0100
TZNAME:CET
DTSTART:20221030T010000
END:STANDARD
BEGIN:DAYLIGHT
TZOFFSETFROM:+0100
TZOFFSETTO:+0200
TZNAME:CEST
DTSTART:20230326T010000
END:DAYLIGHT
BEGIN:STANDARD
TZOFFSETFROM:+0200
TZOFFSETTO:+0100
TZNAME:CET
DTSTART:20231029T010000
END:STANDARD
END:VTIMEZONE
BEGIN:VEVENT
DTSTART;TZID=Europe/Madrid:20220711T090000
DTEND;TZID=Europe/Madrid:20220715T140000
DTSTAMP:20260421T092315
CREATED:20220607T094211Z
LAST-MODIFIED:20220627T090548Z
UID:10003859-1657530000-1657893600@poblenouurbandistrict.com
SUMMARY:[:ca]Casal d'estiu Xup-Xup (7-12 anys)[:es]Casal de verano Xup-Xup (7-12 años)[:en]Summer camp Xup-Xup (7-12 years)[:]
DESCRIPTION:El Museu del Disseny de Barcelona i Tantàgora organitzen el XUP-XUP\, una proposta creativa estiuenca adreçada a nens i nenes de 7 a 12 anys durant dues setmanes de juliol. Cada setmana (de dilluns a divendres)\, es faran activitats al voltant de temes com la literatura\, la música\, l’art o el disseny. \nSetmana del 4 al 8 de juliol\nIL·LUSTRANT…\nAmb Cristina Picazo \nSetmana de l’11 al 15 de juliol\nDISSENY BAND\nAmb Azuzena Moya \nCada setmana (de dilluns a divendres) de 9 a 14 h.
URL:https://poblenouurbandistrict.com/ca/agenda/casal-destiu-xup-xup-7-12-anys/2022-07-11/
LOCATION:Museu del Disseny\, Plaça de les Glòries Catalanes\,\, 37\, Barcelona\, Barcelona\, 08018\, Espanya
CATEGORIES:Art,Curs,Música,Taller
ATTACH;FMTTYPE=image/jpeg:https://media.poblenouurbandistrict.com/2022/06/25052701/screenshot-2022-06-07-at-114135.jpg
END:VEVENT
BEGIN:VEVENT
DTSTART;TZID=Europe/Madrid:20220711T090000
DTEND;TZID=Europe/Madrid:20220715T170000
DTSTAMP:20260421T092315
CREATED:20220526T150956Z
LAST-MODIFIED:20220627T092555Z
UID:10003652-1657530000-1657904400@poblenouurbandistrict.com
SUMMARY:[:ca]Taller: Casal de Cuina Zero Waste (Zero residus)[:es]Taller: Casal de Cocina Zero Waste (Cero residuos)[:en]Workshop: Zero Waste Cooking[:]
DESCRIPTION:Parlarem sobre els aliments de temporada\, visitarem els mercats i aprendrem a cuinar plats deliciosament sans. Farem una sortida a l’hort urbà de Barcelona per a conèixer els cultius ecològics. \nDe l’11 al 15 de juliol\, de dilluns a divendres de 9:00 a 17:00.
URL:https://poblenouurbandistrict.com/ca/agenda/taller-casal-de-cuina-zero-waste-zero-residus/
LOCATION:Espai Granada\, Carrer de la Ciutat de Granada 28B\, Barcelona\, Barcelona\, 08005\, España
CATEGORIES:Curs,Gastronomia,Taller
ATTACH;FMTTYPE=image/jpeg:https://media.poblenouurbandistrict.com/2022/05/25052156/screenshot-2022-05-26-at-170924.jpg
END:VEVENT
BEGIN:VEVENT
DTSTART;TZID=Europe/Madrid:20220711T090000
DTEND;TZID=Europe/Madrid:20220715T170000
DTSTAMP:20260421T092315
CREATED:20220609T110629Z
LAST-MODIFIED:20220627T093102Z
UID:10003338-1657530000-1657904400@poblenouurbandistrict.com
SUMMARY:[:ca]Casal: Cuina de Temporada[:es]Casal: Cocina de Temporada[:en]Summer camp: Seasonal cuisine[:]
DESCRIPTION:Aprendrem a entendre la importància dels cicles naturals dels aliments i diferenciar els productes de cada temporada. Es treballaran diverses coccions i emplatats divertits per gaudir de tots els sabors i beneficis que una cuina atenta i conscient ens pot oferir. \nDe l’11 al 15 de juliol\, de dilluns a divendres de 9:00 a 17:00.
URL:https://poblenouurbandistrict.com/ca/agenda/casal-cuina-de-temporada/
LOCATION:Roc35\, Passatge Masoliver 8\, Barcelona\, Catalunya\, 08005\, España
CATEGORIES:Curs,Gastronomia,Taller
ATTACH;FMTTYPE=image/jpeg:https://media.poblenouurbandistrict.com/2022/06/25052911/screenshot-2022-06-09-at-130549.jpg
END:VEVENT
BEGIN:VEVENT
DTSTART;TZID=Europe/Madrid:20220711T100000
DTEND;TZID=Europe/Madrid:20220715T140000
DTSTAMP:20260421T092315
CREATED:20220607T094850Z
LAST-MODIFIED:20220627T091913Z
UID:10003862-1657533600-1657893600@poblenouurbandistrict.com
SUMMARY:[:ca]Taller d'estiu ZIP per a joves (13-17 anys)[:es]Taller de verano ZIP para jóvenes (13-17 años)[:en]Summer workshop ZIP for teenagers (13-17 years)[:]
DESCRIPTION:El Museu del Disseny de Barcelona i Tantàgora organitzen el ZIP\, una setmana de creació adreçada a nois i noies de 13 a 17 anys. Una setmana dedicada al “Radio Station” i una altra a les “Ciutats invisibles”. \nSetmana del 4 al 8 de juliol\nRÀDIO STATION\nAmb Clara Darder \nSetmana de l’11 del 15 juliol\nCIUTATS INVISIBLES\nAmb Noemí Batllori \nDilluns a divendres de 10 a 14 h
URL:https://poblenouurbandistrict.com/ca/agenda/taller-destiu-zip-per-a-joves-13-17-anys/2022-07-11/
LOCATION:Museu del Disseny\, Plaça de les Glòries Catalanes\,\, 37\, Barcelona\, Barcelona\, 08018\, Espanya
CATEGORIES:Art,Audiovisual,Curs,Música,Taller
ATTACH;FMTTYPE=image/jpeg:https://media.poblenouurbandistrict.com/2022/06/25052703/screenshot-2022-06-07-at-114654.jpg
END:VEVENT
END:VCALENDAR