BEGIN:VCALENDAR
VERSION:2.0
PRODID:-//Poblenou Urban District - ECPv6.15.20//NONSGML v1.0//EN
CALSCALE:GREGORIAN
METHOD:PUBLISH
X-WR-CALNAME:Poblenou Urban District
X-ORIGINAL-URL:https://poblenouurbandistrict.com/ca
X-WR-CALDESC:Esdeveniments per Poblenou Urban District
REFRESH-INTERVAL;VALUE=DURATION:PT1H
X-Robots-Tag:noindex
X-PUBLISHED-TTL:PT1H
BEGIN:VTIMEZONE
TZID:Europe/Madrid
BEGIN:DAYLIGHT
TZOFFSETFROM:+0100
TZOFFSETTO:+0200
TZNAME:CEST
DTSTART:20210328T010000
END:DAYLIGHT
BEGIN:STANDARD
TZOFFSETFROM:+0200
TZOFFSETTO:+0100
TZNAME:CET
DTSTART:20211031T010000
END:STANDARD
BEGIN:DAYLIGHT
TZOFFSETFROM:+0100
TZOFFSETTO:+0200
TZNAME:CEST
DTSTART:20220327T010000
END:DAYLIGHT
BEGIN:STANDARD
TZOFFSETFROM:+0200
TZOFFSETTO:+0100
TZNAME:CET
DTSTART:20221030T010000
END:STANDARD
BEGIN:DAYLIGHT
TZOFFSETFROM:+0100
TZOFFSETTO:+0200
TZNAME:CEST
DTSTART:20230326T010000
END:DAYLIGHT
BEGIN:STANDARD
TZOFFSETFROM:+0200
TZOFFSETTO:+0100
TZNAME:CET
DTSTART:20231029T010000
END:STANDARD
END:VTIMEZONE
BEGIN:VEVENT
DTSTART;TZID=Europe/Madrid:20221029T103000
DTEND;TZID=Europe/Madrid:20221029T190000
DTSTAMP:20260421T035702
CREATED:20221019T155934Z
LAST-MODIFIED:20221019T155934Z
UID:10004030-1667039400-1667070000@poblenouurbandistrict.com
SUMMARY:[:ca]Taller Halloween decoració galetes i cupcakes[:es]Taller Halloween decoración galletas y cupcakes[:]
DESCRIPTION:Arriba el dia més terrorífic de l´any!! I amb ell\, Mòmies\, fantasmes\, bruixes… els personatges més característics que us acompanyen en aquest taller de decoració de Halloween! \nQuant al taller \nEspai Granada proposa 4 sessions de tallers en aforament reduït per aprendre a decorar galetes i cupcakes terroríficament delicioses. \nDiferents tècniques de decoració amb glacejat\, fondant\, a més com utilitzar alguns elements decoratius comestibles com perletes\, paper de sucre colors\, etc. \nProposta menú: \nGaletes de Halloween \nCupcakes de Halloween \n  \nDe la mà de la nostra xef repostera ens ensenyarà tots els secrets perquè les vostres galetes i cupcakes siguin els més aterridors i millor decorats. \nNo t’ho perdis\, t’esperem el dissabte 29 a Espai Granada! \nEdat recomanada a partir de 6 anys i més petits acompanyats d’un adult (només paga el nen/a)\, també possibilitat de fer el taller en família amb pares o acompanyants.
URL:https://poblenouurbandistrict.com/ca/agenda/taller-halloween-decoracio-galetes-i-cupcakes/
LOCATION:Espai Granada\, Carrer de la Ciutat de Granada 28B\, Barcelona\, Barcelona\, 08005\, España
CATEGORIES:Gastronomia,Taller
ATTACH;FMTTYPE=image/png:https://poblenouurbandistrict.com/wp-content/uploads/2022/10/espai-granada.jpg
END:VEVENT
END:VCALENDAR