BEGIN:VCALENDAR
VERSION:2.0
PRODID:-//Poblenou Urban District - ECPv6.15.20//NONSGML v1.0//EN
CALSCALE:GREGORIAN
METHOD:PUBLISH
X-ORIGINAL-URL:https://poblenouurbandistrict.com/ca
X-WR-CALDESC:Esdeveniments per Poblenou Urban District
REFRESH-INTERVAL;VALUE=DURATION:PT1H
X-Robots-Tag:noindex
X-PUBLISHED-TTL:PT1H
BEGIN:VTIMEZONE
TZID:Europe/Madrid
BEGIN:DAYLIGHT
TZOFFSETFROM:+0100
TZOFFSETTO:+0200
TZNAME:CEST
DTSTART:20210328T010000
END:DAYLIGHT
BEGIN:STANDARD
TZOFFSETFROM:+0200
TZOFFSETTO:+0100
TZNAME:CET
DTSTART:20211031T010000
END:STANDARD
BEGIN:DAYLIGHT
TZOFFSETFROM:+0100
TZOFFSETTO:+0200
TZNAME:CEST
DTSTART:20220327T010000
END:DAYLIGHT
BEGIN:STANDARD
TZOFFSETFROM:+0200
TZOFFSETTO:+0100
TZNAME:CET
DTSTART:20221030T010000
END:STANDARD
BEGIN:DAYLIGHT
TZOFFSETFROM:+0100
TZOFFSETTO:+0200
TZNAME:CEST
DTSTART:20230326T010000
END:DAYLIGHT
BEGIN:STANDARD
TZOFFSETFROM:+0200
TZOFFSETTO:+0100
TZNAME:CET
DTSTART:20231029T010000
END:STANDARD
END:VTIMEZONE
BEGIN:VEVENT
DTSTART;TZID=Europe/Madrid:20220928T080000
DTEND;TZID=Europe/Madrid:20221002T170000
DTSTAMP:20260422T052201
CREATED:20220905T152750Z
LAST-MODIFIED:20220912T140511Z
UID:10003954-1664352000-1664730000@poblenouurbandistrict.com
SUMMARY:[:ca]Teatre: MDR[:es]Teatro: MDR[:en]Theater: MDR[:]
DESCRIPTION:Millor Espectacle de circ dels Premis de la Crítica 2021 \nMelon\, Mardi i Rossinyol s’enfronten a un atzucac inesperat. La seva naturalesa indòmita i maldestre i la necessitat d’existir els aboquen a una obra improbable\, en què exploren lliurement qualsevol barbaritat. Aquesta experiència hilarant i aterridora traspua una història d’amistat sincera i aspra\, provocada per un sentiment de responsabilitat i de culpa. Un crim improbable\, un judici dubtós i un càstig absurd. Paradoxalment\, potser arribaran a provocar el desig de morir de riure.
URL:https://poblenouurbandistrict.com/ca/agenda/teatre-mdr/2022-09-28/
LOCATION:Teatre Nacional de Catalunya\, Plaça de les Arts\, 1\, Barcelona\, 08013
CATEGORIES:Teatre
ATTACH;FMTTYPE=image/jpeg:https://media.poblenouurbandistrict.com/2022/09/25054007/foto-5-de-lespectacle-mdr-scaled.jpg
END:VEVENT
BEGIN:VEVENT
DTSTART;TZID=Europe/Madrid:20220929T180000
DTEND;TZID=Europe/Madrid:20221002T190000
DTSTAMP:20260422T052201
CREATED:20220905T155125Z
LAST-MODIFIED:20220912T141706Z
UID:10003968-1664474400-1664737200@poblenouurbandistrict.com
SUMMARY:[:ca]Teatre: Assaig sobre la ceguesa[:es]Teatro: Assaig sobre la ceguesa[:en]Theater: Assaig sobre la ceguesa[:]
DESCRIPTION:Una crítica a una societat podrida i profundament egoista \nAl centenari del naixement de José Saramago\, Premi Nobel de Literatura el 1998\, portem a escena un dels seus llibres més coneguts: Assaig sobre la ceguesa. \nUna pandèmia s’estén per tot el món: una plaga de ceguesa inexplicable i incurable. El govern aplica restriccions cada cop més repressives i inútils per intentar frenar el contagi. \nLa manca de recursos i les condicions extremes faran que la gent lluiti per sobreviure però que únicament ho aconsegueixin els més immorals.
URL:https://poblenouurbandistrict.com/ca/agenda/teatre-assaig-sobre-la-ceguesa/
LOCATION:Teatre Nacional de Catalunya\, Plaça de les Arts\, 1\, Barcelona\, 08013
CATEGORIES:Teatre
ATTACH;FMTTYPE=image/jpeg:https://media.poblenouurbandistrict.com/2022/09/25054009/capture-decran-2022-09-05-a-173113.jpg
END:VEVENT
BEGIN:VEVENT
DTSTART;TZID=Europe/Madrid:20220929T193000
DTEND;TZID=Europe/Madrid:20221002T200000
DTSTAMP:20260422T052201
CREATED:20220905T150250Z
LAST-MODIFIED:20220912T142044Z
UID:10003959-1664479800-1664740800@poblenouurbandistrict.com
SUMMARY:[:ca]Teatre: La sort[:es]Teatro: La sort[:en]Theater: La sort[:]
DESCRIPTION:La sort parla de l’experiència dels seus protagonistes\, Juli Disla i Jaume Pérez\, com a família homoparental i interracial. La peripècia emocional i vital del procés d’adopció\, un llarg camí administratiu i judicial amb la finalitat de formar una família. \nLa sort és també un homenatge al seu fill\, que li pugui servir com a Llibre de vida en un futur. \nA través de la seva vivència íntima ens parlen de la diversitat\, de quins són els models de família\, de com vivim les qüestions racials\, de quins són els referents\, l’entorn on es desenvolupen els menors i de com influeix la política a tot això. \nEl procés d’adopció nacional es pot allargar fins a vuit anys i no és definitiu fins que la justícia no dicta una resolució d’adopció. Sovint s?ha abordat l?adopció des del conflicte o el drama. D’una banda\, per les dificultats a què s’havien de sotmetre els adoptadors i\, de l’altra\, per l’entorn de què procedeixen els menors. No es pot obviar que darrere de tota adopció hi ha una situació prèvia d’adversitat\, però és imprescindible evitar posicions estigmatitzadores. Després de l’adopció la majoria de nens se’n surten positivament\, són feliços i fan feliços altres persones. Això no vol dir que els processos d’adopció siguin sempre històries meravelloses. Són històries d’educació i de creixement.
URL:https://poblenouurbandistrict.com/ca/agenda/teatre-la-sort/2022-09-29/
LOCATION:Sala Beckett\, C. de Pere IV\, 228\, 232\, Barcelona\, Barcelona\, 08005
CATEGORIES:Teatre
ATTACH;FMTTYPE=image/jpeg:https://media.poblenouurbandistrict.com/2022/09/25054003/capture-decran-2022-09-05-a-165522.jpg
END:VEVENT
BEGIN:VEVENT
DTSTART;TZID=Europe/Madrid:20221005T180000
DTEND;TZID=Europe/Madrid:20221008T190000
DTSTAMP:20260422T052201
CREATED:20220905T155125Z
LAST-MODIFIED:20220912T141632Z
UID:10003969-1664992800-1665255600@poblenouurbandistrict.com
SUMMARY:[:ca]Teatre: Assaig sobre la ceguesa[:es]Teatro: Assaig sobre la ceguesa[:en]Theater: Assaig sobre la ceguesa[:]
DESCRIPTION:Una crítica a una societat podrida i profundament egoista \nAl centenari del naixement de José Saramago\, Premi Nobel de Literatura el 1998\, portem a escena un dels seus llibres més coneguts: Assaig sobre la ceguesa. \nUna pandèmia s’estén per tot el món: una plaga de ceguesa inexplicable i incurable. El govern aplica restriccions cada cop més repressives i inútils per intentar frenar el contagi. \nLa manca de recursos i les condicions extremes faran que la gent lluiti per sobreviure però que únicament ho aconsegueixin els més immorals.
URL:https://poblenouurbandistrict.com/ca/agenda/teatre-assaig-sobre-la-ceguesa-2022-10-05/2022-10-05/
LOCATION:Teatre Nacional de Catalunya\, Plaça de les Arts\, 1\, Barcelona\, 08013
CATEGORIES:Teatre
ATTACH;FMTTYPE=image/jpeg:https://media.poblenouurbandistrict.com/2022/09/25054009/capture-decran-2022-09-05-a-173113.jpg
END:VEVENT
BEGIN:VEVENT
DTSTART;TZID=Europe/Madrid:20221005T200000
DTEND;TZID=Europe/Madrid:20221009T203000
DTSTAMP:20260422T052201
CREATED:20220905T150601Z
LAST-MODIFIED:20220912T142658Z
UID:10003955-1665000000-1665347400@poblenouurbandistrict.com
SUMMARY:[:ca]Teatre: Viatge d’hivern[:es]Teatro: Viatge d’hivern[:en]Theater: Viatge d’hivern[:]
DESCRIPTION:L’obra Viatge d’hivern\, inspirada en els cicles de les cançons de Winterreise de Franz Schubert\, és un viatge que ens proposa Elfriede Jelinek per les seves experiències\, tant artístiques com íntimes: la sexualitat mediatitzada per internet\, la perversió de l’opinió pública \, el culte a la joventut\, la presència del feixisme latent\, el pas inexorable del temps\, l’amor-odi cap a la seva mare\, la demència i l’abandó del seu pare i l’autocrítica d’ella mateixa com a artista. \nGuardonada amb el Premi Nobel de Literatura l’any 2004\, l’autora ens planteja un treball de recerca on llenguatge\, música i moviment esclaten en escena com un riu desbocat\, pervertint Schubert\, pervertint Jelinek\, arrossegant-nos per “les aigües residuals de les nostres pròpies vides ” tal com ho fa ella\, en una peça amb pinzellades dramàtiques\, molta ironia i certa desesperança.
URL:https://poblenouurbandistrict.com/ca/agenda/teatre-viatge-dhivern/2022-10-05/
LOCATION:Sala Beckett\, C. de Pere IV\, 228\, 232\, Barcelona\, Barcelona\, 08005
CATEGORIES:Teatre
ATTACH;FMTTYPE=image/jpeg:https://media.poblenouurbandistrict.com/2022/09/25054005/capture-decran-2022-09-05-a-170450.jpg
END:VEVENT
BEGIN:VEVENT
DTSTART;TZID=Europe/Madrid:20221006T190000
DTEND;TZID=Europe/Madrid:20221009T200000
DTSTAMP:20260422T052201
CREATED:20220912T144623Z
LAST-MODIFIED:20220912T144736Z
UID:10003976-1665082800-1665345600@poblenouurbandistrict.com
SUMMARY:[:ca]Teatre: Zona inundable[:es]Teatro: Zona inundable[:en]Theater: Zona inundable[:]
DESCRIPTION:Un mosaic de solidaritat\, ecologia i memòria basat en fets reals \nSant Llis\, octubre del 2018. Després de quatre hores de pluja intensa\, un torrent es desborda\, inunda un petit poble de Mallorca i causa onze morts\, diversos ferits i molts danys materials.\nBen aviat es desencadena una onada de reaccions: una explosió de solidaritat sense precedents i una cobertura mediàtica que cada vegada planteja més dubtes. Es podria haver evitat la tragèdia? Van funcionar els protocols d’emergència? Per què es continua edificant als llindars dels torrents?
URL:https://poblenouurbandistrict.com/ca/agenda/teatre-zona-inundable/
LOCATION:Teatre Nacional de Catalunya\, Plaça de les Arts\, 1\, Barcelona\, 08013
CATEGORIES:Teatre
ATTACH;FMTTYPE=image/jpeg:https://media.poblenouurbandistrict.com/2022/09/25054051/capture-decran-2022-09-12-a-164519.jpg
END:VEVENT
BEGIN:VEVENT
DTSTART;TZID=Europe/Madrid:20221006T193000
DTEND;TZID=Europe/Madrid:20221009T200000
DTSTAMP:20260422T052201
CREATED:20220905T150250Z
LAST-MODIFIED:20220912T142044Z
UID:10003960-1665084600-1665345600@poblenouurbandistrict.com
SUMMARY:[:ca]Teatre: La sort[:es]Teatro: La sort[:en]Theater: La sort[:]
DESCRIPTION:La sort parla de l’experiència dels seus protagonistes\, Juli Disla i Jaume Pérez\, com a família homoparental i interracial. La peripècia emocional i vital del procés d’adopció\, un llarg camí administratiu i judicial amb la finalitat de formar una família. \nLa sort és també un homenatge al seu fill\, que li pugui servir com a Llibre de vida en un futur. \nA través de la seva vivència íntima ens parlen de la diversitat\, de quins són els models de família\, de com vivim les qüestions racials\, de quins són els referents\, l’entorn on es desenvolupen els menors i de com influeix la política a tot això. \nEl procés d’adopció nacional es pot allargar fins a vuit anys i no és definitiu fins que la justícia no dicta una resolució d’adopció. Sovint s?ha abordat l?adopció des del conflicte o el drama. D’una banda\, per les dificultats a què s’havien de sotmetre els adoptadors i\, de l’altra\, per l’entorn de què procedeixen els menors. No es pot obviar que darrere de tota adopció hi ha una situació prèvia d’adversitat\, però és imprescindible evitar posicions estigmatitzadores. Després de l’adopció la majoria de nens se’n surten positivament\, són feliços i fan feliços altres persones. Això no vol dir que els processos d’adopció siguin sempre històries meravelloses. Són històries d’educació i de creixement.
URL:https://poblenouurbandistrict.com/ca/agenda/teatre-la-sort/2022-10-06/
LOCATION:Sala Beckett\, C. de Pere IV\, 228\, 232\, Barcelona\, Barcelona\, 08005
CATEGORIES:Teatre
ATTACH;FMTTYPE=image/jpeg:https://media.poblenouurbandistrict.com/2022/09/25054003/capture-decran-2022-09-05-a-165522.jpg
END:VEVENT
BEGIN:VEVENT
DTSTART;TZID=Europe/Madrid:20221012T180000
DTEND;TZID=Europe/Madrid:20221015T190000
DTSTAMP:20260422T052201
CREATED:20220905T155125Z
LAST-MODIFIED:20220912T141632Z
UID:10003970-1665597600-1665860400@poblenouurbandistrict.com
SUMMARY:[:ca]Teatre: Assaig sobre la ceguesa[:es]Teatro: Assaig sobre la ceguesa[:en]Theater: Assaig sobre la ceguesa[:]
DESCRIPTION:Una crítica a una societat podrida i profundament egoista \nAl centenari del naixement de José Saramago\, Premi Nobel de Literatura el 1998\, portem a escena un dels seus llibres més coneguts: Assaig sobre la ceguesa. \nUna pandèmia s’estén per tot el món: una plaga de ceguesa inexplicable i incurable. El govern aplica restriccions cada cop més repressives i inútils per intentar frenar el contagi. \nLa manca de recursos i les condicions extremes faran que la gent lluiti per sobreviure però que únicament ho aconsegueixin els més immorals.
URL:https://poblenouurbandistrict.com/ca/agenda/teatre-assaig-sobre-la-ceguesa-2022-10-05/2022-10-12/
LOCATION:Teatre Nacional de Catalunya\, Plaça de les Arts\, 1\, Barcelona\, 08013
CATEGORIES:Teatre
ATTACH;FMTTYPE=image/jpeg:https://media.poblenouurbandistrict.com/2022/09/25054009/capture-decran-2022-09-05-a-173113.jpg
END:VEVENT
BEGIN:VEVENT
DTSTART;TZID=Europe/Madrid:20221012T190000
DTEND;TZID=Europe/Madrid:20221016T200000
DTSTAMP:20260422T052201
CREATED:20220912T144623Z
LAST-MODIFIED:20220912T144821Z
UID:10003977-1665601200-1665950400@poblenouurbandistrict.com
SUMMARY:[:ca]Teatre: Zona inundable[:es]Teatro: Zona inundable[:en]Theater: Zona inundable[:]
DESCRIPTION:Un mosaic de solidaritat\, ecologia i memòria basat en fets reals \nSant Llis\, octubre del 2018. Després de quatre hores de pluja intensa\, un torrent es desborda\, inunda un petit poble de Mallorca i causa onze morts\, diversos ferits i molts danys materials.\nBen aviat es desencadena una onada de reaccions: una explosió de solidaritat sense precedents i una cobertura mediàtica que cada vegada planteja més dubtes. Es podria haver evitat la tragèdia? Van funcionar els protocols d’emergència? Per què es continua edificant als llindars dels torrents?
URL:https://poblenouurbandistrict.com/ca/agenda/teatre-zona-inundable-2022-10-12/2022-10-12/
LOCATION:Teatre Nacional de Catalunya\, Plaça de les Arts\, 1\, Barcelona\, 08013
CATEGORIES:Teatre
ATTACH;FMTTYPE=image/jpeg:https://media.poblenouurbandistrict.com/2022/09/25054051/capture-decran-2022-09-12-a-164519.jpg
END:VEVENT
BEGIN:VEVENT
DTSTART;TZID=Europe/Madrid:20221012T200000
DTEND;TZID=Europe/Madrid:20221016T203000
DTSTAMP:20260422T052201
CREATED:20220905T150601Z
LAST-MODIFIED:20220912T142658Z
UID:10003956-1665604800-1665952200@poblenouurbandistrict.com
SUMMARY:[:ca]Teatre: Viatge d’hivern[:es]Teatro: Viatge d’hivern[:en]Theater: Viatge d’hivern[:]
DESCRIPTION:L’obra Viatge d’hivern\, inspirada en els cicles de les cançons de Winterreise de Franz Schubert\, és un viatge que ens proposa Elfriede Jelinek per les seves experiències\, tant artístiques com íntimes: la sexualitat mediatitzada per internet\, la perversió de l’opinió pública \, el culte a la joventut\, la presència del feixisme latent\, el pas inexorable del temps\, l’amor-odi cap a la seva mare\, la demència i l’abandó del seu pare i l’autocrítica d’ella mateixa com a artista. \nGuardonada amb el Premi Nobel de Literatura l’any 2004\, l’autora ens planteja un treball de recerca on llenguatge\, música i moviment esclaten en escena com un riu desbocat\, pervertint Schubert\, pervertint Jelinek\, arrossegant-nos per “les aigües residuals de les nostres pròpies vides ” tal com ho fa ella\, en una peça amb pinzellades dramàtiques\, molta ironia i certa desesperança.
URL:https://poblenouurbandistrict.com/ca/agenda/teatre-viatge-dhivern/2022-10-12/
LOCATION:Sala Beckett\, C. de Pere IV\, 228\, 232\, Barcelona\, Barcelona\, 08005
CATEGORIES:Teatre
ATTACH;FMTTYPE=image/jpeg:https://media.poblenouurbandistrict.com/2022/09/25054005/capture-decran-2022-09-05-a-170450.jpg
END:VEVENT
BEGIN:VEVENT
DTSTART;TZID=Europe/Madrid:20221013T193000
DTEND;TZID=Europe/Madrid:20221016T200000
DTSTAMP:20260422T052201
CREATED:20220912T143611Z
LAST-MODIFIED:20220912T143611Z
UID:10003973-1665689400-1665950400@poblenouurbandistrict.com
SUMMARY:[:ca]Teatre: Talaré a los hombres de sobre la faz de la tierra[:es]Teatro: Talaré a los hombres de sobre la faz de la tierra[:en]Theater: Talaré a los hombres de sobre la faz de la tierra[:]
DESCRIPTION:Talaré a los hombres de sobre la faz de la tierra posa en relació la violència emocional i sexual amb la violència sobre el medi ambient\, comparant l’“extractivisme dels recursos de l’inconscient i de la subjectivitat\, el llenguatge\, el desig\, la imaginació\, l’afecte” (Suely Rolnik) amb l’extractivisme de recursos naturals. \nUna preadolescent s’allunya de la seva família en una barbacoa per llegir sota un arbre. Amb aquest acte\, comença un ritu de pas\, i el viacrucis d’una dona millennial\, com a filla menor\, doctoranda i treballadora sexual.  Amb una base autoficcional\, l’obra aborda una educació sexoafectiva fallida i experiències que segueixen a l’ombra del tabú. La vivència personal és transcendida gràcies al diàleg amb corrents que han estat fonamentals per a reactivar el pensament crític en l’actualitat: el feminisme i l’ecologia. Dos grans relats col·lectius i salvífics oposats al pressentiment catastrofista.
URL:https://poblenouurbandistrict.com/ca/agenda/teatre-talare-a-los-hombres-de-sobre-la-faz-de-la-tierra/
LOCATION:Sala Beckett\, C. de Pere IV\, 228\, 232\, Barcelona\, Barcelona\, 08005
CATEGORIES:Teatre
ATTACH;FMTTYPE=image/jpeg:https://media.poblenouurbandistrict.com/2022/09/25054047/capture-decran-2022-09-12-a-163430.jpg
END:VEVENT
BEGIN:VEVENT
DTSTART;TZID=Europe/Madrid:20221014T190000
DTEND;TZID=Europe/Madrid:20221016T200000
DTSTAMP:20260422T052201
CREATED:20220912T145334Z
LAST-MODIFIED:20220912T145449Z
UID:10003981-1665774000-1665950400@poblenouurbandistrict.com
SUMMARY:[:ca]Teatre: Silencio[:es]Teatro: Silencio[:en]Theater: Silencio[:]
DESCRIPTION:Blanca Portillo protagonitza un monòleg potentíssim sobre el poder del silenci \nAmb un vestit d’etiqueta amb el qual no s’acaba de sentir còmode\, el dramaturg està a punt d’ingressar a l’Acadèmia per pronunciar un discurs titulat Silencio. \nHa triat parlar del silenci a la vida i al teatre. També\, viatjar pels silencis teatrals que ressonen en la seva memòria i en el seu cos. \nPerò potser aquest mateix silenci posi en perill el discurs. Potser el més important sigui\, més enllà de les paraules\, escoltar el silenci junts.
URL:https://poblenouurbandistrict.com/ca/agenda/teatre-silencio/
LOCATION:Teatre Nacional de Catalunya\, Plaça de les Arts\, 1\, Barcelona\, 08013
CATEGORIES:Teatre
ATTACH;FMTTYPE=image/jpeg:https://media.poblenouurbandistrict.com/2022/09/25054053/capture-decran-2022-09-12-a-165152.jpg
END:VEVENT
BEGIN:VEVENT
DTSTART;TZID=Europe/Madrid:20221019T180000
DTEND;TZID=Europe/Madrid:20221022T190000
DTSTAMP:20260422T052201
CREATED:20220905T155125Z
LAST-MODIFIED:20220912T141632Z
UID:10003971-1666202400-1666465200@poblenouurbandistrict.com
SUMMARY:[:ca]Teatre: Assaig sobre la ceguesa[:es]Teatro: Assaig sobre la ceguesa[:en]Theater: Assaig sobre la ceguesa[:]
DESCRIPTION:Una crítica a una societat podrida i profundament egoista \nAl centenari del naixement de José Saramago\, Premi Nobel de Literatura el 1998\, portem a escena un dels seus llibres més coneguts: Assaig sobre la ceguesa. \nUna pandèmia s’estén per tot el món: una plaga de ceguesa inexplicable i incurable. El govern aplica restriccions cada cop més repressives i inútils per intentar frenar el contagi. \nLa manca de recursos i les condicions extremes faran que la gent lluiti per sobreviure però que únicament ho aconsegueixin els més immorals.
URL:https://poblenouurbandistrict.com/ca/agenda/teatre-assaig-sobre-la-ceguesa-2022-10-05/2022-10-19/
LOCATION:Teatre Nacional de Catalunya\, Plaça de les Arts\, 1\, Barcelona\, 08013
CATEGORIES:Teatre
ATTACH;FMTTYPE=image/jpeg:https://media.poblenouurbandistrict.com/2022/09/25054009/capture-decran-2022-09-05-a-173113.jpg
END:VEVENT
BEGIN:VEVENT
DTSTART;TZID=Europe/Madrid:20221019T190000
DTEND;TZID=Europe/Madrid:20221023T200000
DTSTAMP:20260422T052201
CREATED:20220912T144623Z
LAST-MODIFIED:20220912T144821Z
UID:10003978-1666206000-1666555200@poblenouurbandistrict.com
SUMMARY:[:ca]Teatre: Zona inundable[:es]Teatro: Zona inundable[:en]Theater: Zona inundable[:]
DESCRIPTION:Un mosaic de solidaritat\, ecologia i memòria basat en fets reals \nSant Llis\, octubre del 2018. Després de quatre hores de pluja intensa\, un torrent es desborda\, inunda un petit poble de Mallorca i causa onze morts\, diversos ferits i molts danys materials.\nBen aviat es desencadena una onada de reaccions: una explosió de solidaritat sense precedents i una cobertura mediàtica que cada vegada planteja més dubtes. Es podria haver evitat la tragèdia? Van funcionar els protocols d’emergència? Per què es continua edificant als llindars dels torrents?
URL:https://poblenouurbandistrict.com/ca/agenda/teatre-zona-inundable-2022-10-12/2022-10-19/
LOCATION:Teatre Nacional de Catalunya\, Plaça de les Arts\, 1\, Barcelona\, 08013
CATEGORIES:Teatre
ATTACH;FMTTYPE=image/jpeg:https://media.poblenouurbandistrict.com/2022/09/25054051/capture-decran-2022-09-12-a-164519.jpg
END:VEVENT
BEGIN:VEVENT
DTSTART;TZID=Europe/Madrid:20221019T190000
DTEND;TZID=Europe/Madrid:20221023T200000
DTSTAMP:20260422T052201
CREATED:20220912T145334Z
LAST-MODIFIED:20220912T145540Z
UID:10003982-1666206000-1666555200@poblenouurbandistrict.com
SUMMARY:[:ca]Teatre: Silencio[:es]Teatro: Silencio[:en]Theater: Silencio[:]
DESCRIPTION:Blanca Portillo protagonitza un monòleg potentíssim sobre el poder del silenci \nAmb un vestit d’etiqueta amb el qual no s’acaba de sentir còmode\, el dramaturg està a punt d’ingressar a l’Acadèmia per pronunciar un discurs titulat Silencio. \nHa triat parlar del silenci a la vida i al teatre. També\, viatjar pels silencis teatrals que ressonen en la seva memòria i en el seu cos. \nPerò potser aquest mateix silenci posi en perill el discurs. Potser el més important sigui\, més enllà de les paraules\, escoltar el silenci junts.
URL:https://poblenouurbandistrict.com/ca/agenda/teatre-silencio-2022-10-19/
LOCATION:Teatre Nacional de Catalunya\, Plaça de les Arts\, 1\, Barcelona\, 08013
CATEGORIES:Teatre
ATTACH;FMTTYPE=image/jpeg:https://media.poblenouurbandistrict.com/2022/09/25054053/capture-decran-2022-09-12-a-165152.jpg
END:VEVENT
BEGIN:VEVENT
DTSTART;TZID=Europe/Madrid:20221019T200000
DTEND;TZID=Europe/Madrid:20221023T203000
DTSTAMP:20260422T052201
CREATED:20220905T150601Z
LAST-MODIFIED:20220912T142658Z
UID:10003957-1666209600-1666557000@poblenouurbandistrict.com
SUMMARY:[:ca]Teatre: Viatge d’hivern[:es]Teatro: Viatge d’hivern[:en]Theater: Viatge d’hivern[:]
DESCRIPTION:L’obra Viatge d’hivern\, inspirada en els cicles de les cançons de Winterreise de Franz Schubert\, és un viatge que ens proposa Elfriede Jelinek per les seves experiències\, tant artístiques com íntimes: la sexualitat mediatitzada per internet\, la perversió de l’opinió pública \, el culte a la joventut\, la presència del feixisme latent\, el pas inexorable del temps\, l’amor-odi cap a la seva mare\, la demència i l’abandó del seu pare i l’autocrítica d’ella mateixa com a artista. \nGuardonada amb el Premi Nobel de Literatura l’any 2004\, l’autora ens planteja un treball de recerca on llenguatge\, música i moviment esclaten en escena com un riu desbocat\, pervertint Schubert\, pervertint Jelinek\, arrossegant-nos per “les aigües residuals de les nostres pròpies vides ” tal com ho fa ella\, en una peça amb pinzellades dramàtiques\, molta ironia i certa desesperança.
URL:https://poblenouurbandistrict.com/ca/agenda/teatre-viatge-dhivern/2022-10-19/
LOCATION:Sala Beckett\, C. de Pere IV\, 228\, 232\, Barcelona\, Barcelona\, 08005
CATEGORIES:Teatre
ATTACH;FMTTYPE=image/jpeg:https://media.poblenouurbandistrict.com/2022/09/25054005/capture-decran-2022-09-05-a-170450.jpg
END:VEVENT
BEGIN:VEVENT
DTSTART;TZID=Europe/Madrid:20221026T180000
DTEND;TZID=Europe/Madrid:20221029T190000
DTSTAMP:20260422T052201
CREATED:20220905T155125Z
LAST-MODIFIED:20220912T141632Z
UID:10003972-1666807200-1667070000@poblenouurbandistrict.com
SUMMARY:[:ca]Teatre: Assaig sobre la ceguesa[:es]Teatro: Assaig sobre la ceguesa[:en]Theater: Assaig sobre la ceguesa[:]
DESCRIPTION:Una crítica a una societat podrida i profundament egoista \nAl centenari del naixement de José Saramago\, Premi Nobel de Literatura el 1998\, portem a escena un dels seus llibres més coneguts: Assaig sobre la ceguesa. \nUna pandèmia s’estén per tot el món: una plaga de ceguesa inexplicable i incurable. El govern aplica restriccions cada cop més repressives i inútils per intentar frenar el contagi. \nLa manca de recursos i les condicions extremes faran que la gent lluiti per sobreviure però que únicament ho aconsegueixin els més immorals.
URL:https://poblenouurbandistrict.com/ca/agenda/teatre-assaig-sobre-la-ceguesa-2022-10-05/2022-10-26/
LOCATION:Teatre Nacional de Catalunya\, Plaça de les Arts\, 1\, Barcelona\, 08013
CATEGORIES:Teatre
ATTACH;FMTTYPE=image/jpeg:https://media.poblenouurbandistrict.com/2022/09/25054009/capture-decran-2022-09-05-a-173113.jpg
END:VEVENT
BEGIN:VEVENT
DTSTART;TZID=Europe/Madrid:20221026T190000
DTEND;TZID=Europe/Madrid:20221030T190000
DTSTAMP:20260422T052201
CREATED:20220912T144623Z
LAST-MODIFIED:20220912T144821Z
UID:10003979-1666810800-1667156400@poblenouurbandistrict.com
SUMMARY:[:ca]Teatre: Zona inundable[:es]Teatro: Zona inundable[:en]Theater: Zona inundable[:]
DESCRIPTION:Un mosaic de solidaritat\, ecologia i memòria basat en fets reals \nSant Llis\, octubre del 2018. Després de quatre hores de pluja intensa\, un torrent es desborda\, inunda un petit poble de Mallorca i causa onze morts\, diversos ferits i molts danys materials.\nBen aviat es desencadena una onada de reaccions: una explosió de solidaritat sense precedents i una cobertura mediàtica que cada vegada planteja més dubtes. Es podria haver evitat la tragèdia? Van funcionar els protocols d’emergència? Per què es continua edificant als llindars dels torrents?
URL:https://poblenouurbandistrict.com/ca/agenda/teatre-zona-inundable-2022-10-12/2022-10-26/
LOCATION:Teatre Nacional de Catalunya\, Plaça de les Arts\, 1\, Barcelona\, 08013
CATEGORIES:Teatre
ATTACH;FMTTYPE=image/jpeg:https://media.poblenouurbandistrict.com/2022/09/25054051/capture-decran-2022-09-12-a-164519.jpg
END:VEVENT
BEGIN:VEVENT
DTSTART;TZID=Europe/Madrid:20221026T200000
DTEND;TZID=Europe/Madrid:20221030T193000
DTSTAMP:20260422T052201
CREATED:20220905T150601Z
LAST-MODIFIED:20220912T142658Z
UID:10003958-1666814400-1667158200@poblenouurbandistrict.com
SUMMARY:[:ca]Teatre: Viatge d’hivern[:es]Teatro: Viatge d’hivern[:en]Theater: Viatge d’hivern[:]
DESCRIPTION:L’obra Viatge d’hivern\, inspirada en els cicles de les cançons de Winterreise de Franz Schubert\, és un viatge que ens proposa Elfriede Jelinek per les seves experiències\, tant artístiques com íntimes: la sexualitat mediatitzada per internet\, la perversió de l’opinió pública \, el culte a la joventut\, la presència del feixisme latent\, el pas inexorable del temps\, l’amor-odi cap a la seva mare\, la demència i l’abandó del seu pare i l’autocrítica d’ella mateixa com a artista. \nGuardonada amb el Premi Nobel de Literatura l’any 2004\, l’autora ens planteja un treball de recerca on llenguatge\, música i moviment esclaten en escena com un riu desbocat\, pervertint Schubert\, pervertint Jelinek\, arrossegant-nos per “les aigües residuals de les nostres pròpies vides ” tal com ho fa ella\, en una peça amb pinzellades dramàtiques\, molta ironia i certa desesperança.
URL:https://poblenouurbandistrict.com/ca/agenda/teatre-viatge-dhivern/2022-10-26/
LOCATION:Sala Beckett\, C. de Pere IV\, 228\, 232\, Barcelona\, Barcelona\, 08005
CATEGORIES:Teatre
ATTACH;FMTTYPE=image/jpeg:https://media.poblenouurbandistrict.com/2022/09/25054005/capture-decran-2022-09-05-a-170450.jpg
END:VEVENT
BEGIN:VEVENT
DTSTART;TZID=Europe/Madrid:20221027T203000
DTEND;TZID=Europe/Madrid:20221030T210000
DTSTAMP:20260422T052201
CREATED:20220912T144113Z
LAST-MODIFIED:20220912T144113Z
UID:10003974-1666902600-1667163600@poblenouurbandistrict.com
SUMMARY:[:ca]Teatre: Allò que hi ha després del diumenge[:es]Teatro: Allò que hi ha després del diumenge[:en]Theater: Allò que hi ha després del diumenge[:]
DESCRIPTION:Lluny de casa\, en un paisatge de costa\, Joe es dedica a transportar turistes d’una illa a una altra amb una Zodiac. En un d’aquests trajectes rep l’impacte d’un llamp que el deixa inconscient\, estès sobre l’embarcació enmig del mar. De totes les tardes de diumenge possibles\, li ha tocat aquesta. Però\, què hi ha després del diumenge? Sembla que Caront\, amb la seva barca\, encara no pugui efectuar el traspàs a l’altre costat i que\, plegats\, s’hagin de quedar navegant en el mar immens de la ment fins que es resolgui la situació. \nAllò que hi ha després del diumenge és un viatge boirós que vol aproximar-se a l’interior d’una persona atrapada en un món real que es difumina i un món subjacent que es manifesta cada cop més. En un entorn on allò familiar esdevé desconegut\, coneixem la dimensió a la qual arriba el nostre protagonista i descobrim com l’atzar modifica les nostres vides.
URL:https://poblenouurbandistrict.com/ca/agenda/teatre-allo-que-hi-ha-despres-del-diumenge/2022-10-27/
LOCATION:Sala Beckett\, C. de Pere IV\, 228\, 232\, Barcelona\, Barcelona\, 08005
CATEGORIES:Teatre
ATTACH;FMTTYPE=image/jpeg:https://media.poblenouurbandistrict.com/2022/09/25054049/capture-decran-2022-09-12-a-164028.jpg
END:VEVENT
END:VCALENDAR