BEGIN:VCALENDAR
VERSION:2.0
PRODID:-//Poblenou Urban District - ECPv6.15.20//NONSGML v1.0//EN
CALSCALE:GREGORIAN
METHOD:PUBLISH
X-ORIGINAL-URL:https://poblenouurbandistrict.com/ca
X-WR-CALDESC:Esdeveniments per Poblenou Urban District
REFRESH-INTERVAL;VALUE=DURATION:PT1H
X-Robots-Tag:noindex
X-PUBLISHED-TTL:PT1H
BEGIN:VTIMEZONE
TZID:Europe/Madrid
BEGIN:DAYLIGHT
TZOFFSETFROM:+0100
TZOFFSETTO:+0200
TZNAME:CEST
DTSTART:20210328T010000
END:DAYLIGHT
BEGIN:STANDARD
TZOFFSETFROM:+0200
TZOFFSETTO:+0100
TZNAME:CET
DTSTART:20211031T010000
END:STANDARD
BEGIN:DAYLIGHT
TZOFFSETFROM:+0100
TZOFFSETTO:+0200
TZNAME:CEST
DTSTART:20220327T010000
END:DAYLIGHT
BEGIN:STANDARD
TZOFFSETFROM:+0200
TZOFFSETTO:+0100
TZNAME:CET
DTSTART:20221030T010000
END:STANDARD
BEGIN:DAYLIGHT
TZOFFSETFROM:+0100
TZOFFSETTO:+0200
TZNAME:CEST
DTSTART:20230326T010000
END:DAYLIGHT
BEGIN:STANDARD
TZOFFSETFROM:+0200
TZOFFSETTO:+0100
TZNAME:CET
DTSTART:20231029T010000
END:STANDARD
END:VTIMEZONE
BEGIN:VEVENT
DTSTART;TZID=Europe/Madrid:20221102T190000
DTEND;TZID=Europe/Madrid:20221106T200000
DTSTAMP:20260422T032900
CREATED:20220912T144623Z
LAST-MODIFIED:20220912T144821Z
UID:10003980-1667415600-1667764800@poblenouurbandistrict.com
SUMMARY:[:ca]Teatre: Zona inundable[:es]Teatro: Zona inundable[:en]Theater: Zona inundable[:]
DESCRIPTION:Un mosaic de solidaritat\, ecologia i memòria basat en fets reals \nSant Llis\, octubre del 2018. Després de quatre hores de pluja intensa\, un torrent es desborda\, inunda un petit poble de Mallorca i causa onze morts\, diversos ferits i molts danys materials.\nBen aviat es desencadena una onada de reaccions: una explosió de solidaritat sense precedents i una cobertura mediàtica que cada vegada planteja més dubtes. Es podria haver evitat la tragèdia? Van funcionar els protocols d’emergència? Per què es continua edificant als llindars dels torrents?
URL:https://poblenouurbandistrict.com/ca/agenda/teatre-zona-inundable-2022-10-12/2022-11-02/
LOCATION:Teatre Nacional de Catalunya\, Plaça de les Arts\, 1\, Barcelona\, 08013
CATEGORIES:Teatre
ATTACH;FMTTYPE=image/jpeg:https://media.poblenouurbandistrict.com/2022/09/25054051/capture-decran-2022-09-12-a-164519.jpg
END:VEVENT
BEGIN:VEVENT
DTSTART;TZID=Europe/Madrid:20221103T203000
DTEND;TZID=Europe/Madrid:20221106T220000
DTSTAMP:20260422T032900
CREATED:20220912T144113Z
LAST-MODIFIED:20220912T144113Z
UID:10003975-1667507400-1667772000@poblenouurbandistrict.com
SUMMARY:[:ca]Teatre: Allò que hi ha després del diumenge[:es]Teatro: Allò que hi ha després del diumenge[:en]Theater: Allò que hi ha després del diumenge[:]
DESCRIPTION:Lluny de casa\, en un paisatge de costa\, Joe es dedica a transportar turistes d’una illa a una altra amb una Zodiac. En un d’aquests trajectes rep l’impacte d’un llamp que el deixa inconscient\, estès sobre l’embarcació enmig del mar. De totes les tardes de diumenge possibles\, li ha tocat aquesta. Però\, què hi ha després del diumenge? Sembla que Caront\, amb la seva barca\, encara no pugui efectuar el traspàs a l’altre costat i que\, plegats\, s’hagin de quedar navegant en el mar immens de la ment fins que es resolgui la situació. \nAllò que hi ha després del diumenge és un viatge boirós que vol aproximar-se a l’interior d’una persona atrapada en un món real que es difumina i un món subjacent que es manifesta cada cop més. En un entorn on allò familiar esdevé desconegut\, coneixem la dimensió a la qual arriba el nostre protagonista i descobrim com l’atzar modifica les nostres vides.
URL:https://poblenouurbandistrict.com/ca/agenda/teatre-allo-que-hi-ha-despres-del-diumenge/2022-11-03/
LOCATION:Sala Beckett\, C. de Pere IV\, 228\, 232\, Barcelona\, Barcelona\, 08005
CATEGORIES:Teatre
ATTACH;FMTTYPE=image/jpeg:https://media.poblenouurbandistrict.com/2022/09/25054049/capture-decran-2022-09-12-a-164028.jpg
END:VEVENT
BEGIN:VEVENT
DTSTART;TZID=Europe/Madrid:20221109T203000
DTEND;TZID=Europe/Madrid:20221204T220000
DTSTAMP:20260422T032900
CREATED:20221024T150720Z
LAST-MODIFIED:20221103T134605Z
UID:10004042-1668025800-1670191200@poblenouurbandistrict.com
SUMMARY:Tocar Mare
DESCRIPTION:Una mare i una filla conformen una família insòlita. Plegades faran un viatge pels records compartits més divertits i per les vivències personals més dures\, per descobrir allò que pot posar en perill el seu vincle i allò que el pot fer enfurtir. \nEs poden posar clàusules a l’amor incondicional? \nTocarMare de Marta Barcelo Femenias és una comèdia tendra sobre la família\, eix central d’aquesta temporada a la Beckett. Després de passar pel Temporada Alta amb molt bona acollida\, l’obra dirigida per Jordi Casanovas arriba a Barcelona el 9 de novembre.
URL:https://poblenouurbandistrict.com/ca/agenda/tocar-mare/
LOCATION:Sala Beckett\, C. de Pere IV\, 228\, 232\, Barcelona\, Barcelona\, 08005
CATEGORIES:Teatre
ATTACH;FMTTYPE=image/jpeg:https://media.poblenouurbandistrict.com/2022/10/25054642/312126823-627372385838317-8265737681192762599-n.jpg
END:VEVENT
BEGIN:VEVENT
DTSTART;TZID=Europe/Madrid:20221117T193000
DTEND;TZID=Europe/Madrid:20221211T203000
DTSTAMP:20260422T032900
CREATED:20221117T125129Z
LAST-MODIFIED:20221117T125157Z
UID:10003612-1668713400-1670790600@poblenouurbandistrict.com
SUMMARY:[:ca]Estrena: Moriu-vos[:es]Estrena: Moriu-vos[:]
DESCRIPTION:Moriu-vos es va estrenar el 10 de novembre al festival Temporada Alta\, en una única funció\, i del 17 de novembre a l’11 de desembre es podrà veure a la Sala Petita del TNC.\n– Coincidint amb les funcions del TNC\, al vestíbul de la Sala Petita hi haurà una instal·lació fotogràfica a càrrec d’Oriol Casanovas Puigjané i de Marta Garcia Cardellach.
URL:https://poblenouurbandistrict.com/ca/agenda/estrena-muriu-vos/
LOCATION:Teatre Nacional de Catalunya\, Plaça de les Arts\, 1\, Barcelona\, 08013
CATEGORIES:Teatre
ATTACH;FMTTYPE=image/jpeg:https://media.poblenouurbandistrict.com/2022/11/25055015/muriu-vos.jpg
END:VEVENT
BEGIN:VEVENT
DTSTART;VALUE=DATE:20221125
DTEND;VALUE=DATE:20221126
DTSTAMP:20260422T032900
CREATED:20220310T174949Z
LAST-MODIFIED:20220405T220008Z
UID:10002742-1669334400-1669420799@poblenouurbandistrict.com
SUMMARY:[:ca]Poblenou Open Night[:es]Poblenou Open Night[:]
DESCRIPTION:El divendres 25 de novembre celebrem el Poblenou Open Night\, una nit on els espais de Poblenou Urban District obren les seves portes i ofereixen un ampli programa d’activitats culturals: exposicions\, tallers\, concerts\, propostes gastronòmiques i performances.
URL:https://poblenouurbandistrict.com/ca/agenda/poblenou-open-night/
LOCATION:Poblenou Urban District\, Pujades 99\, bxs.\, Barcelona\, Catalunya\, España
CATEGORIES:Curs,Exposició,Gastronomia,Música,Taller,Teatre,Xerrada
ATTACH;FMTTYPE=image/jpeg:https://media.poblenouurbandistrict.com/2021/11/25042811/artec-open-night-cambio.jpeg
ORGANIZER;CN="Poblenou Urban District":MAILTO:info@poblenouurbandistrict.com
END:VEVENT
BEGIN:VEVENT
DTSTART;TZID=Europe/Madrid:20221126T190000
DTEND;TZID=Europe/Madrid:20221126T210000
DTSTAMP:20260422T032900
CREATED:20221123T090659Z
LAST-MODIFIED:20221123T092529Z
UID:10003641-1669489200-1669496400@poblenouurbandistrict.com
SUMMARY:Bonobo
DESCRIPTION:Una road movie frenètica. Podem escapar de la violència? \nEl Fadi té un objectiu. El procés que va arrencar fa uns anys està a punt de culminar. Li tremolen les cames i\, per primer cop després de molts mesos d’entrenament\, es veu incapaç de conduir la furgoneta fins al seu espantós objectiu. Un imprevist en una gasolinera trastocarà els seus plans i l’abocarà a una fugida endavant en forma de road movie a través de bona part de la geografia de l’Estat.
URL:https://poblenouurbandistrict.com/ca/agenda/bonobo/2022-11-26/
LOCATION:Teatre Nacional de Catalunya\, Plaça de les Arts\, 1\, Barcelona\, 08013
CATEGORIES:Teatre
ATTACH;FMTTYPE=image/jpeg:https://media.poblenouurbandistrict.com/2022/11/25055055/diseno-sin-titulo-11.jpg
END:VEVENT
BEGIN:VEVENT
DTSTART;TZID=Europe/Madrid:20221126T193000
DTEND;TZID=Europe/Madrid:20221126T203000
DTSTAMP:20260422T032900
CREATED:20221123T093654Z
LAST-MODIFIED:20221123T165448Z
UID:10004050-1669491000-1669494600@poblenouurbandistrict.com
SUMMARY:El desig del cor
DESCRIPTION:Sinopsi\nEl desig del cor parla d’una família disfuncional (com totes) que espera el retorn de la seva filla d’Austràlia. Durant aquesta espera\, al menjador de casa es materialitzen els desitjos\, les pors i les pulsions més viscerals que allunyen el pare\, la mare i la tieta\, del que s’espera d’ells\, segons els rols que marca la societat. El model familiar té unes lleis clares\, i hi ha coses que hi caben i coses que no: desitjar la teva filla\, tenir por a la mort o menjar-te a tu mateix\, són algunes de les coses que aquesta família pot arribar a imaginar\, perquè dins de la imaginació cap tot. \nEls personatges hauran d’exercir un control extrem perquè els seus pensaments no prenguin forma i no es facin reals\, i tant les escenes còmiques i surrealistes com els conflictes més profunds passen per un mecanisme de censura. S’equivoquen i tornen a començar en un sistema de prova i error: entren en un bucle interminable\, un bucle en què les paraules i les accions es repeteixen una vegada i una altra. No hi ha manera de sortir del bucle\, perquè no hi ha manera de sortir dels traumes familiars. \nAquest espectacle forma part del cicle La família (o la família?)\, una proposta per reflexionar sobre el concepte de família des de diferents perspectives: els imaginaris\, les relacions\, les vulnerabilitats\, les estructures socials\, el món laboral\, els sentits\, les emocions…
URL:https://poblenouurbandistrict.com/ca/agenda/el-desig-del-cor/2022-11-26/
LOCATION:Sala Beckett\, C. de Pere IV\, 228\, 232\, Barcelona\, Barcelona\, 08005
CATEGORIES:Teatre
ATTACH;FMTTYPE=image/jpeg:https://media.poblenouurbandistrict.com/2022/11/25055059/diseno-sin-titulo-13.jpg
END:VEVENT
BEGIN:VEVENT
DTSTART;TZID=Europe/Madrid:20221127T180000
DTEND;TZID=Europe/Madrid:20221127T190000
DTSTAMP:20260422T032900
CREATED:20221123T093654Z
LAST-MODIFIED:20221123T165448Z
UID:10004051-1669572000-1669575600@poblenouurbandistrict.com
SUMMARY:El desig del cor
DESCRIPTION:Sinopsi\nEl desig del cor parla d’una família disfuncional (com totes) que espera el retorn de la seva filla d’Austràlia. Durant aquesta espera\, al menjador de casa es materialitzen els desitjos\, les pors i les pulsions més viscerals que allunyen el pare\, la mare i la tieta\, del que s’espera d’ells\, segons els rols que marca la societat. El model familiar té unes lleis clares\, i hi ha coses que hi caben i coses que no: desitjar la teva filla\, tenir por a la mort o menjar-te a tu mateix\, són algunes de les coses que aquesta família pot arribar a imaginar\, perquè dins de la imaginació cap tot. \nEls personatges hauran d’exercir un control extrem perquè els seus pensaments no prenguin forma i no es facin reals\, i tant les escenes còmiques i surrealistes com els conflictes més profunds passen per un mecanisme de censura. S’equivoquen i tornen a començar en un sistema de prova i error: entren en un bucle interminable\, un bucle en què les paraules i les accions es repeteixen una vegada i una altra. No hi ha manera de sortir del bucle\, perquè no hi ha manera de sortir dels traumes familiars. \nAquest espectacle forma part del cicle La família (o la família?)\, una proposta per reflexionar sobre el concepte de família des de diferents perspectives: els imaginaris\, les relacions\, les vulnerabilitats\, les estructures socials\, el món laboral\, els sentits\, les emocions…
URL:https://poblenouurbandistrict.com/ca/agenda/el-desig-del-cor/2022-11-27/
LOCATION:Sala Beckett\, C. de Pere IV\, 228\, 232\, Barcelona\, Barcelona\, 08005
CATEGORIES:Teatre
ATTACH;FMTTYPE=image/jpeg:https://media.poblenouurbandistrict.com/2022/11/25055059/diseno-sin-titulo-13.jpg
END:VEVENT
BEGIN:VEVENT
DTSTART;TZID=Europe/Madrid:20221127T190000
DTEND;TZID=Europe/Madrid:20221127T210000
DTSTAMP:20260422T032900
CREATED:20221123T090659Z
LAST-MODIFIED:20221123T092529Z
UID:10003642-1669575600-1669582800@poblenouurbandistrict.com
SUMMARY:Bonobo
DESCRIPTION:Una road movie frenètica. Podem escapar de la violència? \nEl Fadi té un objectiu. El procés que va arrencar fa uns anys està a punt de culminar. Li tremolen les cames i\, per primer cop després de molts mesos d’entrenament\, es veu incapaç de conduir la furgoneta fins al seu espantós objectiu. Un imprevist en una gasolinera trastocarà els seus plans i l’abocarà a una fugida endavant en forma de road movie a través de bona part de la geografia de l’Estat.
URL:https://poblenouurbandistrict.com/ca/agenda/bonobo/2022-11-27/
LOCATION:Teatre Nacional de Catalunya\, Plaça de les Arts\, 1\, Barcelona\, 08013
CATEGORIES:Teatre
ATTACH;FMTTYPE=image/jpeg:https://media.poblenouurbandistrict.com/2022/11/25055055/diseno-sin-titulo-11.jpg
END:VEVENT
BEGIN:VEVENT
DTSTART;TZID=Europe/Madrid:20221130T190000
DTEND;TZID=Europe/Madrid:20221130T210000
DTSTAMP:20260422T032900
CREATED:20221123T090659Z
LAST-MODIFIED:20221123T092529Z
UID:10003643-1669834800-1669842000@poblenouurbandistrict.com
SUMMARY:Bonobo
DESCRIPTION:Una road movie frenètica. Podem escapar de la violència? \nEl Fadi té un objectiu. El procés que va arrencar fa uns anys està a punt de culminar. Li tremolen les cames i\, per primer cop després de molts mesos d’entrenament\, es veu incapaç de conduir la furgoneta fins al seu espantós objectiu. Un imprevist en una gasolinera trastocarà els seus plans i l’abocarà a una fugida endavant en forma de road movie a través de bona part de la geografia de l’Estat.
URL:https://poblenouurbandistrict.com/ca/agenda/bonobo/2022-11-30/
LOCATION:Teatre Nacional de Catalunya\, Plaça de les Arts\, 1\, Barcelona\, 08013
CATEGORIES:Teatre
ATTACH;FMTTYPE=image/jpeg:https://media.poblenouurbandistrict.com/2022/11/25055055/diseno-sin-titulo-11.jpg
END:VEVENT
END:VCALENDAR