BEGIN:VCALENDAR
VERSION:2.0
PRODID:-//Poblenou Urban District - ECPv6.15.20//NONSGML v1.0//EN
CALSCALE:GREGORIAN
METHOD:PUBLISH
X-ORIGINAL-URL:https://poblenouurbandistrict.com/ca
X-WR-CALDESC:Esdeveniments per Poblenou Urban District
REFRESH-INTERVAL;VALUE=DURATION:PT1H
X-Robots-Tag:noindex
X-PUBLISHED-TTL:PT1H
BEGIN:VTIMEZONE
TZID:Europe/Madrid
BEGIN:DAYLIGHT
TZOFFSETFROM:+0100
TZOFFSETTO:+0200
TZNAME:CEST
DTSTART:20220327T010000
END:DAYLIGHT
BEGIN:STANDARD
TZOFFSETFROM:+0200
TZOFFSETTO:+0100
TZNAME:CET
DTSTART:20221030T010000
END:STANDARD
BEGIN:DAYLIGHT
TZOFFSETFROM:+0100
TZOFFSETTO:+0200
TZNAME:CEST
DTSTART:20230326T010000
END:DAYLIGHT
BEGIN:STANDARD
TZOFFSETFROM:+0200
TZOFFSETTO:+0100
TZNAME:CET
DTSTART:20231029T010000
END:STANDARD
BEGIN:DAYLIGHT
TZOFFSETFROM:+0100
TZOFFSETTO:+0200
TZNAME:CEST
DTSTART:20240331T010000
END:DAYLIGHT
BEGIN:STANDARD
TZOFFSETFROM:+0200
TZOFFSETTO:+0100
TZNAME:CET
DTSTART:20241027T010000
END:STANDARD
END:VTIMEZONE
BEGIN:VEVENT
DTSTART;TZID=Europe/Madrid:20230908T200000
DTEND;TZID=Europe/Madrid:20230908T200000
DTSTAMP:20260421T074603
CREATED:20230908T092659Z
LAST-MODIFIED:20230908T144656Z
UID:10006639-1694203200-1694203200@poblenouurbandistrict.com
SUMMARY:[:ca]“Ferides”\, òpera en català d’estil mozartià[:es]"Ferides"\, ópera en catalán de estilo mozartiano[:]
DESCRIPTION:
URL:https://poblenouurbandistrict.com/ca/agenda/ferides-opera-en-catala-destil-mozartia/
LOCATION:Casino l’aliança del Poblenou\, Rambla del Poblenou\, 42\,\, Barcelona\, Barcelona\, 08005\, Espanya
CATEGORIES:Música,Teatre
END:VEVENT
BEGIN:VEVENT
DTSTART;TZID=Europe/Madrid:20230916T190000
DTEND;TZID=Europe/Madrid:20230916T210000
DTSTAMP:20260421T074603
CREATED:20230613T094020Z
LAST-MODIFIED:20230913T143044Z
UID:10004514-1694890800-1694898000@poblenouurbandistrict.com
SUMMARY:[:ca]Balls literaris + Festa d'inauguració[:es]Bailes literarios + Fiesta de inauguración[:]
DESCRIPTION:
URL:https://poblenouurbandistrict.com/ca/agenda/balls-literaris-festa-dinauguracio/
LOCATION:Teatre Nacional de Catalunya\, Plaça de les Arts\, 1\, Barcelona\, 08013
CATEGORIES:Teatre
END:VEVENT
BEGIN:VEVENT
DTSTART;TZID=Europe/Madrid:20230917T180000
DTEND;TZID=Europe/Madrid:20230917T180000
DTSTAMP:20260421T074603
CREATED:20230929T111619Z
LAST-MODIFIED:20230929T111619Z
UID:10006737-1694973600-1694973600@poblenouurbandistrict.com
SUMMARY:[:ca]Obra "Altres Formes"[:es]Obra "Altres Formes"[:]
DESCRIPTION:
URL:https://poblenouurbandistrict.com/ca/agenda/obra-altres-formes/2023-09-17/
LOCATION:Teatre Nacional de Catalunya\, Plaça de les Arts\, 1\, Barcelona\, 08013
CATEGORIES:Teatre
END:VEVENT
BEGIN:VEVENT
DTSTART;TZID=Europe/Madrid:20230920T193000
DTEND;TZID=Europe/Madrid:20230920T193000
DTSTAMP:20260421T074603
CREATED:20230920T094233Z
LAST-MODIFIED:20230920T094233Z
UID:10006693-1695238200-1695238200@poblenouurbandistrict.com
SUMMARY:[:ca]Espectacle: Castroponce-Teoria i praxis per a una avantguarda del segle XXI de Pablo Rosal[:es]Espectáculo: Castroponce-Teoría y praxis para una vanguardia del siglo XXI de Pablo Rosal[:]
DESCRIPTION:
URL:https://poblenouurbandistrict.com/ca/agenda/espectacle-castroponce-teoria-i-praxis-per-a-una-avantguarda-del-segle-xxi-de-pablo-rosal/2023-09-20/
LOCATION:Sala Beckett\, C. de Pere IV\, 228\, 232\, Barcelona\, Barcelona\, 08005
CATEGORIES:Teatre
END:VEVENT
BEGIN:VEVENT
DTSTART;TZID=Europe/Madrid:20230921T193000
DTEND;TZID=Europe/Madrid:20230921T193000
DTSTAMP:20260421T074603
CREATED:20230920T094233Z
LAST-MODIFIED:20230920T094233Z
UID:10006694-1695324600-1695324600@poblenouurbandistrict.com
SUMMARY:[:ca]Espectacle: Castroponce-Teoria i praxis per a una avantguarda del segle XXI de Pablo Rosal[:es]Espectáculo: Castroponce-Teoría y praxis para una vanguardia del siglo XXI de Pablo Rosal[:]
DESCRIPTION:
URL:https://poblenouurbandistrict.com/ca/agenda/espectacle-castroponce-teoria-i-praxis-per-a-una-avantguarda-del-segle-xxi-de-pablo-rosal/2023-09-21/
LOCATION:Sala Beckett\, C. de Pere IV\, 228\, 232\, Barcelona\, Barcelona\, 08005
CATEGORIES:Teatre
END:VEVENT
BEGIN:VEVENT
DTSTART;TZID=Europe/Madrid:20230922T193000
DTEND;TZID=Europe/Madrid:20230922T193000
DTSTAMP:20260421T074603
CREATED:20230920T094233Z
LAST-MODIFIED:20230920T094233Z
UID:10006695-1695411000-1695411000@poblenouurbandistrict.com
SUMMARY:[:ca]Espectacle: Castroponce-Teoria i praxis per a una avantguarda del segle XXI de Pablo Rosal[:es]Espectáculo: Castroponce-Teoría y praxis para una vanguardia del siglo XXI de Pablo Rosal[:]
DESCRIPTION:
URL:https://poblenouurbandistrict.com/ca/agenda/espectacle-castroponce-teoria-i-praxis-per-a-una-avantguarda-del-segle-xxi-de-pablo-rosal/2023-09-22/
LOCATION:Sala Beckett\, C. de Pere IV\, 228\, 232\, Barcelona\, Barcelona\, 08005
CATEGORIES:Teatre
END:VEVENT
BEGIN:VEVENT
DTSTART;TZID=Europe/Madrid:20230922T200000
DTEND;TZID=Europe/Madrid:20230922T200000
DTSTAMP:20260421T074603
CREATED:20230920T093631Z
LAST-MODIFIED:20230920T093631Z
UID:10006690-1695412800-1695412800@poblenouurbandistrict.com
SUMMARY:[:ca]Obra: "Dios es una palabra"[:es]Obra: "Dios es una palabra"[:]
DESCRIPTION:
URL:https://poblenouurbandistrict.com/ca/agenda/obra-dios-es-una-palabra/2023-09-22/
LOCATION:Teatre Sant Andreu\, Neopàtria\, 54\, Barcelona\, Catalunya\, 08030\, Espanya
CATEGORIES:Danza,Teatre
END:VEVENT
BEGIN:VEVENT
DTSTART;TZID=Europe/Madrid:20230923T193000
DTEND;TZID=Europe/Madrid:20230923T193000
DTSTAMP:20260421T074603
CREATED:20230920T094233Z
LAST-MODIFIED:20230920T094233Z
UID:10006696-1695497400-1695497400@poblenouurbandistrict.com
SUMMARY:[:ca]Espectacle: Castroponce-Teoria i praxis per a una avantguarda del segle XXI de Pablo Rosal[:es]Espectáculo: Castroponce-Teoría y praxis para una vanguardia del siglo XXI de Pablo Rosal[:]
DESCRIPTION:
URL:https://poblenouurbandistrict.com/ca/agenda/espectacle-castroponce-teoria-i-praxis-per-a-una-avantguarda-del-segle-xxi-de-pablo-rosal/2023-09-23/
LOCATION:Sala Beckett\, C. de Pere IV\, 228\, 232\, Barcelona\, Barcelona\, 08005
CATEGORIES:Teatre
END:VEVENT
BEGIN:VEVENT
DTSTART;TZID=Europe/Madrid:20230923T200000
DTEND;TZID=Europe/Madrid:20230923T200000
DTSTAMP:20260421T074603
CREATED:20230920T093631Z
LAST-MODIFIED:20230920T093631Z
UID:10006691-1695499200-1695499200@poblenouurbandistrict.com
SUMMARY:[:ca]Obra: "Dios es una palabra"[:es]Obra: "Dios es una palabra"[:]
DESCRIPTION:
URL:https://poblenouurbandistrict.com/ca/agenda/obra-dios-es-una-palabra/2023-09-23/
LOCATION:Teatre Sant Andreu\, Neopàtria\, 54\, Barcelona\, Catalunya\, 08030\, Espanya
CATEGORIES:Danza,Teatre
END:VEVENT
BEGIN:VEVENT
DTSTART;TZID=Europe/Madrid:20230924T180000
DTEND;TZID=Europe/Madrid:20230924T180000
DTSTAMP:20260421T074603
CREATED:20230920T094233Z
LAST-MODIFIED:20230920T094233Z
UID:10006697-1695578400-1695578400@poblenouurbandistrict.com
SUMMARY:[:ca]Espectacle: Castroponce-Teoria i praxis per a una avantguarda del segle XXI de Pablo Rosal[:es]Espectáculo: Castroponce-Teoría y praxis para una vanguardia del siglo XXI de Pablo Rosal[:]
DESCRIPTION:
URL:https://poblenouurbandistrict.com/ca/agenda/espectacle-castroponce-teoria-i-praxis-per-a-una-avantguarda-del-segle-xxi-de-pablo-rosal/2023-09-24/
LOCATION:Sala Beckett\, C. de Pere IV\, 228\, 232\, Barcelona\, Barcelona\, 08005
CATEGORIES:Teatre
END:VEVENT
BEGIN:VEVENT
DTSTART;TZID=Europe/Madrid:20230924T200000
DTEND;TZID=Europe/Madrid:20230924T200000
DTSTAMP:20260421T074603
CREATED:20230920T093631Z
LAST-MODIFIED:20230920T093631Z
UID:10006692-1695585600-1695585600@poblenouurbandistrict.com
SUMMARY:[:ca]Obra: "Dios es una palabra"[:es]Obra: "Dios es una palabra"[:]
DESCRIPTION:
URL:https://poblenouurbandistrict.com/ca/agenda/obra-dios-es-una-palabra/2023-09-24/
LOCATION:Teatre Sant Andreu\, Neopàtria\, 54\, Barcelona\, Catalunya\, 08030\, Espanya
CATEGORIES:Danza,Teatre
END:VEVENT
BEGIN:VEVENT
DTSTART;VALUE=DATE:20230928
DTEND;VALUE=DATE:20231106
DTSTAMP:20260421T074603
CREATED:20230929T102306Z
LAST-MODIFIED:20230929T102306Z
UID:10006728-1695859200-1699228799@poblenouurbandistrict.com
SUMMARY:[:ca]Obra "La Plaça del Diamant"[:es]Obra "La Plaça del Diamant"[:]
DESCRIPTION:
URL:https://poblenouurbandistrict.com/ca/agenda/obra-la-placa-del-diamant/
LOCATION:Teatre Nacional de Catalunya\, Plaça de les Arts\, 1\, Barcelona\, 08013
CATEGORIES:Teatre
END:VEVENT
BEGIN:VEVENT
DTSTART;VALUE=DATE:20230929
DTEND;VALUE=DATE:20231009
DTSTAMP:20260421T074603
CREATED:20230929T103305Z
LAST-MODIFIED:20230929T103305Z
UID:10006729-1695945600-1696809599@poblenouurbandistrict.com
SUMMARY:[:ca]Obra "Flors i viatges"[:es]Obra "Flors i viatges"[:]
DESCRIPTION:
URL:https://poblenouurbandistrict.com/ca/agenda/obra-flors-i-viatges/
LOCATION:L’Auditori\, Carrer de Lepant\, 150\, Barcelona\, 08013\, Espanya
CATEGORIES:Teatre
END:VEVENT
END:VCALENDAR