BEGIN:VCALENDAR
VERSION:2.0
PRODID:-//Poblenou Urban District - ECPv6.15.20//NONSGML v1.0//EN
CALSCALE:GREGORIAN
METHOD:PUBLISH
X-WR-CALNAME:Poblenou Urban District
X-ORIGINAL-URL:https://poblenouurbandistrict.com/ca
X-WR-CALDESC:Esdeveniments per Poblenou Urban District
REFRESH-INTERVAL;VALUE=DURATION:PT1H
X-Robots-Tag:noindex
X-PUBLISHED-TTL:PT1H
BEGIN:VTIMEZONE
TZID:Europe/Madrid
BEGIN:DAYLIGHT
TZOFFSETFROM:+0100
TZOFFSETTO:+0200
TZNAME:CEST
DTSTART:20210328T010000
END:DAYLIGHT
BEGIN:STANDARD
TZOFFSETFROM:+0200
TZOFFSETTO:+0100
TZNAME:CET
DTSTART:20211031T010000
END:STANDARD
BEGIN:DAYLIGHT
TZOFFSETFROM:+0100
TZOFFSETTO:+0200
TZNAME:CEST
DTSTART:20220327T010000
END:DAYLIGHT
BEGIN:STANDARD
TZOFFSETFROM:+0200
TZOFFSETTO:+0100
TZNAME:CET
DTSTART:20221030T010000
END:STANDARD
BEGIN:DAYLIGHT
TZOFFSETFROM:+0100
TZOFFSETTO:+0200
TZNAME:CEST
DTSTART:20230326T010000
END:DAYLIGHT
BEGIN:STANDARD
TZOFFSETFROM:+0200
TZOFFSETTO:+0100
TZNAME:CET
DTSTART:20231029T010000
END:STANDARD
END:VTIMEZONE
BEGIN:VEVENT
DTSTART;VALUE=DATE:20220127
DTEND;VALUE=DATE:20220307
DTSTAMP:20260423T003300
CREATED:20220209T130115Z
LAST-MODIFIED:20220209T130115Z
UID:10002325-1643241600-1646611199@poblenouurbandistrict.com
SUMMARY:[:ca]Teatre: Desig[:es]Teatro: Desig[:]
DESCRIPTION:27/01/2022 al 06/03/2022 \nDesig \nJosep Maria Benet i Jornet \nDirecció Sílvia Munt \nSala Gran \nDesig és la inquietant història d’un matrimoni que veu interrompuda la seva vida rutinària. Trucades anònimes i un cotxe que fa llums al costat d’una carretera. La misteriosa connexió amb una parella de desconeguts. Els records d’una nit que gairebé s’havien esborrat.
URL:https://poblenouurbandistrict.com/ca/agenda/teatre-desig/
LOCATION:Teatre Nacional de Catalunya\, Plaça de les Arts\, 1\, Barcelona\, 08013
CATEGORIES:Teatre
ATTACH;FMTTYPE=image/jpeg:https://media.poblenouurbandistrict.com/2022/02/25044611/capture-decran-2022-02-09-a-140005.jpg
END:VEVENT
BEGIN:VEVENT
DTSTART;TZID=Europe/Madrid:20220217T080000
DTEND;TZID=Europe/Madrid:20220306T170000
DTSTAMP:20260423T003300
CREATED:20220209T130503Z
LAST-MODIFIED:20220209T130503Z
UID:10002327-1645084800-1646586000@poblenouurbandistrict.com
SUMMARY:[:ca]Teatre: Visió d’uns nens que no l’han vist mai[:es]Teatro: Visió d’uns nens que no l’han vist mai[:]
DESCRIPTION:17/02/2022 al 06/03/2022 \nEl mar: Visió d’uns nens que no l’han vist mai \nXavier Bobés i Alberto Conejero \nDirecció Xavier Bobés i Alberto Conejero \nSala Tallers \n  \nUna obra de teatre poètic\, documental i d’objectes basada en les redaccions d’uns nens que no han vist mai el mar i el seu mestre Antoni Benaiges. \nAquesta és la història d’una promesa que no es va poder complir\, la que va fer un mestre als seus alumnes. El mestre era Antoni Benaiges. Els alumnes eren els nens i nenes de l’escola rural de Bañuelos de Bureba\, un poble de la província de Burgos. La promesa la va fer un dia d’hivern de l’any 1936. Els va prometre el mar.
URL:https://poblenouurbandistrict.com/ca/agenda/teatre-visio-duns-nens-que-no-lhan-vist-mai/
LOCATION:Teatre Nacional de Catalunya\, Plaça de les Arts\, 1\, Barcelona\, 08013
CATEGORIES:Teatre
ATTACH;FMTTYPE=image/jpeg:https://media.poblenouurbandistrict.com/2022/02/25044613/capture-decran-2022-02-09-a-140313.jpg
END:VEVENT
BEGIN:VEVENT
DTSTART;VALUE=DATE:20220226
DTEND;VALUE=DATE:20220228
DTSTAMP:20260423T003300
CREATED:20220209T130842Z
LAST-MODIFIED:20220209T130842Z
UID:10002328-1645833600-1646006399@poblenouurbandistrict.com
SUMMARY:[:ca]Teatre: Dramatúrgia emergent europea: Bèlgica[:es]Teatro: Dramatúrgia emergent europea: Bèlgica[:]
DESCRIPTION:26/02/2022 al 27/02/2022 \nDramatúrgia emergent europea: Bèlgica \nTaha Adnan y Lot Vekemans \nDirección Marie-Aurore D’Awans y Lisa Boa Houbrechts \nSala Petita \n  \nAmb la voluntat de fer que el TNC entri en el circuit de projectes teatrals europeus i per tal de connectar-lo amb els teatres més rellevants d’Europa\, a partir de la temporada 2021/2022 començarà un cicle de noves dramatúrgies europees gràcies al qual cada temporada es traduiran al català dues obres d’autoria contemporània estrangera que es representaran al TNC amb direcció d’escena també estrangera i la interpretació d’artistes catalans. Aquest mateix procés es farà també a la inversa i el TNC proposarà dos textos catalans\, que es traduiran a una llengua estrangera\, i dos directors també catalans que treballaran amb equips artístics estrangers.
URL:https://poblenouurbandistrict.com/ca/agenda/teatre-dramaturgia-emergent-europea-belgica/
LOCATION:Teatre Nacional de Catalunya\, Plaça de les Arts\, 1\, Barcelona\, 08013
CATEGORIES:Teatre
ATTACH;FMTTYPE=image/jpeg:https://media.poblenouurbandistrict.com/2022/02/25044614/capture-decran-2022-02-09-a-140724.jpg
END:VEVENT
END:VCALENDAR