BEGIN:VCALENDAR
VERSION:2.0
PRODID:-//Poblenou Urban District - ECPv6.15.20//NONSGML v1.0//EN
CALSCALE:GREGORIAN
METHOD:PUBLISH
X-WR-CALNAME:Poblenou Urban District
X-ORIGINAL-URL:https://poblenouurbandistrict.com/ca
X-WR-CALDESC:Esdeveniments per Poblenou Urban District
REFRESH-INTERVAL;VALUE=DURATION:PT1H
X-Robots-Tag:noindex
X-PUBLISHED-TTL:PT1H
BEGIN:VTIMEZONE
TZID:Europe/Madrid
BEGIN:DAYLIGHT
TZOFFSETFROM:+0100
TZOFFSETTO:+0200
TZNAME:CEST
DTSTART:20210328T010000
END:DAYLIGHT
BEGIN:STANDARD
TZOFFSETFROM:+0200
TZOFFSETTO:+0100
TZNAME:CET
DTSTART:20211031T010000
END:STANDARD
BEGIN:DAYLIGHT
TZOFFSETFROM:+0100
TZOFFSETTO:+0200
TZNAME:CEST
DTSTART:20220327T010000
END:DAYLIGHT
BEGIN:STANDARD
TZOFFSETFROM:+0200
TZOFFSETTO:+0100
TZNAME:CET
DTSTART:20221030T010000
END:STANDARD
BEGIN:DAYLIGHT
TZOFFSETFROM:+0100
TZOFFSETTO:+0200
TZNAME:CEST
DTSTART:20230326T010000
END:DAYLIGHT
BEGIN:STANDARD
TZOFFSETFROM:+0200
TZOFFSETTO:+0100
TZNAME:CET
DTSTART:20231029T010000
END:STANDARD
END:VTIMEZONE
BEGIN:VEVENT
DTSTART;VALUE=DATE:20220318
DTEND;VALUE=DATE:20220321
DTSTAMP:20260422T222124
CREATED:20220224T155544Z
LAST-MODIFIED:20220224T155544Z
UID:10002490-1647561600-1647820799@poblenouurbandistrict.com
SUMMARY:[:ca]AISHA AND ABHAYA[:es]AISHA AND ABHAYA[:]
DESCRIPTION:L’Aisha i l’Abhaya són dues germanes que viuen en un món fantàstic plagat de problemes i perills familiars. Buscant refugi lluny de la seva violenta terra natal\, lluiten per sobreviure en un nou país.
URL:https://poblenouurbandistrict.com/ca/agenda/aisha-and-abhaya/
LOCATION:Teatre Nacional de Catalunya\, Plaça de les Arts\, 1\, Barcelona\, 08013
CATEGORIES:Teatre
ATTACH;FMTTYPE=image/jpeg:https://media.poblenouurbandistrict.com/2022/02/25044913/diseno-sin-titulo-13-2.jpg
END:VEVENT
BEGIN:VEVENT
DTSTART;TZID=Europe/Madrid:20220320T123000
DTEND;TZID=Europe/Madrid:20220320T133000
DTSTAMP:20260422T222124
CREATED:20220315T092749Z
LAST-MODIFIED:20220315T092749Z
UID:10002345-1647779400-1647783000@poblenouurbandistrict.com
SUMMARY:[:ca]Teatre: Balls literaris[:es]Teatro: Balls literaris[:]
DESCRIPTION:Pier Lorenzo Pisano\, Rachida Lamrabet\, Marilia Samper\, Jan Vilanova estaran tancats al TNC per escriure una obra a quatre mans amb l’única condició que cada escena acabi amb el títol d’una cançó. \nBalls literaris és una proposta diferent en què es vol posar en contacte un autor i una autora catalans amb un autor i una autora internacionals. Durant 48 hores tancats al TNC escriuran una obra a quatre mans amb l’única condició que cada escena acabi amb el títol d’alguna cançó coneguda mundialment. Passades les 48 hores de creació\, els mateixos autors llegiran la peça davant del públic i els convidaran a ballar al final de cada escena. Una festa de balls que uneixen les creativitats dels creadors i del públic.
URL:https://poblenouurbandistrict.com/ca/agenda/teatre-balls-literaris/
LOCATION:Teatre Nacional de Catalunya\, Plaça de les Arts\, 1\, Barcelona\, 08013
CATEGORIES:Música,Teatre
ATTACH;FMTTYPE=image/jpeg:https://media.poblenouurbandistrict.com/2022/03/25045333/tnc-2021-2022-web-23-balls-literaris-200x236px.jpeg
END:VEVENT
BEGIN:VEVENT
DTSTART;TZID=Europe/Madrid:20220320T173000
DTEND;TZID=Europe/Madrid:20220320T183000
DTSTAMP:20260422T222124
CREATED:20220302T171457Z
LAST-MODIFIED:20220307T113027Z
UID:10002300-1647797400-1647801000@poblenouurbandistrict.com
SUMMARY:[:ca]Teatre: La sireneta i l'illa de plàstic[:es]Teatro: La sirenita y la isla de plástico[:]
DESCRIPTION:La sireneta compleix 15 anys i per primer cop sortirà a cantar sota la llum de la lluna. És un dia molt especial pels habitants del fons del mar i li preparen una gran festa. \n 
URL:https://poblenouurbandistrict.com/ca/agenda/la-sireneta-i-lilla-de-plastic/
LOCATION:Casino l’aliança del Poblenou\, Rambla del Poblenou\, 42\,\, Barcelona\, Barcelona\, 08005\, Espanya
CATEGORIES:Teatre
ATTACH;FMTTYPE=image/png:https://poblenouurbandistrict.com/wp-content/uploads/2022/03/diseno-sin-titulo-1.jpg
END:VEVENT
BEGIN:VEVENT
DTSTART;TZID=Europe/Madrid:20220320T180000
DTEND;TZID=Europe/Madrid:20220320T191500
DTSTAMP:20260422T222124
CREATED:20221129T165453Z
LAST-MODIFIED:20221129T165453Z
UID:10002483-1647799200-1647803700@poblenouurbandistrict.com
SUMMARY:[:ca]Harakiri[:es]Harakiri[:]
DESCRIPTION:Harakiri vol lliurar de tabús i estigmes tot el que envolta el suïcidi per contemplar-lo com una opció racional. A l’escena\, lloc que permet reviure i remorir els morts\, es produeix una cita impossible entre dos adults que\, un dia\, en un petit univers\, van ser mare i fill.
URL:https://poblenouurbandistrict.com/ca/agenda/harakiri/2022-03-20/
LOCATION:Teatre Nacional de Catalunya\, Plaça de les Arts\, 1\, Barcelona\, 08013
CATEGORIES:Teatre
ATTACH;FMTTYPE=image/jpeg:https://media.poblenouurbandistrict.com/2022/02/25044911/diseno-sin-titulo-12-2.jpg
END:VEVENT
BEGIN:VEVENT
DTSTART;TZID=Europe/Madrid:20220320T180000
DTEND;TZID=Europe/Madrid:20220320T193000
DTSTAMP:20260422T222124
CREATED:20221129T165452Z
LAST-MODIFIED:20221129T165452Z
UID:10002456-1647799200-1647804600@poblenouurbandistrict.com
SUMMARY:[:ca]Obsolescència programada[:es]Obsolescencia programada[:]
DESCRIPTION:Una dona\, al voltant de la cinquantena\, entra en una botiga d’electrodomèstics\, dona una ullada i marxa. La mateixa dona\, poc després\, hi torna a entrar\, fa una pregunta a la dependenta i marxa. Vivim en el món de l’obsolescència programada\, quan una rentadora s’espatlla o es fa vella\, de seguida la canviem per una de nova. I això és el que pensem que vol fer aquesta dona: comprar una rentadora. Però no\, no té cap intenció de comprar res. Llavors\, per què hi torna a entrar una tercera vegada? \n\n\nAutora\nAnna Maria Ricart Codina\nDirecció\nMònica Bofill\n\nDimecres\, Dissabtes i Diumenges
URL:https://poblenouurbandistrict.com/ca/agenda/obsolescencia-programada/2022-03-20/
LOCATION:Sala Beckett\, C. de Pere IV\, 228\, 232\, Barcelona\, Barcelona\, 08005
CATEGORIES:Teatre
ATTACH;FMTTYPE=image/jpeg:https://media.poblenouurbandistrict.com/2022/02/25044857/diseno-sin-titulo-10-2.jpg
END:VEVENT
BEGIN:VEVENT
DTSTART;TZID=Europe/Madrid:20220320T183000
DTEND;TZID=Europe/Madrid:20220320T194000
DTSTAMP:20260422T222124
CREATED:20221129T165451Z
LAST-MODIFIED:20221129T165451Z
UID:10002435-1647801000-1647805200@poblenouurbandistrict.com
SUMMARY:[:ca]Teatre: Dels intestins una soga i del cul un sac de gemecs[:es]Teatro: Dels intestins una soga i del cul un sac de gemecs[:]
DESCRIPTION:Dels intestins una soga i del cul un sac de gemecs vol ser una peça on discutir. Un ambient des d’on parlar a crits de la conveniència\, la necessitat i el ferm compromís polític vers la desaparició completa de les persones. \n\nAutor \nÍntims Produccions\n\n\nDirecció \nDavid Climent\n\nDissabtes i Diumenges
URL:https://poblenouurbandistrict.com/ca/agenda/dels-intestins-una-soga-i-del-cul-un-sac-de-gemecs/2022-03-20/
LOCATION:Sala Beckett\, C. de Pere IV\, 228\, 232\, Barcelona\, Barcelona\, 08005
CATEGORIES:Teatre
ATTACH;FMTTYPE=image/jpeg:https://media.poblenouurbandistrict.com/2022/02/25044855/diseno-sin-titulo-9-2.jpg
END:VEVENT
END:VCALENDAR