BEGIN:VCALENDAR
VERSION:2.0
PRODID:-//Poblenou Urban District - ECPv6.15.20//NONSGML v1.0//EN
CALSCALE:GREGORIAN
METHOD:PUBLISH
X-ORIGINAL-URL:https://poblenouurbandistrict.com/ca
X-WR-CALDESC:Esdeveniments per Poblenou Urban District
REFRESH-INTERVAL;VALUE=DURATION:PT1H
X-Robots-Tag:noindex
X-PUBLISHED-TTL:PT1H
BEGIN:VTIMEZONE
TZID:Europe/Madrid
BEGIN:DAYLIGHT
TZOFFSETFROM:+0100
TZOFFSETTO:+0200
TZNAME:CEST
DTSTART:20210328T010000
END:DAYLIGHT
BEGIN:STANDARD
TZOFFSETFROM:+0200
TZOFFSETTO:+0100
TZNAME:CET
DTSTART:20211031T010000
END:STANDARD
BEGIN:DAYLIGHT
TZOFFSETFROM:+0100
TZOFFSETTO:+0200
TZNAME:CEST
DTSTART:20220327T010000
END:DAYLIGHT
BEGIN:STANDARD
TZOFFSETFROM:+0200
TZOFFSETTO:+0100
TZNAME:CET
DTSTART:20221030T010000
END:STANDARD
BEGIN:DAYLIGHT
TZOFFSETFROM:+0100
TZOFFSETTO:+0200
TZNAME:CEST
DTSTART:20230326T010000
END:DAYLIGHT
BEGIN:STANDARD
TZOFFSETFROM:+0200
TZOFFSETTO:+0100
TZNAME:CET
DTSTART:20231029T010000
END:STANDARD
END:VTIMEZONE
BEGIN:VEVENT
DTSTART;TZID=Europe/Madrid:20220323T190000
DTEND;TZID=Europe/Madrid:20220323T201500
DTSTAMP:20260422T222255
CREATED:20220224T154617Z
LAST-MODIFIED:20220404T112942Z
UID:10002467-1648062000-1648066500@poblenouurbandistrict.com
SUMMARY:[:ca]Harakiri[:es]Harakiri[:]
DESCRIPTION:Harakiri vol lliurar de tabús i estigmes tot el que envolta el suïcidi per contemplar-lo com una opció racional. A l’escena\, lloc que permet reviure i remorir els morts\, es produeix una cita impossible entre dos adults que\, un dia\, en un petit univers\, van ser mare i fill.
URL:https://poblenouurbandistrict.com/ca/agenda/harakiri/2022-03-23/
LOCATION:Teatre Nacional de Catalunya\, Plaça de les Arts\, 1\, Barcelona\, 08013
CATEGORIES:Teatre
ATTACH;FMTTYPE=image/jpeg:https://media.poblenouurbandistrict.com/2022/02/25044911/diseno-sin-titulo-12-2.jpg
END:VEVENT
BEGIN:VEVENT
DTSTART;TZID=Europe/Madrid:20220323T200000
DTEND;TZID=Europe/Madrid:20220323T213000
DTSTAMP:20260422T222255
CREATED:20220223T171121Z
LAST-MODIFIED:20220404T113643Z
UID:10002444-1648065600-1648071000@poblenouurbandistrict.com
SUMMARY:[:ca]Obsolescència programada[:es]Obsolescencia programada[:]
DESCRIPTION:Una dona\, al voltant de la cinquantena\, entra en una botiga d’electrodomèstics\, dona una ullada i marxa. La mateixa dona\, poc després\, hi torna a entrar\, fa una pregunta a la dependenta i marxa. Vivim en el món de l’obsolescència programada\, quan una rentadora s’espatlla o es fa vella\, de seguida la canviem per una de nova. I això és el que pensem que vol fer aquesta dona: comprar una rentadora. Però no\, no té cap intenció de comprar res. Llavors\, per què hi torna a entrar una tercera vegada? \n\n\nAutora\nAnna Maria Ricart Codina\nDirecció\nMònica Bofill\n\nDimecres\, Dissabtes i Diumenges
URL:https://poblenouurbandistrict.com/ca/agenda/obsolescencia-programada/2022-03-23/
LOCATION:Sala Beckett\, C. de Pere IV\, 228\, 232\, Barcelona\, Barcelona\, 08005
CATEGORIES:Teatre
ATTACH;FMTTYPE=image/jpeg:https://media.poblenouurbandistrict.com/2022/02/25044857/diseno-sin-titulo-10-2.jpg
END:VEVENT
BEGIN:VEVENT
DTSTART;TZID=Europe/Madrid:20220323T203000
DTEND;TZID=Europe/Madrid:20220323T214000
DTSTAMP:20260422T222255
CREATED:20220223T165858Z
LAST-MODIFIED:20220404T115059Z
UID:10002426-1648067400-1648071600@poblenouurbandistrict.com
SUMMARY:[:ca]Teatre: Dels intestins una soga i del cul un sac de gemecs[:es]Teatro: Dels intestins una soga i del cul un sac de gemecs[:]
DESCRIPTION:Dels intestins una soga i del cul un sac de gemecs vol ser una peça on discutir. Un ambient des d’on parlar a crits de la conveniència\, la necessitat i el ferm compromís polític vers la desaparició completa de les persones. \n\nAutor \nÍntims Produccions\n\n\nDirecció \nDavid Climent\n\nDissabtes i Diumenges
URL:https://poblenouurbandistrict.com/ca/agenda/dels-intestins-una-soga-i-del-cul-un-sac-de-gemecs/2022-03-23/
LOCATION:Sala Beckett\, C. de Pere IV\, 228\, 232\, Barcelona\, Barcelona\, 08005
CATEGORIES:Teatre
ATTACH;FMTTYPE=image/jpeg:https://media.poblenouurbandistrict.com/2022/02/25044855/diseno-sin-titulo-9-2.jpg
END:VEVENT
END:VCALENDAR