BEGIN:VCALENDAR
VERSION:2.0
PRODID:-//Poblenou Urban District - ECPv6.15.20//NONSGML v1.0//EN
CALSCALE:GREGORIAN
METHOD:PUBLISH
X-WR-CALNAME:Poblenou Urban District
X-ORIGINAL-URL:https://poblenouurbandistrict.com/ca
X-WR-CALDESC:Esdeveniments per Poblenou Urban District
REFRESH-INTERVAL;VALUE=DURATION:PT1H
X-Robots-Tag:noindex
X-PUBLISHED-TTL:PT1H
BEGIN:VTIMEZONE
TZID:Europe/Madrid
BEGIN:DAYLIGHT
TZOFFSETFROM:+0100
TZOFFSETTO:+0200
TZNAME:CEST
DTSTART:20210328T010000
END:DAYLIGHT
BEGIN:STANDARD
TZOFFSETFROM:+0200
TZOFFSETTO:+0100
TZNAME:CET
DTSTART:20211031T010000
END:STANDARD
BEGIN:DAYLIGHT
TZOFFSETFROM:+0100
TZOFFSETTO:+0200
TZNAME:CEST
DTSTART:20220327T010000
END:DAYLIGHT
BEGIN:STANDARD
TZOFFSETFROM:+0200
TZOFFSETTO:+0100
TZNAME:CET
DTSTART:20221030T010000
END:STANDARD
BEGIN:DAYLIGHT
TZOFFSETFROM:+0100
TZOFFSETTO:+0200
TZNAME:CEST
DTSTART:20230326T010000
END:DAYLIGHT
BEGIN:STANDARD
TZOFFSETFROM:+0200
TZOFFSETTO:+0100
TZNAME:CET
DTSTART:20231029T010000
END:STANDARD
END:VTIMEZONE
BEGIN:VEVENT
DTSTART;TZID=Europe/Madrid:20220403T123000
DTEND;TZID=Europe/Madrid:20220403T133000
DTSTAMP:20260422T202537
CREATED:20220307T094611Z
LAST-MODIFIED:20220307T100615Z
UID:10002629-1648989000-1648992600@poblenouurbandistrict.com
SUMMARY:[:ca]Teatre: Balls literaris[:es]Teatro: Balls literaris[:]
DESCRIPTION:Balls literaris és una proposta diferent en la qual\, durant 48 hores tancats al TNC\, quatre autors escriuran una obra a quatre mans. Passades les 48 hores de creació\, llegiran la peça davant del públic i els convidaran a ballar al final de cada escena. Una festa de balls que uneixen les creativitats dels creadors i del públic.
URL:https://poblenouurbandistrict.com/ca/agenda/taller-balls-literaris/
LOCATION:Teatre Nacional de Catalunya\, Plaça de les Arts\, 1\, Barcelona\, 08013
CATEGORIES:Teatre
ATTACH;FMTTYPE=image/png:https://poblenouurbandistrict.com/wp-content/uploads/2022/03/diseno-sin-titulo-6.jpg
END:VEVENT
BEGIN:VEVENT
DTSTART;TZID=Europe/Madrid:20220403T180000
DTEND;TZID=Europe/Madrid:20220403T191500
DTSTAMP:20260422T202537
CREATED:20221129T165453Z
LAST-MODIFIED:20221129T165453Z
UID:10002485-1649008800-1649013300@poblenouurbandistrict.com
SUMMARY:[:ca]Harakiri[:es]Harakiri[:]
DESCRIPTION:Harakiri vol lliurar de tabús i estigmes tot el que envolta el suïcidi per contemplar-lo com una opció racional. A l’escena\, lloc que permet reviure i remorir els morts\, es produeix una cita impossible entre dos adults que\, un dia\, en un petit univers\, van ser mare i fill.
URL:https://poblenouurbandistrict.com/ca/agenda/harakiri/2022-04-03/
LOCATION:Teatre Nacional de Catalunya\, Plaça de les Arts\, 1\, Barcelona\, 08013
CATEGORIES:Teatre
ATTACH;FMTTYPE=image/jpeg:https://media.poblenouurbandistrict.com/2022/02/25044911/diseno-sin-titulo-12-2.jpg
END:VEVENT
BEGIN:VEVENT
DTSTART;TZID=Europe/Madrid:20220403T180000
DTEND;TZID=Europe/Madrid:20220403T193000
DTSTAMP:20260422T202537
CREATED:20221129T165452Z
LAST-MODIFIED:20221129T165452Z
UID:10002458-1649008800-1649014200@poblenouurbandistrict.com
SUMMARY:[:ca]Obsolescència programada[:es]Obsolescencia programada[:]
DESCRIPTION:Una dona\, al voltant de la cinquantena\, entra en una botiga d’electrodomèstics\, dona una ullada i marxa. La mateixa dona\, poc després\, hi torna a entrar\, fa una pregunta a la dependenta i marxa. Vivim en el món de l’obsolescència programada\, quan una rentadora s’espatlla o es fa vella\, de seguida la canviem per una de nova. I això és el que pensem que vol fer aquesta dona: comprar una rentadora. Però no\, no té cap intenció de comprar res. Llavors\, per què hi torna a entrar una tercera vegada? \n\n\nAutora\nAnna Maria Ricart Codina\nDirecció\nMònica Bofill\n\nDimecres\, Dissabtes i Diumenges
URL:https://poblenouurbandistrict.com/ca/agenda/obsolescencia-programada/2022-04-03/
LOCATION:Sala Beckett\, C. de Pere IV\, 228\, 232\, Barcelona\, Barcelona\, 08005
CATEGORIES:Teatre
ATTACH;FMTTYPE=image/jpeg:https://media.poblenouurbandistrict.com/2022/02/25044857/diseno-sin-titulo-10-2.jpg
END:VEVENT
BEGIN:VEVENT
DTSTART;TZID=Europe/Madrid:20220403T180000
DTEND;TZID=Europe/Madrid:20220403T210000
DTSTAMP:20260422T202537
CREATED:20220224T160857Z
LAST-MODIFIED:20220404T111600Z
UID:10002493-1649008800-1649019600@poblenouurbandistrict.com
SUMMARY:[:ca]Macbett[:es]Macbett[:]
DESCRIPTION:El Macbett de Ionesco converteix el Macbeth de Shakespeare en un relat còmic d’ambició\, corrupció\, covardia i excés\, tot creant una farsa tràgica que porta la follia humana als seus extrems més salvatges.
URL:https://poblenouurbandistrict.com/ca/agenda/macbett/2022-04-03/
LOCATION:Teatre Nacional de Catalunya\, Plaça de les Arts\, 1\, Barcelona\, 08013
CATEGORIES:Teatre
ATTACH;FMTTYPE=image/jpeg:https://media.poblenouurbandistrict.com/2022/02/25044915/diseno-sin-titulo-14-2.jpg
END:VEVENT
BEGIN:VEVENT
DTSTART;TZID=Europe/Madrid:20220403T183000
DTEND;TZID=Europe/Madrid:20220403T194000
DTSTAMP:20260422T202537
CREATED:20221129T165451Z
LAST-MODIFIED:20221129T165451Z
UID:10002437-1649010600-1649014800@poblenouurbandistrict.com
SUMMARY:[:ca]Teatre: Dels intestins una soga i del cul un sac de gemecs[:es]Teatro: Dels intestins una soga i del cul un sac de gemecs[:]
DESCRIPTION:Dels intestins una soga i del cul un sac de gemecs vol ser una peça on discutir. Un ambient des d’on parlar a crits de la conveniència\, la necessitat i el ferm compromís polític vers la desaparició completa de les persones. \n\nAutor \nÍntims Produccions\n\n\nDirecció \nDavid Climent\n\nDissabtes i Diumenges
URL:https://poblenouurbandistrict.com/ca/agenda/dels-intestins-una-soga-i-del-cul-un-sac-de-gemecs/2022-04-03/
LOCATION:Sala Beckett\, C. de Pere IV\, 228\, 232\, Barcelona\, Barcelona\, 08005
CATEGORIES:Teatre
ATTACH;FMTTYPE=image/jpeg:https://media.poblenouurbandistrict.com/2022/02/25044855/diseno-sin-titulo-9-2.jpg
END:VEVENT
END:VCALENDAR