BEGIN:VCALENDAR
VERSION:2.0
PRODID:-//Poblenou Urban District - ECPv6.15.20//NONSGML v1.0//EN
CALSCALE:GREGORIAN
METHOD:PUBLISH
X-ORIGINAL-URL:https://poblenouurbandistrict.com/ca
X-WR-CALDESC:Esdeveniments per Poblenou Urban District
REFRESH-INTERVAL;VALUE=DURATION:PT1H
X-Robots-Tag:noindex
X-PUBLISHED-TTL:PT1H
BEGIN:VTIMEZONE
TZID:Europe/Madrid
BEGIN:DAYLIGHT
TZOFFSETFROM:+0100
TZOFFSETTO:+0200
TZNAME:CEST
DTSTART:20210328T010000
END:DAYLIGHT
BEGIN:STANDARD
TZOFFSETFROM:+0200
TZOFFSETTO:+0100
TZNAME:CET
DTSTART:20211031T010000
END:STANDARD
BEGIN:DAYLIGHT
TZOFFSETFROM:+0100
TZOFFSETTO:+0200
TZNAME:CEST
DTSTART:20220327T010000
END:DAYLIGHT
BEGIN:STANDARD
TZOFFSETFROM:+0200
TZOFFSETTO:+0100
TZNAME:CET
DTSTART:20221030T010000
END:STANDARD
BEGIN:DAYLIGHT
TZOFFSETFROM:+0100
TZOFFSETTO:+0200
TZNAME:CEST
DTSTART:20230326T010000
END:DAYLIGHT
BEGIN:STANDARD
TZOFFSETFROM:+0200
TZOFFSETTO:+0100
TZNAME:CET
DTSTART:20231029T010000
END:STANDARD
END:VTIMEZONE
BEGIN:VEVENT
DTSTART;TZID=Europe/Madrid:20220414T190000
DTEND;TZID=Europe/Madrid:20220414T201500
DTSTAMP:20260422T202627
CREATED:20220224T154617Z
LAST-MODIFIED:20220404T112942Z
UID:10002480-1649962800-1649967300@poblenouurbandistrict.com
SUMMARY:[:ca]Harakiri[:es]Harakiri[:]
DESCRIPTION:Harakiri vol lliurar de tabús i estigmes tot el que envolta el suïcidi per contemplar-lo com una opció racional. A l’escena\, lloc que permet reviure i remorir els morts\, es produeix una cita impossible entre dos adults que\, un dia\, en un petit univers\, van ser mare i fill.
URL:https://poblenouurbandistrict.com/ca/agenda/harakiri/2022-04-14/
LOCATION:Teatre Nacional de Catalunya\, Plaça de les Arts\, 1\, Barcelona\, 08013
CATEGORIES:Teatre
ATTACH;FMTTYPE=image/jpeg:https://media.poblenouurbandistrict.com/2022/02/25044911/diseno-sin-titulo-12-2.jpg
END:VEVENT
BEGIN:VEVENT
DTSTART;TZID=Europe/Madrid:20220414T190000
DTEND;TZID=Europe/Madrid:20220414T220000
DTSTAMP:20260422T202627
CREATED:20221129T165454Z
LAST-MODIFIED:20221129T165454Z
UID:10002506-1649962800-1649973600@poblenouurbandistrict.com
SUMMARY:[:ca]Macbett[:es]Macbett[:]
DESCRIPTION:El Macbett de Ionesco converteix el Macbeth de Shakespeare en un relat còmic d’ambició\, corrupció\, covardia i excés\, tot creant una farsa tràgica que porta la follia humana als seus extrems més salvatges.
URL:https://poblenouurbandistrict.com/ca/agenda/macbett/2022-04-14/
LOCATION:Teatre Nacional de Catalunya\, Plaça de les Arts\, 1\, Barcelona\, 08013
CATEGORIES:Teatre
ATTACH;FMTTYPE=image/jpeg:https://media.poblenouurbandistrict.com/2022/02/25044915/diseno-sin-titulo-14-2.jpg
END:VEVENT
END:VCALENDAR