BEGIN:VCALENDAR
VERSION:2.0
PRODID:-//Poblenou Urban District - ECPv6.15.20//NONSGML v1.0//EN
CALSCALE:GREGORIAN
METHOD:PUBLISH
X-WR-CALNAME:Poblenou Urban District
X-ORIGINAL-URL:https://poblenouurbandistrict.com/ca
X-WR-CALDESC:Esdeveniments per Poblenou Urban District
REFRESH-INTERVAL;VALUE=DURATION:PT1H
X-Robots-Tag:noindex
X-PUBLISHED-TTL:PT1H
BEGIN:VTIMEZONE
TZID:Europe/Madrid
BEGIN:DAYLIGHT
TZOFFSETFROM:+0100
TZOFFSETTO:+0200
TZNAME:CEST
DTSTART:20210328T010000
END:DAYLIGHT
BEGIN:STANDARD
TZOFFSETFROM:+0200
TZOFFSETTO:+0100
TZNAME:CET
DTSTART:20211031T010000
END:STANDARD
BEGIN:DAYLIGHT
TZOFFSETFROM:+0100
TZOFFSETTO:+0200
TZNAME:CEST
DTSTART:20220327T010000
END:DAYLIGHT
BEGIN:STANDARD
TZOFFSETFROM:+0200
TZOFFSETTO:+0100
TZNAME:CET
DTSTART:20221030T010000
END:STANDARD
BEGIN:DAYLIGHT
TZOFFSETFROM:+0100
TZOFFSETTO:+0200
TZNAME:CEST
DTSTART:20230326T010000
END:DAYLIGHT
BEGIN:STANDARD
TZOFFSETFROM:+0200
TZOFFSETTO:+0100
TZNAME:CET
DTSTART:20231029T010000
END:STANDARD
END:VTIMEZONE
BEGIN:VEVENT
DTSTART;TZID=Europe/Madrid:20220423T113000
DTEND;TZID=Europe/Madrid:20220423T133000
DTSTAMP:20260422T202538
CREATED:20220224T162032Z
LAST-MODIFIED:20220404T112628Z
UID:10002527-1650713400-1650720600@poblenouurbandistrict.com
SUMMARY:[:ca]Taller: Objectes que creen objectes[:es]Taller: Objetos que crean objetos[:]
DESCRIPTION:Us convidem al Museu del Disseny a descobrir un procés de producció industrial molt habitual en els objectes que tenim a casa: el treball amb motlles.
URL:https://poblenouurbandistrict.com/ca/agenda/taller-objectes-que-creen-objectes/2022-04-23/
LOCATION:Museu del Disseny\, Plaça de les Glòries Catalanes\,\, 37\, Barcelona\, Barcelona\, 08018\, Espanya
CATEGORIES:Taller,Teatre
ATTACH;FMTTYPE=image/jpeg:https://media.poblenouurbandistrict.com/2022/02/25044917/diseno-sin-titulo-15-2.jpg
END:VEVENT
BEGIN:VEVENT
DTSTART;TZID=Europe/Madrid:20220423T190000
DTEND;TZID=Europe/Madrid:20220423T220000
DTSTAMP:20260422T202538
CREATED:20221129T165454Z
LAST-MODIFIED:20221129T165454Z
UID:10002512-1650740400-1650751200@poblenouurbandistrict.com
SUMMARY:[:ca]Macbett[:es]Macbett[:]
DESCRIPTION:El Macbett de Ionesco converteix el Macbeth de Shakespeare en un relat còmic d’ambició\, corrupció\, covardia i excés\, tot creant una farsa tràgica que porta la follia humana als seus extrems més salvatges.
URL:https://poblenouurbandistrict.com/ca/agenda/macbett/2022-04-23/
LOCATION:Teatre Nacional de Catalunya\, Plaça de les Arts\, 1\, Barcelona\, 08013
CATEGORIES:Teatre
ATTACH;FMTTYPE=image/jpeg:https://media.poblenouurbandistrict.com/2022/02/25044915/diseno-sin-titulo-14-2.jpg
END:VEVENT
BEGIN:VEVENT
DTSTART;TZID=Europe/Madrid:20220423T190000
DTEND;TZID=Europe/Madrid:20220423T223000
DTSTAMP:20260422T202538
CREATED:20220324T155110Z
LAST-MODIFIED:20220404T083614Z
UID:10002905-1650740400-1650753000@poblenouurbandistrict.com
SUMMARY:[:ca]Teatre: Els homes i els dies[:es]Teatro: Els homes i els dies[:]
DESCRIPTION:Els homes i els dies és l’autobiografia pòstuma de David Vilaseca\, on trobem una veu poderosa i una literatura provocadora i estimulant.
URL:https://poblenouurbandistrict.com/ca/agenda/teatre-els-homes-i-els-dies/2022-04-23/
LOCATION:Teatre Nacional de Catalunya\, Plaça de les Arts\, 1\, Barcelona\, 08013
CATEGORIES:Teatre
ATTACH;FMTTYPE=image/jpeg:https://media.poblenouurbandistrict.com/2022/03/25045759/pud-agenda-2-5.jpg
END:VEVENT
BEGIN:VEVENT
DTSTART;TZID=Europe/Madrid:20220423T203000
DTEND;TZID=Europe/Madrid:20220423T223000
DTSTAMP:20260422T202538
CREATED:20220324T152232Z
LAST-MODIFIED:20220404T100939Z
UID:10002859-1650745800-1650753000@poblenouurbandistrict.com
SUMMARY:[:ca]Espectacle: La màquina de parlar[:es]Espectáculo: La màquina de parlar[:]
DESCRIPTION:La Sala Beckett presenta La màquina de parlar\, un text de la Victoria Szpunberg que relata una història cruel i romàntica on les màquines i les emocions es fonen en una espiral d’esdeveniments al límit de l’existència. \nDe dimecres a dissabte\, 20:30h\nDiumenge\, 18:30h
URL:https://poblenouurbandistrict.com/ca/agenda/espectacle-la-maquina-de-parlar/2022-04-23/
LOCATION:Sala Beckett\, C. de Pere IV\, 228\, 232\, Barcelona\, Barcelona\, 08005
CATEGORIES:Teatre
ATTACH;FMTTYPE=image/jpeg:https://media.poblenouurbandistrict.com/2022/03/25045755/pud-agenda-18.jpg
END:VEVENT
END:VCALENDAR