BEGIN:VCALENDAR
VERSION:2.0
PRODID:-//Poblenou Urban District - ECPv6.15.20//NONSGML v1.0//EN
CALSCALE:GREGORIAN
METHOD:PUBLISH
X-WR-CALNAME:Poblenou Urban District
X-ORIGINAL-URL:https://poblenouurbandistrict.com/ca
X-WR-CALDESC:Esdeveniments per Poblenou Urban District
REFRESH-INTERVAL;VALUE=DURATION:PT1H
X-Robots-Tag:noindex
X-PUBLISHED-TTL:PT1H
BEGIN:VTIMEZONE
TZID:Europe/Madrid
BEGIN:DAYLIGHT
TZOFFSETFROM:+0100
TZOFFSETTO:+0200
TZNAME:CEST
DTSTART:20210328T010000
END:DAYLIGHT
BEGIN:STANDARD
TZOFFSETFROM:+0200
TZOFFSETTO:+0100
TZNAME:CET
DTSTART:20211031T010000
END:STANDARD
BEGIN:DAYLIGHT
TZOFFSETFROM:+0100
TZOFFSETTO:+0200
TZNAME:CEST
DTSTART:20220327T010000
END:DAYLIGHT
BEGIN:STANDARD
TZOFFSETFROM:+0200
TZOFFSETTO:+0100
TZNAME:CET
DTSTART:20221030T010000
END:STANDARD
BEGIN:DAYLIGHT
TZOFFSETFROM:+0100
TZOFFSETTO:+0200
TZNAME:CEST
DTSTART:20230326T010000
END:DAYLIGHT
BEGIN:STANDARD
TZOFFSETFROM:+0200
TZOFFSETTO:+0100
TZNAME:CET
DTSTART:20231029T010000
END:STANDARD
END:VTIMEZONE
BEGIN:VEVENT
DTSTART;TZID=Europe/Madrid:20220428T100000
DTEND;TZID=Europe/Madrid:20220428T110000
DTSTAMP:20260422T180836
CREATED:20220324T160020Z
LAST-MODIFIED:20220404T102413Z
UID:10002933-1651140000-1651143600@poblenouurbandistrict.com
SUMMARY:[:ca]Teatre: Bye bye\, Confetti[:es]Teatro: Bye bye\, Confetti[:]
DESCRIPTION:Bye bye\, Confetti\, una història de pallassos tendra i divertida amb el segell de qualitat de La Baldufa. \nDimecres\, dijous i divendres a les 10 h (Funció escolar)\nDissabte a les 17 h\nDiumenge a les 12 h
URL:https://poblenouurbandistrict.com/ca/agenda/teatre-bye-bye-confetti/2022-04-28/
LOCATION:Teatre Nacional de Catalunya\, Plaça de les Arts\, 1\, Barcelona\, 08013
CATEGORIES:Teatre
ATTACH;FMTTYPE=image/jpeg:https://media.poblenouurbandistrict.com/2022/03/25045800/screenshot-2022-03-24-at-165640.jpg
END:VEVENT
BEGIN:VEVENT
DTSTART;TZID=Europe/Madrid:20220428T190000
DTEND;TZID=Europe/Madrid:20220428T223000
DTSTAMP:20260422T180836
CREATED:20220324T155110Z
LAST-MODIFIED:20220404T083614Z
UID:10002907-1651172400-1651185000@poblenouurbandistrict.com
SUMMARY:[:ca]Teatre: Els homes i els dies[:es]Teatro: Els homes i els dies[:]
DESCRIPTION:Els homes i els dies és l’autobiografia pòstuma de David Vilaseca\, on trobem una veu poderosa i una literatura provocadora i estimulant.
URL:https://poblenouurbandistrict.com/ca/agenda/teatre-els-homes-i-els-dies/2022-04-28/
LOCATION:Teatre Nacional de Catalunya\, Plaça de les Arts\, 1\, Barcelona\, 08013
CATEGORIES:Teatre
ATTACH;FMTTYPE=image/jpeg:https://media.poblenouurbandistrict.com/2022/03/25045759/pud-agenda-2-5.jpg
END:VEVENT
BEGIN:VEVENT
DTSTART;TZID=Europe/Madrid:20220428T200000
DTEND;TZID=Europe/Madrid:20220428T213000
DTSTAMP:20260422T180836
CREATED:20220324T152802Z
LAST-MODIFIED:20220404T103010Z
UID:10002871-1651176000-1651181400@poblenouurbandistrict.com
SUMMARY:[:ca]Espectacle: L’altre[:es]Espectáculo: L’altre[:]
DESCRIPTION:L’altre és un joc provocatiu\, divertit\, enginyós i ple de sorpreses que aborda la relació entre tecnologia i deshumanització. \nDe dimecres a dissabte\, 20h\nDiumenge\, 18h
URL:https://poblenouurbandistrict.com/ca/agenda/espectacle-laltre/2022-04-28/
LOCATION:Sala Beckett\, C. de Pere IV\, 228\, 232\, Barcelona\, Barcelona\, 08005
CATEGORIES:Teatre
ATTACH;FMTTYPE=image/jpeg:https://media.poblenouurbandistrict.com/2022/03/25045756/screenshot-2022-03-24-at-162729.jpg
END:VEVENT
BEGIN:VEVENT
DTSTART;TZID=Europe/Madrid:20220428T203000
DTEND;TZID=Europe/Madrid:20220428T223000
DTSTAMP:20260422T180836
CREATED:20220324T152232Z
LAST-MODIFIED:20220404T100939Z
UID:10002861-1651177800-1651185000@poblenouurbandistrict.com
SUMMARY:[:ca]Espectacle: La màquina de parlar[:es]Espectáculo: La màquina de parlar[:]
DESCRIPTION:La Sala Beckett presenta La màquina de parlar\, un text de la Victoria Szpunberg que relata una història cruel i romàntica on les màquines i les emocions es fonen en una espiral d’esdeveniments al límit de l’existència. \nDe dimecres a dissabte\, 20:30h\nDiumenge\, 18:30h
URL:https://poblenouurbandistrict.com/ca/agenda/espectacle-la-maquina-de-parlar/2022-04-28/
LOCATION:Sala Beckett\, C. de Pere IV\, 228\, 232\, Barcelona\, Barcelona\, 08005
CATEGORIES:Teatre
ATTACH;FMTTYPE=image/jpeg:https://media.poblenouurbandistrict.com/2022/03/25045755/pud-agenda-18.jpg
END:VEVENT
END:VCALENDAR