BEGIN:VCALENDAR
VERSION:2.0
PRODID:-//Poblenou Urban District - ECPv6.15.20//NONSGML v1.0//EN
CALSCALE:GREGORIAN
METHOD:PUBLISH
X-ORIGINAL-URL:https://poblenouurbandistrict.com/ca
X-WR-CALDESC:Esdeveniments per Poblenou Urban District
REFRESH-INTERVAL;VALUE=DURATION:PT1H
X-Robots-Tag:noindex
X-PUBLISHED-TTL:PT1H
BEGIN:VTIMEZONE
TZID:Europe/Madrid
BEGIN:DAYLIGHT
TZOFFSETFROM:+0100
TZOFFSETTO:+0200
TZNAME:CEST
DTSTART:20210328T010000
END:DAYLIGHT
BEGIN:STANDARD
TZOFFSETFROM:+0200
TZOFFSETTO:+0100
TZNAME:CET
DTSTART:20211031T010000
END:STANDARD
BEGIN:DAYLIGHT
TZOFFSETFROM:+0100
TZOFFSETTO:+0200
TZNAME:CEST
DTSTART:20220327T010000
END:DAYLIGHT
BEGIN:STANDARD
TZOFFSETFROM:+0200
TZOFFSETTO:+0100
TZNAME:CET
DTSTART:20221030T010000
END:STANDARD
BEGIN:DAYLIGHT
TZOFFSETFROM:+0100
TZOFFSETTO:+0200
TZNAME:CEST
DTSTART:20230326T010000
END:DAYLIGHT
BEGIN:STANDARD
TZOFFSETFROM:+0200
TZOFFSETTO:+0100
TZNAME:CET
DTSTART:20231029T010000
END:STANDARD
END:VTIMEZONE
BEGIN:VEVENT
DTSTART;TZID=Europe/Madrid:20220429T100000
DTEND;TZID=Europe/Madrid:20220429T110000
DTSTAMP:20260422T182636
CREATED:20220324T160020Z
LAST-MODIFIED:20220404T102413Z
UID:10002934-1651226400-1651230000@poblenouurbandistrict.com
SUMMARY:[:ca]Teatre: Bye bye\, Confetti[:es]Teatro: Bye bye\, Confetti[:]
DESCRIPTION:Bye bye\, Confetti\, una història de pallassos tendra i divertida amb el segell de qualitat de La Baldufa. \nDimecres\, dijous i divendres a les 10 h (Funció escolar)\nDissabte a les 17 h\nDiumenge a les 12 h
URL:https://poblenouurbandistrict.com/ca/agenda/teatre-bye-bye-confetti/2022-04-29/
LOCATION:Teatre Nacional de Catalunya\, Plaça de les Arts\, 1\, Barcelona\, 08013
CATEGORIES:Teatre
ATTACH;FMTTYPE=image/jpeg:https://media.poblenouurbandistrict.com/2022/03/25045800/screenshot-2022-03-24-at-165640.jpg
END:VEVENT
BEGIN:VEVENT
DTSTART;TZID=Europe/Madrid:20220429T190000
DTEND;TZID=Europe/Madrid:20220429T223000
DTSTAMP:20260422T182636
CREATED:20220324T155110Z
LAST-MODIFIED:20220404T083614Z
UID:10002908-1651258800-1651271400@poblenouurbandistrict.com
SUMMARY:[:ca]Teatre: Els homes i els dies[:es]Teatro: Els homes i els dies[:]
DESCRIPTION:Els homes i els dies és l’autobiografia pòstuma de David Vilaseca\, on trobem una veu poderosa i una literatura provocadora i estimulant.
URL:https://poblenouurbandistrict.com/ca/agenda/teatre-els-homes-i-els-dies/2022-04-29/
LOCATION:Teatre Nacional de Catalunya\, Plaça de les Arts\, 1\, Barcelona\, 08013
CATEGORIES:Teatre
ATTACH;FMTTYPE=image/jpeg:https://media.poblenouurbandistrict.com/2022/03/25045759/pud-agenda-2-5.jpg
END:VEVENT
BEGIN:VEVENT
DTSTART;TZID=Europe/Madrid:20220429T200000
DTEND;TZID=Europe/Madrid:20220429T213000
DTSTAMP:20260422T182636
CREATED:20220324T152802Z
LAST-MODIFIED:20220404T103010Z
UID:10002872-1651262400-1651267800@poblenouurbandistrict.com
SUMMARY:[:ca]Espectacle: L’altre[:es]Espectáculo: L’altre[:]
DESCRIPTION:L’altre és un joc provocatiu\, divertit\, enginyós i ple de sorpreses que aborda la relació entre tecnologia i deshumanització. \nDe dimecres a dissabte\, 20h\nDiumenge\, 18h
URL:https://poblenouurbandistrict.com/ca/agenda/espectacle-laltre/2022-04-29/
LOCATION:Sala Beckett\, C. de Pere IV\, 228\, 232\, Barcelona\, Barcelona\, 08005
CATEGORIES:Teatre
ATTACH;FMTTYPE=image/jpeg:https://media.poblenouurbandistrict.com/2022/03/25045756/screenshot-2022-03-24-at-162729.jpg
END:VEVENT
BEGIN:VEVENT
DTSTART;TZID=Europe/Madrid:20220429T200000
DTEND;TZID=Europe/Madrid:20220429T213000
DTSTAMP:20260422T182636
CREATED:20220325T122900Z
LAST-MODIFIED:20220325T122942Z
UID:10002698-1651262400-1651267800@poblenouurbandistrict.com
SUMMARY:[:ca]Teatre: Elles[:es]Teatro: Elles[:]
DESCRIPTION:ELLES és una peça d’humor satíric que fa un bon repàs als clixés de gènere i treu a escena\, sense pèls a la llengua\, els temes femenins dels quals ningú parla.
URL:https://poblenouurbandistrict.com/ca/agenda/teatre-elles/
LOCATION:Casino l’aliança del Poblenou\, Rambla del Poblenou\, 42\,\, Barcelona\, Barcelona\, 08005\, Espanya
CATEGORIES:Teatre
ATTACH;FMTTYPE=image/jpeg:https://media.poblenouurbandistrict.com/2022/03/25045831/screenshot-2022-03-25-at-132826.jpg
END:VEVENT
BEGIN:VEVENT
DTSTART;TZID=Europe/Madrid:20220429T203000
DTEND;TZID=Europe/Madrid:20220429T223000
DTSTAMP:20260422T182636
CREATED:20220324T152232Z
LAST-MODIFIED:20220404T100939Z
UID:10002862-1651264200-1651271400@poblenouurbandistrict.com
SUMMARY:[:ca]Espectacle: La màquina de parlar[:es]Espectáculo: La màquina de parlar[:]
DESCRIPTION:La Sala Beckett presenta La màquina de parlar\, un text de la Victoria Szpunberg que relata una història cruel i romàntica on les màquines i les emocions es fonen en una espiral d’esdeveniments al límit de l’existència. \nDe dimecres a dissabte\, 20:30h\nDiumenge\, 18:30h
URL:https://poblenouurbandistrict.com/ca/agenda/espectacle-la-maquina-de-parlar/2022-04-29/
LOCATION:Sala Beckett\, C. de Pere IV\, 228\, 232\, Barcelona\, Barcelona\, 08005
CATEGORIES:Teatre
ATTACH;FMTTYPE=image/jpeg:https://media.poblenouurbandistrict.com/2022/03/25045755/pud-agenda-18.jpg
END:VEVENT
END:VCALENDAR