BEGIN:VCALENDAR
VERSION:2.0
PRODID:-//Poblenou Urban District - ECPv6.15.20//NONSGML v1.0//EN
CALSCALE:GREGORIAN
METHOD:PUBLISH
X-ORIGINAL-URL:https://poblenouurbandistrict.com/ca
X-WR-CALDESC:Esdeveniments per Poblenou Urban District
REFRESH-INTERVAL;VALUE=DURATION:PT1H
X-Robots-Tag:noindex
X-PUBLISHED-TTL:PT1H
BEGIN:VTIMEZONE
TZID:Europe/Madrid
BEGIN:DAYLIGHT
TZOFFSETFROM:+0100
TZOFFSETTO:+0200
TZNAME:CEST
DTSTART:20210328T010000
END:DAYLIGHT
BEGIN:STANDARD
TZOFFSETFROM:+0200
TZOFFSETTO:+0100
TZNAME:CET
DTSTART:20211031T010000
END:STANDARD
BEGIN:DAYLIGHT
TZOFFSETFROM:+0100
TZOFFSETTO:+0200
TZNAME:CEST
DTSTART:20220327T010000
END:DAYLIGHT
BEGIN:STANDARD
TZOFFSETFROM:+0200
TZOFFSETTO:+0100
TZNAME:CET
DTSTART:20221030T010000
END:STANDARD
BEGIN:DAYLIGHT
TZOFFSETFROM:+0100
TZOFFSETTO:+0200
TZNAME:CEST
DTSTART:20230326T010000
END:DAYLIGHT
BEGIN:STANDARD
TZOFFSETFROM:+0200
TZOFFSETTO:+0100
TZNAME:CET
DTSTART:20231029T010000
END:STANDARD
END:VTIMEZONE
BEGIN:VEVENT
DTSTART;TZID=Europe/Madrid:20220515T180000
DTEND;TZID=Europe/Madrid:20220515T191500
DTSTAMP:20260422T182733
CREATED:20221129T165547Z
LAST-MODIFIED:20221129T165547Z
UID:10002958-1652637600-1652642100@poblenouurbandistrict.com
SUMMARY:[:ca]Teatre: Patatas fritas falsas[:es]Teatro: Patatas fritas falsas[:]
DESCRIPTION:Agnés Mateus i Quim Tarrida ataquen temes polítics\, socials i diuen les veritats a la cara. Treuen a la llum allò que l’statu quo vol silenciar i posen nom a les víctimes del sistema. \nDimecres\, dijous\, divendres i dissabte a les 19 h\nDiumenge a les 18 h
URL:https://poblenouurbandistrict.com/ca/agenda/teatre-patatas-fritas-falsas/2022-05-15/
LOCATION:Teatre Nacional de Catalunya\, Plaça de les Arts\, 1\, Barcelona\, 08013
CATEGORIES:Teatre
ATTACH;FMTTYPE=image/jpeg:https://media.poblenouurbandistrict.com/2022/03/25045802/pud-agenda-3-5.jpg
END:VEVENT
BEGIN:VEVENT
DTSTART;TZID=Europe/Madrid:20220515T180000
DTEND;TZID=Europe/Madrid:20220515T193000
DTSTAMP:20260422T182733
CREATED:20221129T165546Z
LAST-MODIFIED:20221129T165546Z
UID:10002896-1652637600-1652643000@poblenouurbandistrict.com
SUMMARY:[:ca]Espectacle: L’altre[:es]Espectáculo: L’altre[:]
DESCRIPTION:L’altre és un joc provocatiu\, divertit\, enginyós i ple de sorpreses que aborda la relació entre tecnologia i deshumanització. \nDe dimecres a dissabte\, 20h\nDiumenge\, 18h
URL:https://poblenouurbandistrict.com/ca/agenda/espectacle-laltre/2022-05-15/
LOCATION:Sala Beckett\, C. de Pere IV\, 228\, 232\, Barcelona\, Barcelona\, 08005
CATEGORIES:Teatre
ATTACH;FMTTYPE=image/jpeg:https://media.poblenouurbandistrict.com/2022/03/25045756/screenshot-2022-03-24-at-162729.jpg
END:VEVENT
BEGIN:VEVENT
DTSTART;TZID=Europe/Madrid:20220515T180000
DTEND;TZID=Europe/Madrid:20220515T193000
DTSTAMP:20260422T182733
CREATED:20221129T165548Z
LAST-MODIFIED:20221129T165548Z
UID:10002982-1652637600-1652643000@poblenouurbandistrict.com
SUMMARY:[:ca]Teatre: El pes d’un cos[:es]Teatro: El pes d’un cos[:]
DESCRIPTION:Sinopsi: Una filla ha de cuidar del seu pare qui\, després de patir un ictus\, viu un procés de deteriorament físic i mental que el converteix en un ésser totalment dependent. La manca de recursos econòmics propis i la precarietat que viuen les administracions públiques farà que la situació entri en una mena d’espiral de caiguda lliure. \nDimecres\, dijous\, divendres i dissabte a les 19 h\nDiumenge a les 18 h
URL:https://poblenouurbandistrict.com/ca/agenda/teatre-el-pes-dun-cos/2022-05-15/
LOCATION:Teatre Nacional de Catalunya\, Plaça de les Arts\, 1\, Barcelona\, 08013
CATEGORIES:Teatre
ATTACH;FMTTYPE=image/jpeg:https://media.poblenouurbandistrict.com/2022/03/25045804/screenshot-2022-03-24-at-171122.jpg
END:VEVENT
BEGIN:VEVENT
DTSTART;TZID=Europe/Madrid:20220515T180000
DTEND;TZID=Europe/Madrid:20220515T213000
DTSTAMP:20260422T182733
CREATED:20221129T165546Z
LAST-MODIFIED:20221129T165546Z
UID:10002929-1652637600-1652650200@poblenouurbandistrict.com
SUMMARY:[:ca]Teatre: Els homes i els dies[:es]Teatro: Els homes i els dies[:]
DESCRIPTION:Els homes i els dies és l’autobiografia pòstuma de David Vilaseca\, on trobem una veu poderosa i una literatura provocadora i estimulant.
URL:https://poblenouurbandistrict.com/ca/agenda/teatre-els-homes-i-els-dies/2022-05-15/
LOCATION:Teatre Nacional de Catalunya\, Plaça de les Arts\, 1\, Barcelona\, 08013
CATEGORIES:Teatre
ATTACH;FMTTYPE=image/jpeg:https://media.poblenouurbandistrict.com/2022/03/25045759/pud-agenda-2-5.jpg
END:VEVENT
END:VCALENDAR