BEGIN:VCALENDAR
VERSION:2.0
PRODID:-//Poblenou Urban District - ECPv6.15.20//NONSGML v1.0//EN
CALSCALE:GREGORIAN
METHOD:PUBLISH
X-WR-CALNAME:Poblenou Urban District
X-ORIGINAL-URL:https://poblenouurbandistrict.com/ca
X-WR-CALDESC:Esdeveniments per Poblenou Urban District
REFRESH-INTERVAL;VALUE=DURATION:PT1H
X-Robots-Tag:noindex
X-PUBLISHED-TTL:PT1H
BEGIN:VTIMEZONE
TZID:Europe/Madrid
BEGIN:DAYLIGHT
TZOFFSETFROM:+0100
TZOFFSETTO:+0200
TZNAME:CEST
DTSTART:20210328T010000
END:DAYLIGHT
BEGIN:STANDARD
TZOFFSETFROM:+0200
TZOFFSETTO:+0100
TZNAME:CET
DTSTART:20211031T010000
END:STANDARD
BEGIN:DAYLIGHT
TZOFFSETFROM:+0100
TZOFFSETTO:+0200
TZNAME:CEST
DTSTART:20220327T010000
END:DAYLIGHT
BEGIN:STANDARD
TZOFFSETFROM:+0200
TZOFFSETTO:+0100
TZNAME:CET
DTSTART:20221030T010000
END:STANDARD
BEGIN:DAYLIGHT
TZOFFSETFROM:+0100
TZOFFSETTO:+0200
TZNAME:CEST
DTSTART:20230326T010000
END:DAYLIGHT
BEGIN:STANDARD
TZOFFSETFROM:+0200
TZOFFSETTO:+0100
TZNAME:CET
DTSTART:20231029T010000
END:STANDARD
END:VTIMEZONE
BEGIN:VEVENT
DTSTART;VALUE=DATE:20220521
DTEND;VALUE=DATE:20220522
DTSTAMP:20260422T180917
CREATED:20220324T153609Z
LAST-MODIFIED:20220404T104400Z
UID:10002901-1653091200-1653177599@poblenouurbandistrict.com
SUMMARY:[:ca]Espectacle: WARE Reinforced[:es]Espectáculo: WARE Reinforced[:]
DESCRIPTION:WARE Reinforced és una instal·lació performativa que trasllada les dinàmiques virtuals al món físic.
URL:https://poblenouurbandistrict.com/ca/agenda/espectacle-ware-reinforced/2022-05-21/
LOCATION:Sala Beckett\, C. de Pere IV\, 228\, 232\, Barcelona\, Barcelona\, 08005
CATEGORIES:Teatre
ATTACH;FMTTYPE=image/jpeg:https://media.poblenouurbandistrict.com/2022/03/25045758/pud-agenda-1-5.jpg
END:VEVENT
BEGIN:VEVENT
DTSTART;TZID=Europe/Madrid:20220521T153000
DTEND;TZID=Europe/Madrid:20220521T193000
DTSTAMP:20260422T180917
CREATED:20220520T105732Z
LAST-MODIFIED:20220520T105732Z
UID:10003576-1653147000-1653161400@poblenouurbandistrict.com
SUMMARY:Festival: ENEMIGOS ÍNTIMOS
DESCRIPTION:Torna ENEMIGOS ÍNTIMOS\, el segon Festival d’Arts Escèniques i Improvisació de Si Los Martes Fueran Viernes\, que tindrà lloc en UTOPIA126 el pròxim dissabte 21 de maig de 15:30 a 19:30 hs.
URL:https://poblenouurbandistrict.com/ca/agenda/festival-enemigos-intimos/
LOCATION:Utopia 126\, C/ de Cristóbal de Moura\, Barcelona\, 08019
CATEGORIES:Art,Exposició,Teatre
ATTACH;FMTTYPE=image/jpeg:https://media.poblenouurbandistrict.com/2022/05/25051851/enemigosintimosfinal.jpg
END:VEVENT
BEGIN:VEVENT
DTSTART;TZID=Europe/Madrid:20220521T190000
DTEND;TZID=Europe/Madrid:20220521T201500
DTSTAMP:20260422T180917
CREATED:20220324T160626Z
LAST-MODIFIED:20220404T103748Z
UID:10002952-1653159600-1653164100@poblenouurbandistrict.com
SUMMARY:[:ca]Teatre: Patatas fritas falsas[:es]Teatro: Patatas fritas falsas[:]
DESCRIPTION:Agnés Mateus i Quim Tarrida ataquen temes polítics\, socials i diuen les veritats a la cara. Treuen a la llum allò que l’statu quo vol silenciar i posen nom a les víctimes del sistema. \nDimecres\, dijous\, divendres i dissabte a les 19 h\nDiumenge a les 18 h
URL:https://poblenouurbandistrict.com/ca/agenda/teatre-patatas-fritas-falsas/2022-05-21/
LOCATION:Teatre Nacional de Catalunya\, Plaça de les Arts\, 1\, Barcelona\, 08013
CATEGORIES:Teatre
ATTACH;FMTTYPE=image/jpeg:https://media.poblenouurbandistrict.com/2022/03/25045802/pud-agenda-3-5.jpg
END:VEVENT
BEGIN:VEVENT
DTSTART;TZID=Europe/Madrid:20220521T190000
DTEND;TZID=Europe/Madrid:20220521T203000
DTSTAMP:20260422T180917
CREATED:20220324T161208Z
LAST-MODIFIED:20220404T104104Z
UID:10002969-1653159600-1653165000@poblenouurbandistrict.com
SUMMARY:[:ca]Teatre: El pes d’un cos[:es]Teatro: El pes d’un cos[:]
DESCRIPTION:Sinopsi: Una filla ha de cuidar del seu pare qui\, després de patir un ictus\, viu un procés de deteriorament físic i mental que el converteix en un ésser totalment dependent. La manca de recursos econòmics propis i la precarietat que viuen les administracions públiques farà que la situació entri en una mena d’espiral de caiguda lliure. \nDimecres\, dijous\, divendres i dissabte a les 19 h\nDiumenge a les 18 h
URL:https://poblenouurbandistrict.com/ca/agenda/teatre-el-pes-dun-cos/2022-05-21/
LOCATION:Teatre Nacional de Catalunya\, Plaça de les Arts\, 1\, Barcelona\, 08013
CATEGORIES:Teatre
ATTACH;FMTTYPE=image/jpeg:https://media.poblenouurbandistrict.com/2022/03/25045804/screenshot-2022-03-24-at-171122.jpg
END:VEVENT
BEGIN:VEVENT
DTSTART;TZID=Europe/Madrid:20220521T190000
DTEND;TZID=Europe/Madrid:20220521T223000
DTSTAMP:20260422T180917
CREATED:20220324T155110Z
LAST-MODIFIED:20220404T083614Z
UID:10002921-1653159600-1653172200@poblenouurbandistrict.com
SUMMARY:[:ca]Teatre: Els homes i els dies[:es]Teatro: Els homes i els dies[:]
DESCRIPTION:Els homes i els dies és l’autobiografia pòstuma de David Vilaseca\, on trobem una veu poderosa i una literatura provocadora i estimulant.
URL:https://poblenouurbandistrict.com/ca/agenda/teatre-els-homes-i-els-dies/2022-05-21/
LOCATION:Teatre Nacional de Catalunya\, Plaça de les Arts\, 1\, Barcelona\, 08013
CATEGORIES:Teatre
ATTACH;FMTTYPE=image/jpeg:https://media.poblenouurbandistrict.com/2022/03/25045759/pud-agenda-2-5.jpg
END:VEVENT
BEGIN:VEVENT
DTSTART;TZID=Europe/Madrid:20220521T200000
DTEND;TZID=Europe/Madrid:20220521T210000
DTSTAMP:20260422T180917
CREATED:20220505T162940Z
LAST-MODIFIED:20220505T162940Z
UID:10003346-1653163200-1653166800@poblenouurbandistrict.com
SUMMARY:[:ca]Monòleg: Más o menos[:es]Monólogo: Más o menos[:en]Monologue: Más o menos[:]
DESCRIPTION:“Más o menos” d’Aldo Nicolaj (1920 Fossano-2004 Orbetello) és el monòleg d’una dona sense passat. Una dona sense memòria\, sense nom\, sense adreça\, que\, entre angoixes fantasies i sorna\, s’endinsa a la recerca d’ella mateixa en un laberint d’abismes i desproporció.
URL:https://poblenouurbandistrict.com/ca/agenda/monoleg-mas-o-menos/2022-05-21/
LOCATION:Utopia 126\, C/ de Cristóbal de Moura\, Barcelona\, 08019
CATEGORIES:Teatre
ATTACH;FMTTYPE=image/jpeg:https://media.poblenouurbandistrict.com/2022/05/25051140/screenshot-2022-05-05-at-182911.jpg
END:VEVENT
BEGIN:VEVENT
DTSTART;TZID=Europe/Madrid:20220521T200000
DTEND;TZID=Europe/Madrid:20220521T213000
DTSTAMP:20260422T180917
CREATED:20220324T152802Z
LAST-MODIFIED:20220404T103010Z
UID:10002885-1653163200-1653168600@poblenouurbandistrict.com
SUMMARY:[:ca]Espectacle: L’altre[:es]Espectáculo: L’altre[:]
DESCRIPTION:L’altre és un joc provocatiu\, divertit\, enginyós i ple de sorpreses que aborda la relació entre tecnologia i deshumanització. \nDe dimecres a dissabte\, 20h\nDiumenge\, 18h
URL:https://poblenouurbandistrict.com/ca/agenda/espectacle-laltre/2022-05-21/
LOCATION:Sala Beckett\, C. de Pere IV\, 228\, 232\, Barcelona\, Barcelona\, 08005
CATEGORIES:Teatre
ATTACH;FMTTYPE=image/jpeg:https://media.poblenouurbandistrict.com/2022/03/25045756/screenshot-2022-03-24-at-162729.jpg
END:VEVENT
BEGIN:VEVENT
DTSTART;TZID=Europe/Madrid:20220521T210000
DTEND;TZID=Europe/Madrid:20220521T223000
DTSTAMP:20260422T180917
CREATED:20220411T110730Z
LAST-MODIFIED:20220411T110730Z
UID:10002768-1653166800-1653172200@poblenouurbandistrict.com
SUMMARY:[:ca]Concert: Luciano Pereyra[:es]Concierto: Luciano Pereyra[:en]Concert: Luciano Pereyra[:]
DESCRIPTION:Luciano Pereyra torna als escenaris presentant nou àlbum i nou xou amb el seu Tour “De Hoy En Adelante” al Teatre Casino L’Aliança.
URL:https://poblenouurbandistrict.com/ca/agenda/concert-luciano-pereyra/
LOCATION:Casino l’aliança del Poblenou\, Rambla del Poblenou\, 42\,\, Barcelona\, Barcelona\, 08005\, Espanya
CATEGORIES:Música,Teatre
ATTACH;FMTTYPE=image/png:https://poblenouurbandistrict.com/wp-content/uploads/2022/04/pud-agenda-1.jpg
END:VEVENT
END:VCALENDAR