BEGIN:VCALENDAR
VERSION:2.0
PRODID:-//Poblenou Urban District - ECPv6.15.20//NONSGML v1.0//EN
CALSCALE:GREGORIAN
METHOD:PUBLISH
X-WR-CALNAME:Poblenou Urban District
X-ORIGINAL-URL:https://poblenouurbandistrict.com/ca
X-WR-CALDESC:Esdeveniments per Poblenou Urban District
REFRESH-INTERVAL;VALUE=DURATION:PT1H
X-Robots-Tag:noindex
X-PUBLISHED-TTL:PT1H
BEGIN:VTIMEZONE
TZID:Europe/Madrid
BEGIN:DAYLIGHT
TZOFFSETFROM:+0100
TZOFFSETTO:+0200
TZNAME:CEST
DTSTART:20210328T010000
END:DAYLIGHT
BEGIN:STANDARD
TZOFFSETFROM:+0200
TZOFFSETTO:+0100
TZNAME:CET
DTSTART:20211031T010000
END:STANDARD
BEGIN:DAYLIGHT
TZOFFSETFROM:+0100
TZOFFSETTO:+0200
TZNAME:CEST
DTSTART:20220327T010000
END:DAYLIGHT
BEGIN:STANDARD
TZOFFSETFROM:+0200
TZOFFSETTO:+0100
TZNAME:CET
DTSTART:20221030T010000
END:STANDARD
BEGIN:DAYLIGHT
TZOFFSETFROM:+0100
TZOFFSETTO:+0200
TZNAME:CEST
DTSTART:20230326T010000
END:DAYLIGHT
BEGIN:STANDARD
TZOFFSETFROM:+0200
TZOFFSETTO:+0100
TZNAME:CET
DTSTART:20231029T010000
END:STANDARD
END:VTIMEZONE
BEGIN:VEVENT
DTSTART;TZID=Europe/Madrid:20220523T200000
DTEND;TZID=Europe/Madrid:20220523T210000
DTSTAMP:20260422T182631
CREATED:20220505T162940Z
LAST-MODIFIED:20220505T162940Z
UID:10003347-1653336000-1653339600@poblenouurbandistrict.com
SUMMARY:[:ca]Monòleg: Más o menos[:es]Monólogo: Más o menos[:en]Monologue: Más o menos[:]
DESCRIPTION:“Más o menos” d’Aldo Nicolaj (1920 Fossano-2004 Orbetello) és el monòleg d’una dona sense passat. Una dona sense memòria\, sense nom\, sense adreça\, que\, entre angoixes fantasies i sorna\, s’endinsa a la recerca d’ella mateixa en un laberint d’abismes i desproporció.
URL:https://poblenouurbandistrict.com/ca/agenda/monoleg-mas-o-menos/2022-05-23/
LOCATION:Utopia 126\, C/ de Cristóbal de Moura\, Barcelona\, 08019
CATEGORIES:Teatre
ATTACH;FMTTYPE=image/jpeg:https://media.poblenouurbandistrict.com/2022/05/25051140/screenshot-2022-05-05-at-182911.jpg
END:VEVENT
END:VCALENDAR