BEGIN:VCALENDAR
VERSION:2.0
PRODID:-//Poblenou Urban District - ECPv6.15.20//NONSGML v1.0//EN
CALSCALE:GREGORIAN
METHOD:PUBLISH
X-WR-CALNAME:Poblenou Urban District
X-ORIGINAL-URL:https://poblenouurbandistrict.com/ca
X-WR-CALDESC:Esdeveniments per Poblenou Urban District
REFRESH-INTERVAL;VALUE=DURATION:PT1H
X-Robots-Tag:noindex
X-PUBLISHED-TTL:PT1H
BEGIN:VTIMEZONE
TZID:Europe/Madrid
BEGIN:DAYLIGHT
TZOFFSETFROM:+0100
TZOFFSETTO:+0200
TZNAME:CEST
DTSTART:20210328T010000
END:DAYLIGHT
BEGIN:STANDARD
TZOFFSETFROM:+0200
TZOFFSETTO:+0100
TZNAME:CET
DTSTART:20211031T010000
END:STANDARD
BEGIN:DAYLIGHT
TZOFFSETFROM:+0100
TZOFFSETTO:+0200
TZNAME:CEST
DTSTART:20220327T010000
END:DAYLIGHT
BEGIN:STANDARD
TZOFFSETFROM:+0200
TZOFFSETTO:+0100
TZNAME:CET
DTSTART:20221030T010000
END:STANDARD
BEGIN:DAYLIGHT
TZOFFSETFROM:+0100
TZOFFSETTO:+0200
TZNAME:CEST
DTSTART:20230326T010000
END:DAYLIGHT
BEGIN:STANDARD
TZOFFSETFROM:+0200
TZOFFSETTO:+0100
TZNAME:CET
DTSTART:20231029T010000
END:STANDARD
END:VTIMEZONE
BEGIN:VEVENT
DTSTART;TZID=Europe/Madrid:20220525T110000
DTEND;TZID=Europe/Madrid:20220525T140000
DTSTAMP:20260422T182631
CREATED:20220405T132102Z
LAST-MODIFIED:20220405T132102Z
UID:10003128-1653476400-1653487200@poblenouurbandistrict.com
SUMMARY:[:ca]Curs: El monòleg (jo també soc els altres)[:es]Curso: El monólogo (yo también soy los otros)[:en]Course: The monologue (I am also the others)[:]
DESCRIPTION:En aquest curs\, la Sala Beckett us proposa explorar la veu pròpia de cada participant per crear les veus de personatges. L’objectiu és escriure un monòleg dramàtic (en to de comèdia o tragèdia) i iniciar-vos en la dramatúrgia literària. \nDimecres d’11 a 14 h.
URL:https://poblenouurbandistrict.com/ca/agenda/curs-el-monoleg-jo-tambe-soc-els-altres/2022-05-25/
LOCATION:Sala Beckett\, C. de Pere IV\, 228\, 232\, Barcelona\, Barcelona\, 08005
CATEGORIES:Curs,Teatre
ATTACH;FMTTYPE=image/jpeg:https://media.poblenouurbandistrict.com/2022/04/25050205/el-monoleg.jpg
END:VEVENT
BEGIN:VEVENT
DTSTART;TZID=Europe/Madrid:20220525T190000
DTEND;TZID=Europe/Madrid:20220525T201500
DTSTAMP:20260422T182631
CREATED:20220324T160626Z
LAST-MODIFIED:20220404T103748Z
UID:10002953-1653505200-1653509700@poblenouurbandistrict.com
SUMMARY:[:ca]Teatre: Patatas fritas falsas[:es]Teatro: Patatas fritas falsas[:]
DESCRIPTION:Agnés Mateus i Quim Tarrida ataquen temes polítics\, socials i diuen les veritats a la cara. Treuen a la llum allò que l’statu quo vol silenciar i posen nom a les víctimes del sistema. \nDimecres\, dijous\, divendres i dissabte a les 19 h\nDiumenge a les 18 h
URL:https://poblenouurbandistrict.com/ca/agenda/teatre-patatas-fritas-falsas/2022-05-25/
LOCATION:Teatre Nacional de Catalunya\, Plaça de les Arts\, 1\, Barcelona\, 08013
CATEGORIES:Teatre
ATTACH;FMTTYPE=image/jpeg:https://media.poblenouurbandistrict.com/2022/03/25045802/pud-agenda-3-5.jpg
END:VEVENT
BEGIN:VEVENT
DTSTART;TZID=Europe/Madrid:20220525T190000
DTEND;TZID=Europe/Madrid:20220525T203000
DTSTAMP:20260422T182631
CREATED:20220324T161208Z
LAST-MODIFIED:20220404T104104Z
UID:10002970-1653505200-1653510600@poblenouurbandistrict.com
SUMMARY:[:ca]Teatre: El pes d’un cos[:es]Teatro: El pes d’un cos[:]
DESCRIPTION:Sinopsi: Una filla ha de cuidar del seu pare qui\, després de patir un ictus\, viu un procés de deteriorament físic i mental que el converteix en un ésser totalment dependent. La manca de recursos econòmics propis i la precarietat que viuen les administracions públiques farà que la situació entri en una mena d’espiral de caiguda lliure. \nDimecres\, dijous\, divendres i dissabte a les 19 h\nDiumenge a les 18 h
URL:https://poblenouurbandistrict.com/ca/agenda/teatre-el-pes-dun-cos/2022-05-25/
LOCATION:Teatre Nacional de Catalunya\, Plaça de les Arts\, 1\, Barcelona\, 08013
CATEGORIES:Teatre
ATTACH;FMTTYPE=image/jpeg:https://media.poblenouurbandistrict.com/2022/03/25045804/screenshot-2022-03-24-at-171122.jpg
END:VEVENT
BEGIN:VEVENT
DTSTART;TZID=Europe/Madrid:20220525T190000
DTEND;TZID=Europe/Madrid:20220525T223000
DTSTAMP:20260422T182631
CREATED:20220324T155110Z
LAST-MODIFIED:20220404T083614Z
UID:10002922-1653505200-1653517800@poblenouurbandistrict.com
SUMMARY:[:ca]Teatre: Els homes i els dies[:es]Teatro: Els homes i els dies[:]
DESCRIPTION:Els homes i els dies és l’autobiografia pòstuma de David Vilaseca\, on trobem una veu poderosa i una literatura provocadora i estimulant.
URL:https://poblenouurbandistrict.com/ca/agenda/teatre-els-homes-i-els-dies/2022-05-25/
LOCATION:Teatre Nacional de Catalunya\, Plaça de les Arts\, 1\, Barcelona\, 08013
CATEGORIES:Teatre
ATTACH;FMTTYPE=image/jpeg:https://media.poblenouurbandistrict.com/2022/03/25045759/pud-agenda-2-5.jpg
END:VEVENT
BEGIN:VEVENT
DTSTART;TZID=Europe/Madrid:20220525T200000
DTEND;TZID=Europe/Madrid:20220525T213000
DTSTAMP:20260422T182631
CREATED:20220324T152802Z
LAST-MODIFIED:20220404T103010Z
UID:10002886-1653508800-1653514200@poblenouurbandistrict.com
SUMMARY:[:ca]Espectacle: L’altre[:es]Espectáculo: L’altre[:]
DESCRIPTION:L’altre és un joc provocatiu\, divertit\, enginyós i ple de sorpreses que aborda la relació entre tecnologia i deshumanització. \nDe dimecres a dissabte\, 20h\nDiumenge\, 18h
URL:https://poblenouurbandistrict.com/ca/agenda/espectacle-laltre/2022-05-25/
LOCATION:Sala Beckett\, C. de Pere IV\, 228\, 232\, Barcelona\, Barcelona\, 08005
CATEGORIES:Teatre
ATTACH;FMTTYPE=image/jpeg:https://media.poblenouurbandistrict.com/2022/03/25045756/screenshot-2022-03-24-at-162729.jpg
END:VEVENT
END:VCALENDAR