BEGIN:VCALENDAR
VERSION:2.0
PRODID:-//Poblenou Urban District - ECPv6.15.20//NONSGML v1.0//EN
CALSCALE:GREGORIAN
METHOD:PUBLISH
X-ORIGINAL-URL:https://poblenouurbandistrict.com/ca
X-WR-CALDESC:Esdeveniments per Poblenou Urban District
REFRESH-INTERVAL;VALUE=DURATION:PT1H
X-Robots-Tag:noindex
X-PUBLISHED-TTL:PT1H
BEGIN:VTIMEZONE
TZID:Europe/Madrid
BEGIN:DAYLIGHT
TZOFFSETFROM:+0100
TZOFFSETTO:+0200
TZNAME:CEST
DTSTART:20210328T010000
END:DAYLIGHT
BEGIN:STANDARD
TZOFFSETFROM:+0200
TZOFFSETTO:+0100
TZNAME:CET
DTSTART:20211031T010000
END:STANDARD
BEGIN:DAYLIGHT
TZOFFSETFROM:+0100
TZOFFSETTO:+0200
TZNAME:CEST
DTSTART:20220327T010000
END:DAYLIGHT
BEGIN:STANDARD
TZOFFSETFROM:+0200
TZOFFSETTO:+0100
TZNAME:CET
DTSTART:20221030T010000
END:STANDARD
BEGIN:DAYLIGHT
TZOFFSETFROM:+0100
TZOFFSETTO:+0200
TZNAME:CEST
DTSTART:20230326T010000
END:DAYLIGHT
BEGIN:STANDARD
TZOFFSETFROM:+0200
TZOFFSETTO:+0100
TZNAME:CET
DTSTART:20231029T010000
END:STANDARD
END:VTIMEZONE
BEGIN:VEVENT
DTSTART;TZID=Europe/Madrid:20220602T190000
DTEND;TZID=Europe/Madrid:20220602T203000
DTSTAMP:20260422T162826
CREATED:20220324T161208Z
LAST-MODIFIED:20220404T104104Z
UID:10002975-1654196400-1654201800@poblenouurbandistrict.com
SUMMARY:[:ca]Teatre: El pes d’un cos[:es]Teatro: El pes d’un cos[:]
DESCRIPTION:Sinopsi: Una filla ha de cuidar del seu pare qui\, després de patir un ictus\, viu un procés de deteriorament físic i mental que el converteix en un ésser totalment dependent. La manca de recursos econòmics propis i la precarietat que viuen les administracions públiques farà que la situació entri en una mena d’espiral de caiguda lliure. \nDimecres\, dijous\, divendres i dissabte a les 19 h\nDiumenge a les 18 h
URL:https://poblenouurbandistrict.com/ca/agenda/teatre-el-pes-dun-cos/2022-06-02/
LOCATION:Teatre Nacional de Catalunya\, Plaça de les Arts\, 1\, Barcelona\, 08013
CATEGORIES:Teatre
ATTACH;FMTTYPE=image/jpeg:https://media.poblenouurbandistrict.com/2022/03/25045804/screenshot-2022-03-24-at-171122.jpg
END:VEVENT
BEGIN:VEVENT
DTSTART;TZID=Europe/Madrid:20220602T200000
DTEND;TZID=Europe/Madrid:20220602T213000
DTSTAMP:20260422T162826
CREATED:20220324T152802Z
LAST-MODIFIED:20220404T103010Z
UID:10002891-1654200000-1654205400@poblenouurbandistrict.com
SUMMARY:[:ca]Espectacle: L’altre[:es]Espectáculo: L’altre[:]
DESCRIPTION:L’altre és un joc provocatiu\, divertit\, enginyós i ple de sorpreses que aborda la relació entre tecnologia i deshumanització. \nDe dimecres a dissabte\, 20h\nDiumenge\, 18h
URL:https://poblenouurbandistrict.com/ca/agenda/espectacle-laltre/2022-06-02/
LOCATION:Sala Beckett\, C. de Pere IV\, 228\, 232\, Barcelona\, Barcelona\, 08005
CATEGORIES:Teatre
ATTACH;FMTTYPE=image/jpeg:https://media.poblenouurbandistrict.com/2022/03/25045756/screenshot-2022-03-24-at-162729.jpg
END:VEVENT
END:VCALENDAR