BEGIN:VCALENDAR
VERSION:2.0
PRODID:-//Poblenou Urban District - ECPv6.15.20//NONSGML v1.0//EN
CALSCALE:GREGORIAN
METHOD:PUBLISH
X-WR-CALNAME:Poblenou Urban District
X-ORIGINAL-URL:https://poblenouurbandistrict.com/ca
X-WR-CALDESC:Esdeveniments per Poblenou Urban District
REFRESH-INTERVAL;VALUE=DURATION:PT1H
X-Robots-Tag:noindex
X-PUBLISHED-TTL:PT1H
BEGIN:VTIMEZONE
TZID:Europe/Madrid
BEGIN:DAYLIGHT
TZOFFSETFROM:+0100
TZOFFSETTO:+0200
TZNAME:CEST
DTSTART:20210328T010000
END:DAYLIGHT
BEGIN:STANDARD
TZOFFSETFROM:+0200
TZOFFSETTO:+0100
TZNAME:CET
DTSTART:20211031T010000
END:STANDARD
BEGIN:DAYLIGHT
TZOFFSETFROM:+0100
TZOFFSETTO:+0200
TZNAME:CEST
DTSTART:20220327T010000
END:DAYLIGHT
BEGIN:STANDARD
TZOFFSETFROM:+0200
TZOFFSETTO:+0100
TZNAME:CET
DTSTART:20221030T010000
END:STANDARD
BEGIN:DAYLIGHT
TZOFFSETFROM:+0100
TZOFFSETTO:+0200
TZNAME:CEST
DTSTART:20230326T010000
END:DAYLIGHT
BEGIN:STANDARD
TZOFFSETFROM:+0200
TZOFFSETTO:+0100
TZNAME:CET
DTSTART:20231029T010000
END:STANDARD
END:VTIMEZONE
BEGIN:VEVENT
DTSTART;TZID=Europe/Madrid:20220608T110000
DTEND;TZID=Europe/Madrid:20220608T140000
DTSTAMP:20260422T162602
CREATED:20220405T132102Z
LAST-MODIFIED:20220405T132102Z
UID:10003130-1654686000-1654696800@poblenouurbandistrict.com
SUMMARY:[:ca]Curs: El monòleg (jo també soc els altres)[:es]Curso: El monólogo (yo también soy los otros)[:en]Course: The monologue (I am also the others)[:]
DESCRIPTION:En aquest curs\, la Sala Beckett us proposa explorar la veu pròpia de cada participant per crear les veus de personatges. L’objectiu és escriure un monòleg dramàtic (en to de comèdia o tragèdia) i iniciar-vos en la dramatúrgia literària. \nDimecres d’11 a 14 h.
URL:https://poblenouurbandistrict.com/ca/agenda/curs-el-monoleg-jo-tambe-soc-els-altres/2022-06-08/
LOCATION:Sala Beckett\, C. de Pere IV\, 228\, 232\, Barcelona\, Barcelona\, 08005
CATEGORIES:Curs,Teatre
ATTACH;FMTTYPE=image/jpeg:https://media.poblenouurbandistrict.com/2022/04/25050205/el-monoleg.jpg
END:VEVENT
BEGIN:VEVENT
DTSTART;TZID=Europe/Madrid:20220608T190000
DTEND;TZID=Europe/Madrid:20220608T203000
DTSTAMP:20260422T162602
CREATED:20220324T161208Z
LAST-MODIFIED:20220404T104104Z
UID:10002978-1654714800-1654720200@poblenouurbandistrict.com
SUMMARY:[:ca]Teatre: El pes d’un cos[:es]Teatro: El pes d’un cos[:]
DESCRIPTION:Sinopsi: Una filla ha de cuidar del seu pare qui\, després de patir un ictus\, viu un procés de deteriorament físic i mental que el converteix en un ésser totalment dependent. La manca de recursos econòmics propis i la precarietat que viuen les administracions públiques farà que la situació entri en una mena d’espiral de caiguda lliure. \nDimecres\, dijous\, divendres i dissabte a les 19 h\nDiumenge a les 18 h
URL:https://poblenouurbandistrict.com/ca/agenda/teatre-el-pes-dun-cos/2022-06-08/
LOCATION:Teatre Nacional de Catalunya\, Plaça de les Arts\, 1\, Barcelona\, 08013
CATEGORIES:Teatre
ATTACH;FMTTYPE=image/jpeg:https://media.poblenouurbandistrict.com/2022/03/25045804/screenshot-2022-03-24-at-171122.jpg
END:VEVENT
END:VCALENDAR