BEGIN:VCALENDAR
VERSION:2.0
PRODID:-//Poblenou Urban District - ECPv6.15.20//NONSGML v1.0//EN
CALSCALE:GREGORIAN
METHOD:PUBLISH
X-ORIGINAL-URL:https://poblenouurbandistrict.com/ca
X-WR-CALDESC:Esdeveniments per Poblenou Urban District
REFRESH-INTERVAL;VALUE=DURATION:PT1H
X-Robots-Tag:noindex
X-PUBLISHED-TTL:PT1H
BEGIN:VTIMEZONE
TZID:Europe/Madrid
BEGIN:DAYLIGHT
TZOFFSETFROM:+0100
TZOFFSETTO:+0200
TZNAME:CEST
DTSTART:20210328T010000
END:DAYLIGHT
BEGIN:STANDARD
TZOFFSETFROM:+0200
TZOFFSETTO:+0100
TZNAME:CET
DTSTART:20211031T010000
END:STANDARD
BEGIN:DAYLIGHT
TZOFFSETFROM:+0100
TZOFFSETTO:+0200
TZNAME:CEST
DTSTART:20220327T010000
END:DAYLIGHT
BEGIN:STANDARD
TZOFFSETFROM:+0200
TZOFFSETTO:+0100
TZNAME:CET
DTSTART:20221030T010000
END:STANDARD
BEGIN:DAYLIGHT
TZOFFSETFROM:+0100
TZOFFSETTO:+0200
TZNAME:CEST
DTSTART:20230326T010000
END:DAYLIGHT
BEGIN:STANDARD
TZOFFSETFROM:+0200
TZOFFSETTO:+0100
TZNAME:CET
DTSTART:20231029T010000
END:STANDARD
END:VTIMEZONE
BEGIN:VEVENT
DTSTART;TZID=Europe/Madrid:20220610T190000
DTEND;TZID=Europe/Madrid:20220610T203000
DTSTAMP:20260422T163009
CREATED:20220324T161208Z
LAST-MODIFIED:20220404T104104Z
UID:10002980-1654887600-1654893000@poblenouurbandistrict.com
SUMMARY:[:ca]Teatre: El pes d’un cos[:es]Teatro: El pes d’un cos[:]
DESCRIPTION:Sinopsi: Una filla ha de cuidar del seu pare qui\, després de patir un ictus\, viu un procés de deteriorament físic i mental que el converteix en un ésser totalment dependent. La manca de recursos econòmics propis i la precarietat que viuen les administracions públiques farà que la situació entri en una mena d’espiral de caiguda lliure. \nDimecres\, dijous\, divendres i dissabte a les 19 h\nDiumenge a les 18 h
URL:https://poblenouurbandistrict.com/ca/agenda/teatre-el-pes-dun-cos/2022-06-10/
LOCATION:Teatre Nacional de Catalunya\, Plaça de les Arts\, 1\, Barcelona\, 08013
CATEGORIES:Teatre
ATTACH;FMTTYPE=image/jpeg:https://media.poblenouurbandistrict.com/2022/03/25045804/screenshot-2022-03-24-at-171122.jpg
END:VEVENT
BEGIN:VEVENT
DTSTART;TZID=Europe/Madrid:20220610T200000
DTEND;TZID=Europe/Madrid:20220610T213000
DTSTAMP:20260422T163009
CREATED:20220525T163034Z
LAST-MODIFIED:20220525T163034Z
UID:10003616-1654891200-1654896600@poblenouurbandistrict.com
SUMMARY:[:ca]Teatre: Apunts sobre la bellesa del temps[:es]Teatro: Apuntes sobre la belleza del tiempo[:en]Theater: Notes on the beauty of time[:]
DESCRIPTION:Apunts sobre la bellesa del temps té la voluntat de construir un espectacle que sigui no només una representació dels Apunts\, sinó també un homenatge en forma d’espectacle teatral a la figura més rellevant del panorama dramàtic català dels darrers seixanta anys i que\, molt tristament\, ens va deixar l’any 2020 víctima de la Covid-19.
URL:https://poblenouurbandistrict.com/ca/agenda/teatre-apunts-sobre-la-bellesa-del-temps/2022-06-10/
LOCATION:Sala Beckett\, C. de Pere IV\, 228\, 232\, Barcelona\, Barcelona\, 08005
CATEGORIES:Teatre
ATTACH;FMTTYPE=image/jpeg:https://media.poblenouurbandistrict.com/2022/05/25052128/screenshot-2022-05-25-at-183010.jpg
END:VEVENT
BEGIN:VEVENT
DTSTART;TZID=Europe/Madrid:20220610T200000
DTEND;TZID=Europe/Madrid:20220610T220000
DTSTAMP:20260422T163009
CREATED:20220609T084835Z
LAST-MODIFIED:20220609T084835Z
UID:10003885-1654891200-1654898400@poblenouurbandistrict.com
SUMMARY:[:ca]Poesia entre bastidors. Una trobada amb el vers lliure[:es]Poesía entre bastidores. Un encuentro con el verso libre[:en]Poetry behind the scenes. An encounter with free verse[:]
DESCRIPTION:La Galeria Chez Xefo ens convida el divendres 10 de juny a les 20 hs a un recital de poesia presentat per Agustina Orsi\, amb lettering en directe de Dani Aguilera.
URL:https://poblenouurbandistrict.com/ca/agenda/poesia-entre-bastidors-una-trobada-amb-el-vers-lliure/
LOCATION:Chez Xefo\, Carrer de Badajoz\, 46\, Barcelona\, 08005
CATEGORIES:Art,Exposició,Música,Teatre
ATTACH;FMTTYPE=image/jpeg:https://media.poblenouurbandistrict.com/2022/06/25052735/286794235-352814856779506-2413141803204505638-n.jpeg
END:VEVENT
END:VCALENDAR