BEGIN:VCALENDAR
VERSION:2.0
PRODID:-//Poblenou Urban District - ECPv6.15.20//NONSGML v1.0//EN
CALSCALE:GREGORIAN
METHOD:PUBLISH
X-WR-CALNAME:Poblenou Urban District
X-ORIGINAL-URL:https://poblenouurbandistrict.com/ca
X-WR-CALDESC:Esdeveniments per Poblenou Urban District
REFRESH-INTERVAL;VALUE=DURATION:PT1H
X-Robots-Tag:noindex
X-PUBLISHED-TTL:PT1H
BEGIN:VTIMEZONE
TZID:Europe/Madrid
BEGIN:DAYLIGHT
TZOFFSETFROM:+0100
TZOFFSETTO:+0200
TZNAME:CEST
DTSTART:20210328T010000
END:DAYLIGHT
BEGIN:STANDARD
TZOFFSETFROM:+0200
TZOFFSETTO:+0100
TZNAME:CET
DTSTART:20211031T010000
END:STANDARD
BEGIN:DAYLIGHT
TZOFFSETFROM:+0100
TZOFFSETTO:+0200
TZNAME:CEST
DTSTART:20220327T010000
END:DAYLIGHT
BEGIN:STANDARD
TZOFFSETFROM:+0200
TZOFFSETTO:+0100
TZNAME:CET
DTSTART:20221030T010000
END:STANDARD
BEGIN:DAYLIGHT
TZOFFSETFROM:+0100
TZOFFSETTO:+0200
TZNAME:CEST
DTSTART:20230326T010000
END:DAYLIGHT
BEGIN:STANDARD
TZOFFSETFROM:+0200
TZOFFSETTO:+0100
TZNAME:CET
DTSTART:20231029T010000
END:STANDARD
END:VTIMEZONE
BEGIN:VEVENT
DTSTART;TZID=Europe/Madrid:20220629T203000
DTEND;TZID=Europe/Madrid:20220731T220000
DTSTAMP:20260422T142559
CREATED:20220523T155903Z
LAST-MODIFIED:20220627T102028Z
UID:10003607-1656534600-1659304800@poblenouurbandistrict.com
SUMMARY:[:ca]Teatre: Al final\, les visions[:es]Teatro: Al final\, las visiones[:en]Theater: In the end\, the visions[:]
DESCRIPTION:Culpes imposades\, redempcions que es fan esperar molts anys\, somnis\, retorns\, visions i finals formen part d’una història intensa que ens parla d’aquell territori en el qual conviuen els vius i els morts\, els qui ja han marxat i els qui\, potser malgrat seu\, encara hi són. \nDe dimecres a dissabte\, 20:30h\nDiumenge\, 18:30h
URL:https://poblenouurbandistrict.com/ca/agenda/teatre-al-final-les-visions/
LOCATION:Sala Beckett\, C. de Pere IV\, 228\, 232\, Barcelona\, Barcelona\, 08005
CATEGORIES:Teatre
ATTACH;FMTTYPE=image/jpeg:https://media.poblenouurbandistrict.com/2022/05/25051946/screenshot-2022-05-23-at-175827.jpg
END:VEVENT
BEGIN:VEVENT
DTSTART;TZID=Europe/Madrid:20220630T190000
DTEND;TZID=Europe/Madrid:20220717T210000
DTSTAMP:20260422T142559
CREATED:20220324T163215Z
LAST-MODIFIED:20220627T101803Z
UID:10002995-1656615600-1658091600@poblenouurbandistrict.com
SUMMARY:[:ca]Teatre: Europa Bull[:es]Teatro: Europa Bull[:]
DESCRIPTION:Un muntatge lingüísticament sorprenent a partir del mite d’Europa i de la seva ebullició actual. \nDimecres\, dijous\, divendres i dissabte a les 19 h\nDiumenge a les 18 h
URL:https://poblenouurbandistrict.com/ca/agenda/teatre-europa-bull/
LOCATION:Teatre Nacional de Catalunya\, Plaça de les Arts\, 1\, Barcelona\, 08013
CATEGORIES:Teatre
ATTACH;FMTTYPE=image/jpeg:https://media.poblenouurbandistrict.com/2022/03/25045808/screenshot-2022-03-24-at-173126.jpg
END:VEVENT
BEGIN:VEVENT
DTSTART;TZID=Europe/Madrid:20220710T100000
DTEND;TZID=Europe/Madrid:20220716T180000
DTSTAMP:20260422T142559
CREATED:20220526T142254Z
LAST-MODIFIED:20220704T113610Z
UID:10003639-1657447200-1657994400@poblenouurbandistrict.com
SUMMARY:[:ca]Seminari: Amor\, matrimoni i altres assumptes menors | XVII Obrador d’estiu[:es]Seminario: Amor\, matrimonio y otros asuntos menores | XVII Obrador d’estiu[:en]Seminar: Love\, marriage and other minor matters | XVII Obrador d’estiu[:]
DESCRIPTION:Els dramaturgs participants escriuran una obra breu a partir del tema proposat. Aquests textos (traduïts al català quan s’escaigui) es presentaran al llarg de l’Obrador d’estiu en forma de lectura dramatitzada. Les lectures seran obertes al públic. \nDe 10h a 14h i de 16h a 18h (dissabte\, només al matí)
URL:https://poblenouurbandistrict.com/ca/agenda/taller-seminari-avancat-descriptura-teatral-amb-ella-hickson/
LOCATION:Sala Beckett\, C. de Pere IV\, 228\, 232\, Barcelona\, Barcelona\, 08005
CATEGORIES:Teatre
ATTACH;FMTTYPE=image/jpeg:https://media.poblenouurbandistrict.com/2022/05/25052148/screenshot-2022-05-26-at-162217.jpg
END:VEVENT
BEGIN:VEVENT
DTSTART;TZID=Europe/Madrid:20220711T100000
DTEND;TZID=Europe/Madrid:20220716T180000
DTSTAMP:20260422T142559
CREATED:20220531T142303Z
LAST-MODIFIED:20220704T112219Z
UID:10003229-1657533600-1657994400@poblenouurbandistrict.com
SUMMARY:[:ca]Curs: Aquí aniria el fotut títol del taller | XVII Obrador d’estiu[:es]Curso: Aquí iría el jodido título del taller | XVII Obrador d’estiu[:en]Course: Here would go the title of the workshop | XVII Obrador d’estiu[:]
DESCRIPTION:Aquest taller sense títol neix amb la idea d’apropiar-nos de tot allò que ens captiva per saltar al terreny de joc amb un paracaigudes teixit de referències de tota mena. \nDe dilluns a dissabte de 10h a 14h i de 16h a 18h (el dissabte\, només matí)
URL:https://poblenouurbandistrict.com/ca/agenda/curs-aqui-aniria-el-fotut-titol-del-taller/
LOCATION:Sala Beckett\, C. de Pere IV\, 228\, 232\, Barcelona\, Barcelona\, 08005
CATEGORIES:Curs,Teatre
ATTACH;FMTTYPE=image/jpeg:https://media.poblenouurbandistrict.com/2022/05/25052521/screenshot-2022-05-31-at-162229.jpg
END:VEVENT
BEGIN:VEVENT
DTSTART;TZID=Europe/Madrid:20220711T100000
DTEND;TZID=Europe/Madrid:20220716T180000
DTSTAMP:20260422T142559
CREATED:20220531T144328Z
LAST-MODIFIED:20220704T112040Z
UID:10003233-1657533600-1657994400@poblenouurbandistrict.com
SUMMARY:[:ca]Curs: Depassar els límits - el paper de l’actor en el paper | XVII Obrador d’estiu[:es]Curso: Rebasar los límites - el papel del actor en el papel | XVII Obrador d’estiu[:en]Course: Pushing the boundaries - the role of the actor in the role | XVII Obrador d’estiu[:]
DESCRIPTION:El director Michael Attenborough i el dramaturg Neil LaBute proposen un taller immersiu per investigar el tradicional triangle creatiu (director-actor-dramaturg) mitjançant una sèrie d’obres breus inèdites concebudes per alliberar la creativitat i ajudar els intèrprets a comprendre i reforçar el seu paper a l’hora de crear un personatge. \nDe dilluns a dissabte de 10 h a 14 h i de 16 h a 18 h (dissabte\, només al matí)
URL:https://poblenouurbandistrict.com/ca/agenda/curs-depassar-els-limits-el-paper-de-lactor-en-el-paper/
LOCATION:Sala Beckett\, C. de Pere IV\, 228\, 232\, Barcelona\, Barcelona\, 08005
CATEGORIES:Curs,Teatre
ATTACH;FMTTYPE=image/jpeg:https://media.poblenouurbandistrict.com/2022/05/25052524/screenshot-2022-05-31-at-164241.jpg
END:VEVENT
BEGIN:VEVENT
DTSTART;TZID=Europe/Madrid:20220711T100000
DTEND;TZID=Europe/Madrid:20220716T180000
DTSTAMP:20260422T142559
CREATED:20220531T144851Z
LAST-MODIFIED:20220704T111924Z
UID:10003236-1657533600-1657994400@poblenouurbandistrict.com
SUMMARY:[:ca]Curs: D’obra dramàtica a obra dramàtica (el teatre com l’art del present) | XVII Obrador d’estiu[:es]Curso: De obra dramática a obra dramática (el teatro como el arte del presente)| XVII Obrador d’estiu[:en]Course: From dramatic play to dramatic play (theater as the art of the present)| XVII Obrador d’estiu[:]
DESCRIPTION:En aquest taller tractarem qüestions relacionades amb la història del teatre així com amb la seva connexió amb cada període. A més a més\, tractarem el fenomen de la direcció escènica i les creixents dimensions que està prenent. \nDe dilluns a dissabte de 10h a 14h i de 16h a 18h (dissabte\, només al matí)
URL:https://poblenouurbandistrict.com/ca/agenda/curs-dobra-dramatica-a-obra-dramatica-el-teatre-com-lart-del-present/
LOCATION:Sala Beckett\, C. de Pere IV\, 228\, 232\, Barcelona\, Barcelona\, 08005
CATEGORIES:Curs,Teatre
ATTACH;FMTTYPE=image/jpeg:https://media.poblenouurbandistrict.com/2022/05/25052525/screenshot-2022-05-31-at-164819.jpg
END:VEVENT
BEGIN:VEVENT
DTSTART;TZID=Europe/Madrid:20220714T190000
DTEND;TZID=Europe/Madrid:20220716T203000
DTSTAMP:20260422T142559
CREATED:20220520T112044Z
LAST-MODIFIED:20220627T121105Z
UID:10003581-1657825200-1658003400@poblenouurbandistrict.com
SUMMARY:[:ca]Teatre: Opening Night[:es]Teatro: Opening Night[:en]Theater: Opening Night[:]
DESCRIPTION:Aquest homenatge al teatre converteix l’escenari en protagonista. El firma una companyia barcelonina que viu un moment artístic excepcional\, tant a casa com en els principals escenaris europeus.
URL:https://poblenouurbandistrict.com/ca/agenda/teatre-opening-night/
LOCATION:Teatre Nacional de Catalunya\, Plaça de les Arts\, 1\, Barcelona\, 08013
CATEGORIES:Teatre
ATTACH;FMTTYPE=image/jpeg:https://media.poblenouurbandistrict.com/2022/05/25051855/screenshot-2022-05-20-at-131806.jpg
END:VEVENT
BEGIN:VEVENT
DTSTART;TZID=Europe/Madrid:20220715T100000
DTEND;TZID=Europe/Madrid:20220716T190000
DTSTAMP:20260422T142559
CREATED:20220531T143502Z
LAST-MODIFIED:20220704T112126Z
UID:10003232-1657879200-1657998000@poblenouurbandistrict.com
SUMMARY:[:ca]Curs: Seguir el conill blanc | XVII Obrador d’estiu[:es]Curso: Seguir el conejo blanco | XVII Obrador d’estiu[:en]Course: Following the white rabbit | XVII Obrador d’estiu[:]
DESCRIPTION:En aquest taller teoricopràctic la creadora escènica Marta Pazos comparteix la sistematització del seu treball d’interrelació de disciplines amb la literatura dramàtica clàssica i contemporània. \nDivendres i dissabte de 10h a 14h i de 15h a 19h
URL:https://poblenouurbandistrict.com/ca/agenda/curs-seguir-el-conill-blanc/
LOCATION:Sala Beckett\, C. de Pere IV\, 228\, 232\, Barcelona\, Barcelona\, 08005
CATEGORIES:Curs,Teatre
ATTACH;FMTTYPE=image/jpeg:https://media.poblenouurbandistrict.com/2022/05/25052522/screenshot-2022-05-31-at-163426.jpg
END:VEVENT
BEGIN:VEVENT
DTSTART;TZID=Europe/Madrid:20220716T200000
DTEND;TZID=Europe/Madrid:20220717T213000
DTSTAMP:20260422T142559
CREATED:20220701T152902Z
LAST-MODIFIED:20220701T152902Z
UID:10003882-1658001600-1658093400@poblenouurbandistrict.com
SUMMARY:[:ca]Teatre: FRANCOnstein o el renéixer del que mai va morir[:es]Teatro: FRANCOnstein o el renacer de lo que nunca murió[:en]Theater: FRANCOnstein or the rebirth of what never died[:]
DESCRIPTION:FRANCOnstein o el renéixer del que mai no va morir és una comèdia d’estat destinada a parodiar l’augment dels feixismes al segle XXI que s’estan expandint per tot occident i en què Espanya no n’és una excepció. A Espanya\, des del segle passat\, el feixisme ha condicionat la vida política d’aquest país durant dècades i ja tenen raó els que diuen que mala herba no mor mai perquè ara més que mai veiem aquest renéixer de les velles tendències polítiques. Aquesta obra és una distòpia contemporània sobre com aquestes tendències creuen que s’estan tacant els valors catòlics en un país suposadament dominat per putes\, vermells i maricons. Què passarà als poders de l’estat quan vulguin despertar Franco per corregir aquests errors però s’adonin que en realitat no estava tan mort com creien?
URL:https://poblenouurbandistrict.com/ca/agenda/teatre-franconstein-o-el-reneixer-del-que-mai-va-morir/
LOCATION:Casino l’aliança del Poblenou\, Rambla del Poblenou\, 42\,\, Barcelona\, Barcelona\, 08005\, Espanya
CATEGORIES:Teatre
ATTACH;FMTTYPE=image/jpeg:https://media.poblenouurbandistrict.com/2022/07/25053336/capture-decran-2022-07-01-a-172820.jpg
END:VEVENT
BEGIN:VEVENT
DTSTART;TZID=Europe/Madrid:20220716T230000
DTEND;TZID=Europe/Madrid:20220716T230000
DTSTAMP:20260422T142559
CREATED:20220704T113427Z
LAST-MODIFIED:20220704T113427Z
UID:10003892-1658012400-1658012400@poblenouurbandistrict.com
SUMMARY:[:ca]Festa de cloenda del XVII Obrador d’estiu[:es]Fiesta de clausura del XVII Obrador d’estiu[:en]Closing party of the XVII Obrador d'estiu[:]
DESCRIPTION:L’Obrador és un dels esdeveniments importants de la proposta artística i formativa general de la Sala Beckett. Per això\, volem celebrar la cloenda de la seva 17a edició amb una proposta festiva: una nit de música amb una selecció de DJ’s propers a la Beckett i al sector teatral. \nSala VOL
URL:https://poblenouurbandistrict.com/ca/agenda/festa-de-cloenda-del-xvii-obrador-destiu/
LOCATION:Sala Beckett\, C. de Pere IV\, 228\, 232\, Barcelona\, Barcelona\, 08005
CATEGORIES:Música,Teatre
ATTACH;FMTTYPE=image/jpeg:https://media.poblenouurbandistrict.com/2022/07/25053339/capture-decran-2022-07-04-a-133254.jpg
END:VEVENT
END:VCALENDAR