BEGIN:VCALENDAR
VERSION:2.0
PRODID:-//Poblenou Urban District - ECPv6.15.20//NONSGML v1.0//EN
CALSCALE:GREGORIAN
METHOD:PUBLISH
X-WR-CALNAME:Poblenou Urban District
X-ORIGINAL-URL:https://poblenouurbandistrict.com/ca
X-WR-CALDESC:Esdeveniments per Poblenou Urban District
REFRESH-INTERVAL;VALUE=DURATION:PT1H
X-Robots-Tag:noindex
X-PUBLISHED-TTL:PT1H
BEGIN:VTIMEZONE
TZID:Europe/Madrid
BEGIN:DAYLIGHT
TZOFFSETFROM:+0100
TZOFFSETTO:+0200
TZNAME:CEST
DTSTART:20220327T010000
END:DAYLIGHT
BEGIN:STANDARD
TZOFFSETFROM:+0200
TZOFFSETTO:+0100
TZNAME:CET
DTSTART:20221030T010000
END:STANDARD
BEGIN:DAYLIGHT
TZOFFSETFROM:+0100
TZOFFSETTO:+0200
TZNAME:CEST
DTSTART:20230326T010000
END:DAYLIGHT
BEGIN:STANDARD
TZOFFSETFROM:+0200
TZOFFSETTO:+0100
TZNAME:CET
DTSTART:20231029T010000
END:STANDARD
BEGIN:DAYLIGHT
TZOFFSETFROM:+0100
TZOFFSETTO:+0200
TZNAME:CEST
DTSTART:20240331T010000
END:DAYLIGHT
BEGIN:STANDARD
TZOFFSETFROM:+0200
TZOFFSETTO:+0100
TZNAME:CET
DTSTART:20241027T010000
END:STANDARD
END:VTIMEZONE
BEGIN:VEVENT
DTSTART;TZID=Europe/Madrid:20230304T190000
DTEND;TZID=Europe/Madrid:20230304T203000
DTSTAMP:20260421T205913
CREATED:20230303T131304Z
LAST-MODIFIED:20230303T131304Z
UID:10004380-1677956400-1677961800@poblenouurbandistrict.com
SUMMARY:[:ca]Desdèmona: Alba Sarraute & Les Ofèlies[:es]Desdémona: Alba Sarraute & Les Ofèlies[:]
DESCRIPTION:Desdèmona és una adaptació que han fet Alba Sarraute & Les Ofèlies de la famosa obra Otel·lo de \nShakespeare. A través del circ\, la música\, les acrobàcies i el ball aconsegueixen transmetre el \nsignificat profund de l'obra des de la perspectiva de Desdèmona. A la funció es podran veure \nles referències de textos de l'obra original però amb un gir més modern.
URL:https://poblenouurbandistrict.com/ca/agenda/desdemona-alba-sarraute-les-ofelies/2023-03-04/
LOCATION:Teatre Nacional de Catalunya\, Plaça de les Arts\, 1\, Barcelona\, 08013
CATEGORIES:Danza,Música,Teatre
END:VEVENT
END:VCALENDAR