BEGIN:VCALENDAR
VERSION:2.0
PRODID:-//Poblenou Urban District - ECPv6.15.20//NONSGML v1.0//EN
CALSCALE:GREGORIAN
METHOD:PUBLISH
X-WR-CALNAME:Poblenou Urban District
X-ORIGINAL-URL:https://poblenouurbandistrict.com/ca
X-WR-CALDESC:Esdeveniments per Poblenou Urban District
REFRESH-INTERVAL;VALUE=DURATION:PT1H
X-Robots-Tag:noindex
X-PUBLISHED-TTL:PT1H
BEGIN:VTIMEZONE
TZID:Europe/Madrid
BEGIN:DAYLIGHT
TZOFFSETFROM:+0100
TZOFFSETTO:+0200
TZNAME:CEST
DTSTART:20220327T010000
END:DAYLIGHT
BEGIN:STANDARD
TZOFFSETFROM:+0200
TZOFFSETTO:+0100
TZNAME:CET
DTSTART:20221030T010000
END:STANDARD
BEGIN:DAYLIGHT
TZOFFSETFROM:+0100
TZOFFSETTO:+0200
TZNAME:CEST
DTSTART:20230326T010000
END:DAYLIGHT
BEGIN:STANDARD
TZOFFSETFROM:+0200
TZOFFSETTO:+0100
TZNAME:CET
DTSTART:20231029T010000
END:STANDARD
BEGIN:DAYLIGHT
TZOFFSETFROM:+0100
TZOFFSETTO:+0200
TZNAME:CEST
DTSTART:20240331T010000
END:DAYLIGHT
BEGIN:STANDARD
TZOFFSETFROM:+0200
TZOFFSETTO:+0100
TZNAME:CET
DTSTART:20241027T010000
END:STANDARD
END:VTIMEZONE
BEGIN:VEVENT
DTSTART;TZID=Europe/Madrid:20230920T193000
DTEND;TZID=Europe/Madrid:20230920T193000
DTSTAMP:20260421T092158
CREATED:20230920T094233Z
LAST-MODIFIED:20230920T094233Z
UID:10006693-1695238200-1695238200@poblenouurbandistrict.com
SUMMARY:[:ca]Espectacle: Castroponce-Teoria i praxis per a una avantguarda del segle XXI de Pablo Rosal[:es]Espectáculo: Castroponce-Teoría y praxis para una vanguardia del siglo XXI de Pablo Rosal[:]
DESCRIPTION:
URL:https://poblenouurbandistrict.com/ca/agenda/espectacle-castroponce-teoria-i-praxis-per-a-una-avantguarda-del-segle-xxi-de-pablo-rosal/2023-09-20/
LOCATION:Sala Beckett\, C. de Pere IV\, 228\, 232\, Barcelona\, Barcelona\, 08005
CATEGORIES:Teatre
END:VEVENT
END:VCALENDAR