BEGIN:VCALENDAR
VERSION:2.0
PRODID:-//Poblenou Urban District - ECPv6.15.20//NONSGML v1.0//EN
CALSCALE:GREGORIAN
METHOD:PUBLISH
X-ORIGINAL-URL:https://poblenouurbandistrict.com/ca
X-WR-CALDESC:Esdeveniments per Poblenou Urban District
REFRESH-INTERVAL;VALUE=DURATION:PT1H
X-Robots-Tag:noindex
X-PUBLISHED-TTL:PT1H
BEGIN:VTIMEZONE
TZID:Europe/Madrid
BEGIN:DAYLIGHT
TZOFFSETFROM:+0100
TZOFFSETTO:+0200
TZNAME:CEST
DTSTART:20250330T010000
END:DAYLIGHT
BEGIN:STANDARD
TZOFFSETFROM:+0200
TZOFFSETTO:+0100
TZNAME:CET
DTSTART:20251026T010000
END:STANDARD
BEGIN:DAYLIGHT
TZOFFSETFROM:+0100
TZOFFSETTO:+0200
TZNAME:CEST
DTSTART:20260329T010000
END:DAYLIGHT
BEGIN:STANDARD
TZOFFSETFROM:+0200
TZOFFSETTO:+0100
TZNAME:CET
DTSTART:20261025T010000
END:STANDARD
BEGIN:DAYLIGHT
TZOFFSETFROM:+0100
TZOFFSETTO:+0200
TZNAME:CEST
DTSTART:20270328T010000
END:DAYLIGHT
BEGIN:STANDARD
TZOFFSETFROM:+0200
TZOFFSETTO:+0100
TZNAME:CET
DTSTART:20271031T010000
END:STANDARD
END:VTIMEZONE
BEGIN:VEVENT
DTSTART;VALUE=DATE:20260327
DTEND;VALUE=DATE:20260330
DTSTAMP:20260422T025515
CREATED:20260305T111741Z
LAST-MODIFIED:20260305T111741Z
UID:10007428-1774569600-1774828799@poblenouurbandistrict.com
SUMMARY:[:ca]AR-DE\, circuit d'art i disseny[:es]AR-DE\, circuito de arte y diseño[:en]AR-DE\, art and design circuit[:]
DESCRIPTION:
URL:https://poblenouurbandistrict.com/ca/agenda/ar-de-circuit-dart-i-disseny-2/
LOCATION:Poblenou Urban District\, Pujades 99\, bxs.\, Barcelona\, Catalunya\, España
CATEGORIES:Art
ATTACH;FMTTYPE=image/jpeg:https://media.poblenouurbandistrict.com/2026/03/05101524/ar-de-213-6.jpg
ORGANIZER;CN="Poblenou Urban District":MAILTO:info@poblenouurbandistrict.com
END:VEVENT
END:VCALENDAR