BEGIN:VCALENDAR
VERSION:2.0
PRODID:-//Poblenou Urban District - ECPv6.15.20//NONSGML v1.0//EN
CALSCALE:GREGORIAN
METHOD:PUBLISH
X-WR-CALNAME:Poblenou Urban District
X-ORIGINAL-URL:https://poblenouurbandistrict.com/ca
X-WR-CALDESC:Esdeveniments per Poblenou Urban District
REFRESH-INTERVAL;VALUE=DURATION:PT1H
X-Robots-Tag:noindex
X-PUBLISHED-TTL:PT1H
BEGIN:VTIMEZONE
TZID:Europe/Madrid
BEGIN:DAYLIGHT
TZOFFSETFROM:+0100
TZOFFSETTO:+0200
TZNAME:CEST
DTSTART:20240331T010000
END:DAYLIGHT
BEGIN:STANDARD
TZOFFSETFROM:+0200
TZOFFSETTO:+0100
TZNAME:CET
DTSTART:20241027T010000
END:STANDARD
BEGIN:DAYLIGHT
TZOFFSETFROM:+0100
TZOFFSETTO:+0200
TZNAME:CEST
DTSTART:20250330T010000
END:DAYLIGHT
BEGIN:STANDARD
TZOFFSETFROM:+0200
TZOFFSETTO:+0100
TZNAME:CET
DTSTART:20251026T010000
END:STANDARD
BEGIN:DAYLIGHT
TZOFFSETFROM:+0100
TZOFFSETTO:+0200
TZNAME:CEST
DTSTART:20260329T010000
END:DAYLIGHT
BEGIN:STANDARD
TZOFFSETFROM:+0200
TZOFFSETTO:+0100
TZNAME:CET
DTSTART:20261025T010000
END:STANDARD
BEGIN:DAYLIGHT
TZOFFSETFROM:+0100
TZOFFSETTO:+0200
TZNAME:CEST
DTSTART:20270328T010000
END:DAYLIGHT
BEGIN:STANDARD
TZOFFSETFROM:+0200
TZOFFSETTO:+0100
TZNAME:CET
DTSTART:20271031T010000
END:STANDARD
END:VTIMEZONE
BEGIN:VEVENT
DTSTART;VALUE=DATE:20251122
DTEND;VALUE=DATE:20260121
DTSTAMP:20260423T183532
CREATED:20251216T094318Z
LAST-MODIFIED:20251216T094329Z
UID:10007368-1763769600-1768953599@poblenouurbandistrict.com
SUMMARY:Piramidón: "Un impulso de último momento" Román de Castro
DESCRIPTION:
URL:https://poblenouurbandistrict.com/ca/agenda/piramidon-un-impulso-de-ultimo-momento-roman-de-castro/
LOCATION:Piramidón\, Centre D’art Contemporani\, Carrer del Concili de Trento\, 313\, Barcelona\, Barcelona\, 08020\, Espanya
END:VEVENT
BEGIN:VEVENT
DTSTART;VALUE=DATE:20251204
DTEND;VALUE=DATE:20260214
DTSTAMP:20260423T183532
CREATED:20251216T093028Z
LAST-MODIFIED:20251216T093028Z
UID:10007367-1764806400-1771027199@poblenouurbandistrict.com
SUMMARY:[:en]La Plataforma: "A las penas\, puñaladas"[:]
DESCRIPTION:
URL:https://poblenouurbandistrict.com/ca/agenda/la-plataforma-a-las-penas-punaladas/
LOCATION:La Plataforma\, Pujades 99\, bxs.\, Barcelona\, Catalunya\, España
ATTACH;FMTTYPE=image/png:https://media.poblenouurbandistrict.com/2025/12/25095852/patitos-nathalie-rey.png
ORGANIZER;CN="La Plataforma":MAILTO:bcnplataforma@gmail.com
END:VEVENT
BEGIN:VEVENT
DTSTART;VALUE=DATE:20251216
DTEND;VALUE=DATE:20260112
DTSTAMP:20260423T183532
CREATED:20251216T094853Z
LAST-MODIFIED:20251216T094853Z
UID:10007369-1765843200-1768175999@poblenouurbandistrict.com
SUMMARY:Casa Calores de Pere Riera
DESCRIPTION:
URL:https://poblenouurbandistrict.com/ca/agenda/casa-calores-de-pere-riera/
LOCATION:Sala Beckett\, C. de Pere IV\, 228\, 232\, Barcelona\, Barcelona\, 08005
CATEGORIES:Teatre
ATTACH;FMTTYPE=image/jpeg:https://media.poblenouurbandistrict.com/2025/12/25095942/casa-calores-kiku-pinol-10-scaled-1.jpg
END:VEVENT
BEGIN:VEVENT
DTSTART;VALUE=DATE:20251218
DTEND;VALUE=DATE:20260215
DTSTAMP:20260423T183532
CREATED:20251216T092703Z
LAST-MODIFIED:20251216T092703Z
UID:10007366-1766016000-1771113599@poblenouurbandistrict.com
SUMMARY:Load: Let's Slow Down Time Together de Yatreda ያጥሬዳ
DESCRIPTION:
URL:https://poblenouurbandistrict.com/ca/agenda/load-lets-slow-down-time-together-de-yatreda-%e1%8b%ab%e1%8c%a5%e1%88%ac%e1%8b%b3/
LOCATION:Load Gallery\, C/Llull 134\, Barcelona\, Barcelona\, 08005\, Spain
ATTACH;FMTTYPE=image/avif:https://media.poblenouurbandistrict.com/2025/12/25095936/yatreda.avif
END:VEVENT
BEGIN:VEVENT
DTSTART;TZID=Europe/Madrid:20260103T190000
DTEND;TZID=Europe/Madrid:20260110T190000
DTSTAMP:20260423T183532
CREATED:20251216T120155Z
LAST-MODIFIED:20251216T120155Z
UID:10007405-1767466800-1768071600@poblenouurbandistrict.com
SUMMARY:BANDA NEON Gira Guapíssima
DESCRIPTION:
URL:https://poblenouurbandistrict.com/ca/agenda/banda-neon-gira-guapissima/
LOCATION:La Nau
CATEGORIES:Música
ATTACH;FMTTYPE=image/jpeg:https://media.poblenouurbandistrict.com/2025/12/25100245/10.jpg
END:VEVENT
BEGIN:VEVENT
DTSTART;TZID=Europe/Madrid:20260108T190000
DTEND;TZID=Europe/Madrid:20260108T190000
DTSTAMP:20260423T183532
CREATED:20251216T105816Z
LAST-MODIFIED:20251216T105816Z
UID:10007384-1767898800-1767898800@poblenouurbandistrict.com
SUMMARY:BEBE - Banco Mediolanum Guitar BCN 2026
DESCRIPTION:
URL:https://poblenouurbandistrict.com/ca/agenda/bebe-banco-mediolanum-guitar-bcn-2026/
LOCATION:Sala Razzmatazz\, C/ dels Almogàvers\, 122\, Barcelona\, Barcelona\, 08018\, Espanya
CATEGORIES:Música
ATTACH;FMTTYPE=image/jpeg:https://media.poblenouurbandistrict.com/2025/12/25100033/bebee-1000x540-1.jpg
END:VEVENT
BEGIN:VEVENT
DTSTART;TZID=Europe/Madrid:20260109T193000
DTEND;TZID=Europe/Madrid:20260109T193000
DTSTAMP:20260423T183532
CREATED:20251216T110021Z
LAST-MODIFIED:20251216T110021Z
UID:10007385-1767987000-1767987000@poblenouurbandistrict.com
SUMMARY:DERIVAS - EL MAYOR HOMENAJE A HÉROES DEL SILENCIO
DESCRIPTION:
URL:https://poblenouurbandistrict.com/ca/agenda/derivas-el-mayor-homenaje-a-heroes-del-silencio-2/
LOCATION:Sala Razzmatazz\, C/ dels Almogàvers\, 122\, Barcelona\, Barcelona\, 08018\, Espanya
CATEGORIES:Música
ATTACH;FMTTYPE=image/jpeg:https://media.poblenouurbandistrict.com/2025/12/25100140/derivas1.jpg
END:VEVENT
BEGIN:VEVENT
DTSTART;TZID=Europe/Madrid:20260109T193000
DTEND;TZID=Europe/Madrid:20260109T193000
DTSTAMP:20260423T183532
CREATED:20251216T110345Z
LAST-MODIFIED:20251216T110345Z
UID:10007387-1767987000-1767987000@poblenouurbandistrict.com
SUMMARY:MISS CAFFEINA #EMPREMTES2026
DESCRIPTION:
URL:https://poblenouurbandistrict.com/ca/agenda/miss-caffeina-empremtes2026/
LOCATION:Sala Razzmatazz\, C/ dels Almogàvers\, 122\, Barcelona\, Barcelona\, 08018\, Espanya
CATEGORIES:Música
ATTACH;FMTTYPE=image/png:https://media.poblenouurbandistrict.com/2025/12/25100148/mc1-1000x540-1.png
END:VEVENT
BEGIN:VEVENT
DTSTART;TZID=Europe/Madrid:20260109T200000
DTEND;TZID=Europe/Madrid:20260109T200000
DTSTAMP:20260423T183532
CREATED:20251216T110220Z
LAST-MODIFIED:20251216T110220Z
UID:10007386-1767988800-1767988800@poblenouurbandistrict.com
SUMMARY:ARDO440 - SAW RULES
DESCRIPTION:
URL:https://poblenouurbandistrict.com/ca/agenda/ardo440-saw-rules/
LOCATION:Sala Razzmatazz\, C/ dels Almogàvers\, 122\, Barcelona\, Barcelona\, 08018\, Espanya
CATEGORIES:Música
ATTACH;FMTTYPE=image/jpeg:https://media.poblenouurbandistrict.com/2025/12/25100144/ardo440-1000x540-1.jpg
END:VEVENT
BEGIN:VEVENT
DTSTART;TZID=Europe/Madrid:20260110T193000
DTEND;TZID=Europe/Madrid:20260110T193000
DTSTAMP:20260423T183532
CREATED:20251216T110606Z
LAST-MODIFIED:20251216T110606Z
UID:10007388-1768073400-1768073400@poblenouurbandistrict.com
SUMMARY:MIGUEL CAMPELLO
DESCRIPTION:
URL:https://poblenouurbandistrict.com/ca/agenda/miguel-campello/
LOCATION:Sala Razzmatazz\, C/ dels Almogàvers\, 122\, Barcelona\, Barcelona\, 08018\, Espanya
CATEGORIES:Música
ATTACH;FMTTYPE=image/jpeg:https://media.poblenouurbandistrict.com/2025/12/25100151/miguelcampello-1000x540-1.jpg
END:VEVENT
BEGIN:VEVENT
DTSTART;TZID=Europe/Madrid:20260110T200000
DTEND;TZID=Europe/Madrid:20260110T200000
DTSTAMP:20260423T183532
CREATED:20251216T110744Z
LAST-MODIFIED:20251216T110744Z
UID:10007389-1768075200-1768075200@poblenouurbandistrict.com
SUMMARY:THE NIGHT PROWLERS
DESCRIPTION:
URL:https://poblenouurbandistrict.com/ca/agenda/the-night-prowlers/
LOCATION:Sala Razzmatazz\, C/ dels Almogàvers\, 122\, Barcelona\, Barcelona\, 08018\, Espanya
CATEGORIES:Música
ATTACH;FMTTYPE=image/jpeg:https://media.poblenouurbandistrict.com/2025/12/25100154/tnp1.jpg
END:VEVENT
BEGIN:VEVENT
DTSTART;TZID=Europe/Madrid:20260110T203000
DTEND;TZID=Europe/Madrid:20260110T203000
DTSTAMP:20260423T183532
CREATED:20251216T110927Z
LAST-MODIFIED:20251216T112001Z
UID:10007390-1768077000-1768077000@poblenouurbandistrict.com
SUMMARY:SUZETE - BABY WATA
DESCRIPTION:
URL:https://poblenouurbandistrict.com/ca/agenda/suzete-baby-wata/
LOCATION:Sala Razzmatazz\, C/ dels Almogàvers\, 122\, Barcelona\, Barcelona\, 08018\, Espanya
CATEGORIES:Música
ATTACH;FMTTYPE=image/jpeg:https://media.poblenouurbandistrict.com/2025/12/25100159/suzete-1000x540-1.jpg
END:VEVENT
BEGIN:VEVENT
DTSTART;TZID=Europe/Madrid:20260111T180000
DTEND;TZID=Europe/Madrid:20260111T180000
DTSTAMP:20260423T183532
CREATED:20251216T120520Z
LAST-MODIFIED:20251216T120520Z
UID:10007406-1768154400-1768154400@poblenouurbandistrict.com
SUMMARY:Survival x Skanking Easy Sessions w/ Kebra Ethiopia & Jah Life Intl Sound System
DESCRIPTION:
URL:https://poblenouurbandistrict.com/ca/agenda/survival-x-skanking-easy-sessions-w-kebra-ethiopia-jah-life-intl-sound-system/
LOCATION:La Nau
CATEGORIES:Música
ATTACH;FMTTYPE=image/jpeg:https://media.poblenouurbandistrict.com/2025/12/25100251/jah-web.jpg
END:VEVENT
BEGIN:VEVENT
DTSTART;TZID=Europe/Madrid:20260113T190000
DTEND;TZID=Europe/Madrid:20260113T190000
DTSTAMP:20260423T183532
CREATED:20251216T095750Z
LAST-MODIFIED:20251219T100932Z
UID:10007371-1768330800-1768330800@poblenouurbandistrict.com
SUMMARY:[:ca]Recital: Ecografia de Greta Sibling[:es]Recital: Ecografia de Greta Sibling[:en]Recital: Ecografia by Greta Sibling[:]
DESCRIPTION:
URL:https://poblenouurbandistrict.com/ca/agenda/recital-ecografia-de-greta-sibling/
LOCATION:Sala Beckett\, C. de Pere IV\, 228\, 232\, Barcelona\, Barcelona\, 08005
CATEGORIES:Teatre
ATTACH;FMTTYPE=image/png:https://media.poblenouurbandistrict.com/2025/12/25095950/greta-1000x600-1-768x461-1.png
END:VEVENT
BEGIN:VEVENT
DTSTART;TZID=Europe/Madrid:20260114T193000
DTEND;TZID=Europe/Madrid:20260114T193000
DTSTAMP:20260423T183532
CREATED:20251216T112136Z
LAST-MODIFIED:20251216T112317Z
UID:10007391-1768419000-1768419000@poblenouurbandistrict.com
SUMMARY:MURUBUTU - LA VITA SEGRETA DELLE CITTÀ TOUR 2026
DESCRIPTION:
URL:https://poblenouurbandistrict.com/ca/agenda/murubutu-la-vita-segreta-delle-citta-tour-2026/
LOCATION:Sala Razzmatazz\, C/ dels Almogàvers\, 122\, Barcelona\, Barcelona\, 08018\, Espanya
CATEGORIES:Música
ATTACH;FMTTYPE=image/jpeg:https://media.poblenouurbandistrict.com/2025/12/25100202/posoter.jpeg
END:VEVENT
BEGIN:VEVENT
DTSTART;TZID=Europe/Madrid:20260114T200000
DTEND;TZID=Europe/Madrid:20260208T200000
DTSTAMP:20260423T183532
CREATED:20251216T100908Z
LAST-MODIFIED:20251216T101318Z
UID:10007372-1768420800-1770580800@poblenouurbandistrict.com
SUMMARY:"Tallar-se un peu amb una motoserra" de Bárbara Mestanza
DESCRIPTION:
URL:https://poblenouurbandistrict.com/ca/agenda/tallar-se-un-peu-amb-una-motoserra-de-barbara-mestanza/
LOCATION:Sala Beckett\, C. de Pere IV\, 228\, 232\, Barcelona\, Barcelona\, 08005
CATEGORIES:Teatre
ATTACH;FMTTYPE=image/jpeg:https://media.poblenouurbandistrict.com/2025/12/25095953/tallarse-un-peu-amb-una-motoserra-1000x600-1.jpg
END:VEVENT
BEGIN:VEVENT
DTSTART;VALUE=DATE:20260115
DTEND;VALUE=DATE:20260202
DTSTAMP:20260423T183532
CREATED:20251216T102205Z
LAST-MODIFIED:20251216T102205Z
UID:10007375-1768435200-1769990399@poblenouurbandistrict.com
SUMMARY:[:ca]"Una brillant imperfecció (o mort d'un pianista)" de Vero Cendoya[:es]"Una brillant imperfecció (o mort d'un pianista)" de Vero Cendoya[:en]"Una brillant imperfecció (o mort d'un pianista)" by Vero Cendoya[:]
DESCRIPTION:
URL:https://poblenouurbandistrict.com/ca/agenda/una-brillant-imperfeccio-o-mort-dun-pianista-de-vero-cendoya/
LOCATION:Teatre Nacional de Catalunya\, Plaça de les Arts\, 1\, Barcelona\, 08013
CATEGORIES:Teatre
ATTACH;FMTTYPE=image/jpeg:https://media.poblenouurbandistrict.com/2025/12/25100002/740x740-una-brillant-imperfeccio.jpg
END:VEVENT
BEGIN:VEVENT
DTSTART;TZID=Europe/Madrid:20260115T200000
DTEND;TZID=Europe/Madrid:20260115T200000
DTSTAMP:20260423T183532
CREATED:20251216T112440Z
LAST-MODIFIED:20251216T112440Z
UID:10007392-1768507200-1768507200@poblenouurbandistrict.com
SUMMARY:MAXIMILIANO CALVO
DESCRIPTION:
URL:https://poblenouurbandistrict.com/ca/agenda/maximiliano-calvo/
LOCATION:Sala Razzmatazz\, C/ dels Almogàvers\, 122\, Barcelona\, Barcelona\, 08018\, Espanya
CATEGORIES:Música
ATTACH;FMTTYPE=image/jpeg:https://media.poblenouurbandistrict.com/2025/12/25100205/maxi-1000x540-1.jpg
END:VEVENT
BEGIN:VEVENT
DTSTART;TZID=Europe/Madrid:20260115T203000
DTEND;TZID=Europe/Madrid:20260115T203000
DTSTAMP:20260423T183532
CREATED:20251216T112601Z
LAST-MODIFIED:20251216T112658Z
UID:10007393-1768509000-1768509000@poblenouurbandistrict.com
SUMMARY:B10 - GIRA 2025
DESCRIPTION:
URL:https://poblenouurbandistrict.com/ca/agenda/b10-gira-2025/
LOCATION:Sala Razzmatazz\, C/ dels Almogàvers\, 122\, Barcelona\, Barcelona\, 08018\, Espanya
CATEGORIES:Música
ATTACH;FMTTYPE=image/jpeg:https://media.poblenouurbandistrict.com/2025/12/25100209/b10poster.jpg
END:VEVENT
BEGIN:VEVENT
DTSTART;TZID=Europe/Madrid:20260115T203000
DTEND;TZID=Europe/Madrid:20260115T203000
DTSTAMP:20260423T183532
CREATED:20251216T120740Z
LAST-MODIFIED:20251216T120740Z
UID:10007407-1768509000-1768509000@poblenouurbandistrict.com
SUMMARY:JAVYPABLO Para que te quieras quedar tour
DESCRIPTION:
URL:https://poblenouurbandistrict.com/ca/agenda/javypablo-para-que-te-quieras-quedar-tour/
LOCATION:La Nau
CATEGORIES:Música
ATTACH;FMTTYPE=image/jpeg:https://media.poblenouurbandistrict.com/2025/12/25100254/javy.jpg
END:VEVENT
BEGIN:VEVENT
DTSTART;TZID=Europe/Madrid:20260116T193000
DTEND;TZID=Europe/Madrid:20260116T193000
DTSTAMP:20260423T183532
CREATED:20251216T113104Z
LAST-MODIFIED:20251216T113300Z
UID:10007395-1768591800-1768591800@poblenouurbandistrict.com
SUMMARY:BAIUCA - B·SERIES26
DESCRIPTION:
URL:https://poblenouurbandistrict.com/ca/agenda/fades-final-de-gira-metallix/
LOCATION:Sala Razzmatazz\, C/ dels Almogàvers\, 122\, Barcelona\, Barcelona\, 08018\, Espanya
CATEGORIES:Música
ATTACH;FMTTYPE=image/jpeg:https://media.poblenouurbandistrict.com/2025/12/25100216/baiuca1.jpg
END:VEVENT
BEGIN:VEVENT
DTSTART;TZID=Europe/Madrid:20260116T200000
DTEND;TZID=Europe/Madrid:20260116T200000
DTSTAMP:20260423T183532
CREATED:20251216T121216Z
LAST-MODIFIED:20251216T121216Z
UID:10007409-1768593600-1768593600@poblenouurbandistrict.com
SUMMARY:MORTI + HOUSE OF DAWN + EXILER
DESCRIPTION:
URL:https://poblenouurbandistrict.com/ca/agenda/morti-house-of-dawn-exiler-2/
LOCATION:La Nau
CATEGORIES:Música
ATTACH;FMTTYPE=image/jpeg:https://media.poblenouurbandistrict.com/2025/12/25100255/morti-web.jpg
END:VEVENT
BEGIN:VEVENT
DTSTART;TZID=Europe/Madrid:20260117T123000
DTEND;TZID=Europe/Madrid:20260117T123000
DTSTAMP:20260423T183532
CREATED:20251216T120928Z
LAST-MODIFIED:20251216T121101Z
UID:10007408-1768653000-1768653000@poblenouurbandistrict.com
SUMMARY:COLLADO + SOPA DE PEDRA
DESCRIPTION:
URL:https://poblenouurbandistrict.com/ca/agenda/morti-house-of-dawn-exiler/
LOCATION:La Nau
CATEGORIES:Música
ATTACH;FMTTYPE=image/jpeg:https://media.poblenouurbandistrict.com/2025/12/25100258/colladosopalogoentradium-web.jpg
END:VEVENT
BEGIN:VEVENT
DTSTART;TZID=Europe/Madrid:20260117T220000
DTEND;TZID=Europe/Madrid:20260117T220000
DTSTAMP:20260423T183532
CREATED:20251216T121302Z
LAST-MODIFIED:20251216T121422Z
UID:10007410-1768687200-1768687200@poblenouurbandistrict.com
SUMMARY:Tributo a Radio Futura\, El Último De La Fila y Héroes Del Silencio por MESCALINA
DESCRIPTION:
URL:https://poblenouurbandistrict.com/ca/agenda/collado-sopa-de-pedra/
LOCATION:La Nau
CATEGORIES:Música
ATTACH;FMTTYPE=image/jpeg:https://media.poblenouurbandistrict.com/2025/12/25100301/barcelona-la-nau-web.jpg
END:VEVENT
BEGIN:VEVENT
DTSTART;TZID=Europe/Madrid:20260118T193000
DTEND;TZID=Europe/Madrid:20260118T193000
DTSTAMP:20260423T183532
CREATED:20251216T121630Z
LAST-MODIFIED:20251216T121630Z
UID:10007411-1768764600-1768764600@poblenouurbandistrict.com
SUMMARY:SABA
DESCRIPTION:
URL:https://poblenouurbandistrict.com/ca/agenda/saba/
LOCATION:La Nau
CATEGORIES:Música
ATTACH;FMTTYPE=image/jpeg:https://media.poblenouurbandistrict.com/2025/12/25100305/saba.jpg
END:VEVENT
BEGIN:VEVENT
DTSTART;TZID=Europe/Madrid:20260121T203000
DTEND;TZID=Europe/Madrid:20260121T203000
DTSTAMP:20260423T183532
CREATED:20251218T110314Z
LAST-MODIFIED:20251218T110333Z
UID:10007413-1769027400-1769027400@poblenouurbandistrict.com
SUMMARY:BLAZE BAYLEY
DESCRIPTION:
URL:https://poblenouurbandistrict.com/ca/agenda/blaze-bayley/
LOCATION:La Nau
CATEGORIES:Música
ATTACH;FMTTYPE=image/jpeg:https://media.poblenouurbandistrict.com/2025/12/25100316/260121-blaze.jpg
END:VEVENT
BEGIN:VEVENT
DTSTART;VALUE=DATE:20260122
DTEND;VALUE=DATE:20260223
DTSTAMP:20260423T183532
CREATED:20251216T102649Z
LAST-MODIFIED:20251216T103719Z
UID:10007376-1769040000-1771804799@poblenouurbandistrict.com
SUMMARY:[:ca]"Marina Magdalena" de Michael de Cock[:es]"Marina Magdalena" de Michael de Cock[:en]"Marina Magdalena" by Michael de Cock[:]
DESCRIPTION:
URL:https://poblenouurbandistrict.com/ca/agenda/marina-magdalena-de-michael-de-cock/
LOCATION:Teatre Nacional de Catalunya\, Plaça de les Arts\, 1\, Barcelona\, 08013
CATEGORIES:Teatre
ATTACH;FMTTYPE=image/jpeg:https://media.poblenouurbandistrict.com/2025/12/25100006/740x740-maria-magdalena.jpg
END:VEVENT
BEGIN:VEVENT
DTSTART;TZID=Europe/Madrid:20260122T203000
DTEND;TZID=Europe/Madrid:20260122T203000
DTSTAMP:20260423T183532
CREATED:20251218T110503Z
LAST-MODIFIED:20251218T110510Z
UID:10007414-1769113800-1769113800@poblenouurbandistrict.com
SUMMARY:MERCEDES CAÑAS Todo en su lugar Tour
DESCRIPTION:
URL:https://poblenouurbandistrict.com/ca/agenda/mercedes-canas-todo-en-su-lugar-tour/
LOCATION:La Nau
CATEGORIES:Música
ATTACH;FMTTYPE=image/jpeg:https://media.poblenouurbandistrict.com/2025/12/25100319/mercedes-copia.jpg
END:VEVENT
BEGIN:VEVENT
DTSTART;TZID=Europe/Madrid:20260123T203000
DTEND;TZID=Europe/Madrid:20260123T203000
DTSTAMP:20260423T183532
CREATED:20251218T110644Z
LAST-MODIFIED:20251218T110644Z
UID:10007415-1769200200-1769200200@poblenouurbandistrict.com
SUMMARY:PACO PECADO i lxs pecadorxs
DESCRIPTION:
URL:https://poblenouurbandistrict.com/ca/agenda/paco-pecado-i-lxs-pecadorxs/
LOCATION:La Nau
CATEGORIES:Música
ATTACH;FMTTYPE=image/jpeg:https://media.poblenouurbandistrict.com/2025/12/25100320/pacopecado.jpg
END:VEVENT
BEGIN:VEVENT
DTSTART;VALUE=DATE:20260124
DTEND;VALUE=DATE:20260318
DTSTAMP:20260423T183532
CREATED:20260224T093022Z
LAST-MODIFIED:20260224T102841Z
UID:10007424-1769212800-1773791999@poblenouurbandistrict.com
SUMMARY:[:ca]Piramidón: Revisions #4: Patricio Reig[:es]Piramidón: Revisiones #4: Patricio Reig[:en]Piramidón: Revisions #4: Patricio Reig[:]
DESCRIPTION:
URL:https://poblenouurbandistrict.com/ca/agenda/piramidon-revisions-4-patricio-reig/
LOCATION:Piramidón\, Centre D’art Contemporani\, Carrer del Concili de Trento\, 313\, Barcelona\, Barcelona\, 08020\, Espanya
CATEGORIES:Art
ATTACH;FMTTYPE=image/jpeg:https://media.poblenouurbandistrict.com/2026/02/25101300/1-1.jpg
END:VEVENT
END:VCALENDAR