BEGIN:VCALENDAR
VERSION:2.0
PRODID:-//Poblenou Urban District - ECPv6.15.20//NONSGML v1.0//EN
CALSCALE:GREGORIAN
METHOD:PUBLISH
X-ORIGINAL-URL:https://poblenouurbandistrict.com/ca
X-WR-CALDESC:Esdeveniments per Poblenou Urban District
REFRESH-INTERVAL;VALUE=DURATION:PT1H
X-Robots-Tag:noindex
X-PUBLISHED-TTL:PT1H
BEGIN:VTIMEZONE
TZID:Europe/Madrid
BEGIN:DAYLIGHT
TZOFFSETFROM:+0100
TZOFFSETTO:+0200
TZNAME:CEST
DTSTART:20210328T010000
END:DAYLIGHT
BEGIN:STANDARD
TZOFFSETFROM:+0200
TZOFFSETTO:+0100
TZNAME:CET
DTSTART:20211031T010000
END:STANDARD
BEGIN:DAYLIGHT
TZOFFSETFROM:+0100
TZOFFSETTO:+0200
TZNAME:CEST
DTSTART:20220327T010000
END:DAYLIGHT
BEGIN:STANDARD
TZOFFSETFROM:+0200
TZOFFSETTO:+0100
TZNAME:CET
DTSTART:20221030T010000
END:STANDARD
BEGIN:DAYLIGHT
TZOFFSETFROM:+0100
TZOFFSETTO:+0200
TZNAME:CEST
DTSTART:20230326T010000
END:DAYLIGHT
BEGIN:STANDARD
TZOFFSETFROM:+0200
TZOFFSETTO:+0100
TZNAME:CET
DTSTART:20231029T010000
END:STANDARD
END:VTIMEZONE
BEGIN:VEVENT
DTSTART;TZID=Europe/Madrid:20220512T100000
DTEND;TZID=Europe/Madrid:20220512T190000
DTSTAMP:20260420T223503
CREATED:20220316T150749Z
LAST-MODIFIED:20220404T105817Z
UID:10002378-1652349600-1652382000@poblenouurbandistrict.com
SUMMARY:[:ca]Exposició col·lectiva: Blanc i Negre[:es]Exposición colectiva: Blanco y Negro[:]
DESCRIPTION:L&B Gallery inaugura el 31 de març la nova exposició col·lectiva Blanc i Negre\, amb els artistes Pietro Capogrosso\, Antonio Lazo\, Vanessa Pey\, Joan Ill\, Sito Mujiza\, Xavi Muñoz i Meta Isæus-Berlin.
URL:https://poblenouurbandistrict.com/ca/agenda/exposicio-col%c2%b7lectiva-blanc-i-negre/2022-05-12/
LOCATION:L&B Gallery\, Àlaba 58\, Barcelona\, Barcelona\, 08005\, Espanya
CATEGORIES:Exposició
ATTACH;FMTTYPE=image/jpeg:https://media.poblenouurbandistrict.com/2022/03/25045345/pud-agenda-15.jpg
ORGANIZER;CN="L&B Gallery":MAILTO:galeria@lbcontemporaryart.com
END:VEVENT
BEGIN:VEVENT
DTSTART;TZID=Europe/Madrid:20220511T100000
DTEND;TZID=Europe/Madrid:20220511T190000
DTSTAMP:20260420T223503
CREATED:20220316T150749Z
LAST-MODIFIED:20220404T105817Z
UID:10002377-1652263200-1652295600@poblenouurbandistrict.com
SUMMARY:[:ca]Exposició col·lectiva: Blanc i Negre[:es]Exposición colectiva: Blanco y Negro[:]
DESCRIPTION:L&B Gallery inaugura el 31 de març la nova exposició col·lectiva Blanc i Negre\, amb els artistes Pietro Capogrosso\, Antonio Lazo\, Vanessa Pey\, Joan Ill\, Sito Mujiza\, Xavi Muñoz i Meta Isæus-Berlin.
URL:https://poblenouurbandistrict.com/ca/agenda/exposicio-col%c2%b7lectiva-blanc-i-negre/2022-05-11/
LOCATION:L&B Gallery\, Àlaba 58\, Barcelona\, Barcelona\, 08005\, Espanya
CATEGORIES:Exposició
ATTACH;FMTTYPE=image/jpeg:https://media.poblenouurbandistrict.com/2022/03/25045345/pud-agenda-15.jpg
ORGANIZER;CN="L&B Gallery":MAILTO:galeria@lbcontemporaryart.com
END:VEVENT
BEGIN:VEVENT
DTSTART;TZID=Europe/Madrid:20220510T100000
DTEND;TZID=Europe/Madrid:20220510T190000
DTSTAMP:20260420T223503
CREATED:20220316T150749Z
LAST-MODIFIED:20220404T105817Z
UID:10002376-1652176800-1652209200@poblenouurbandistrict.com
SUMMARY:[:ca]Exposició col·lectiva: Blanc i Negre[:es]Exposición colectiva: Blanco y Negro[:]
DESCRIPTION:L&B Gallery inaugura el 31 de març la nova exposició col·lectiva Blanc i Negre\, amb els artistes Pietro Capogrosso\, Antonio Lazo\, Vanessa Pey\, Joan Ill\, Sito Mujiza\, Xavi Muñoz i Meta Isæus-Berlin.
URL:https://poblenouurbandistrict.com/ca/agenda/exposicio-col%c2%b7lectiva-blanc-i-negre/2022-05-10/
LOCATION:L&B Gallery\, Àlaba 58\, Barcelona\, Barcelona\, 08005\, Espanya
CATEGORIES:Exposició
ATTACH;FMTTYPE=image/jpeg:https://media.poblenouurbandistrict.com/2022/03/25045345/pud-agenda-15.jpg
ORGANIZER;CN="L&B Gallery":MAILTO:galeria@lbcontemporaryart.com
END:VEVENT
BEGIN:VEVENT
DTSTART;TZID=Europe/Madrid:20220507T100000
DTEND;TZID=Europe/Madrid:20220507T190000
DTSTAMP:20260420T223503
CREATED:20220316T150749Z
LAST-MODIFIED:20220404T105817Z
UID:10002375-1651917600-1651950000@poblenouurbandistrict.com
SUMMARY:[:ca]Exposició col·lectiva: Blanc i Negre[:es]Exposición colectiva: Blanco y Negro[:]
DESCRIPTION:L&B Gallery inaugura el 31 de març la nova exposició col·lectiva Blanc i Negre\, amb els artistes Pietro Capogrosso\, Antonio Lazo\, Vanessa Pey\, Joan Ill\, Sito Mujiza\, Xavi Muñoz i Meta Isæus-Berlin.
URL:https://poblenouurbandistrict.com/ca/agenda/exposicio-col%c2%b7lectiva-blanc-i-negre/2022-05-07/
LOCATION:L&B Gallery\, Àlaba 58\, Barcelona\, Barcelona\, 08005\, Espanya
CATEGORIES:Exposició
ATTACH;FMTTYPE=image/jpeg:https://media.poblenouurbandistrict.com/2022/03/25045345/pud-agenda-15.jpg
ORGANIZER;CN="L&B Gallery":MAILTO:galeria@lbcontemporaryart.com
END:VEVENT
BEGIN:VEVENT
DTSTART;TZID=Europe/Madrid:20220506T100000
DTEND;TZID=Europe/Madrid:20220506T190000
DTSTAMP:20260420T223503
CREATED:20220316T150749Z
LAST-MODIFIED:20220404T105817Z
UID:10002374-1651831200-1651863600@poblenouurbandistrict.com
SUMMARY:[:ca]Exposició col·lectiva: Blanc i Negre[:es]Exposición colectiva: Blanco y Negro[:]
DESCRIPTION:L&B Gallery inaugura el 31 de març la nova exposició col·lectiva Blanc i Negre\, amb els artistes Pietro Capogrosso\, Antonio Lazo\, Vanessa Pey\, Joan Ill\, Sito Mujiza\, Xavi Muñoz i Meta Isæus-Berlin.
URL:https://poblenouurbandistrict.com/ca/agenda/exposicio-col%c2%b7lectiva-blanc-i-negre/2022-05-06/
LOCATION:L&B Gallery\, Àlaba 58\, Barcelona\, Barcelona\, 08005\, Espanya
CATEGORIES:Exposició
ATTACH;FMTTYPE=image/jpeg:https://media.poblenouurbandistrict.com/2022/03/25045345/pud-agenda-15.jpg
ORGANIZER;CN="L&B Gallery":MAILTO:galeria@lbcontemporaryart.com
END:VEVENT
BEGIN:VEVENT
DTSTART;TZID=Europe/Madrid:20220505T100000
DTEND;TZID=Europe/Madrid:20220505T190000
DTSTAMP:20260420T223503
CREATED:20220316T150749Z
LAST-MODIFIED:20220404T105817Z
UID:10002373-1651744800-1651777200@poblenouurbandistrict.com
SUMMARY:[:ca]Exposició col·lectiva: Blanc i Negre[:es]Exposición colectiva: Blanco y Negro[:]
DESCRIPTION:L&B Gallery inaugura el 31 de març la nova exposició col·lectiva Blanc i Negre\, amb els artistes Pietro Capogrosso\, Antonio Lazo\, Vanessa Pey\, Joan Ill\, Sito Mujiza\, Xavi Muñoz i Meta Isæus-Berlin.
URL:https://poblenouurbandistrict.com/ca/agenda/exposicio-col%c2%b7lectiva-blanc-i-negre/2022-05-05/
LOCATION:L&B Gallery\, Àlaba 58\, Barcelona\, Barcelona\, 08005\, Espanya
CATEGORIES:Exposició
ATTACH;FMTTYPE=image/jpeg:https://media.poblenouurbandistrict.com/2022/03/25045345/pud-agenda-15.jpg
ORGANIZER;CN="L&B Gallery":MAILTO:galeria@lbcontemporaryart.com
END:VEVENT
BEGIN:VEVENT
DTSTART;TZID=Europe/Madrid:20220504T100000
DTEND;TZID=Europe/Madrid:20220504T190000
DTSTAMP:20260420T223503
CREATED:20220316T150749Z
LAST-MODIFIED:20220404T105817Z
UID:10002372-1651658400-1651690800@poblenouurbandistrict.com
SUMMARY:[:ca]Exposició col·lectiva: Blanc i Negre[:es]Exposición colectiva: Blanco y Negro[:]
DESCRIPTION:L&B Gallery inaugura el 31 de març la nova exposició col·lectiva Blanc i Negre\, amb els artistes Pietro Capogrosso\, Antonio Lazo\, Vanessa Pey\, Joan Ill\, Sito Mujiza\, Xavi Muñoz i Meta Isæus-Berlin.
URL:https://poblenouurbandistrict.com/ca/agenda/exposicio-col%c2%b7lectiva-blanc-i-negre/2022-05-04/
LOCATION:L&B Gallery\, Àlaba 58\, Barcelona\, Barcelona\, 08005\, Espanya
CATEGORIES:Exposició
ATTACH;FMTTYPE=image/jpeg:https://media.poblenouurbandistrict.com/2022/03/25045345/pud-agenda-15.jpg
ORGANIZER;CN="L&B Gallery":MAILTO:galeria@lbcontemporaryart.com
END:VEVENT
BEGIN:VEVENT
DTSTART;TZID=Europe/Madrid:20220503T100000
DTEND;TZID=Europe/Madrid:20220503T190000
DTSTAMP:20260420T223503
CREATED:20220316T150749Z
LAST-MODIFIED:20220404T105817Z
UID:10002371-1651572000-1651604400@poblenouurbandistrict.com
SUMMARY:[:ca]Exposició col·lectiva: Blanc i Negre[:es]Exposición colectiva: Blanco y Negro[:]
DESCRIPTION:L&B Gallery inaugura el 31 de març la nova exposició col·lectiva Blanc i Negre\, amb els artistes Pietro Capogrosso\, Antonio Lazo\, Vanessa Pey\, Joan Ill\, Sito Mujiza\, Xavi Muñoz i Meta Isæus-Berlin.
URL:https://poblenouurbandistrict.com/ca/agenda/exposicio-col%c2%b7lectiva-blanc-i-negre/2022-05-03/
LOCATION:L&B Gallery\, Àlaba 58\, Barcelona\, Barcelona\, 08005\, Espanya
CATEGORIES:Exposició
ATTACH;FMTTYPE=image/jpeg:https://media.poblenouurbandistrict.com/2022/03/25045345/pud-agenda-15.jpg
ORGANIZER;CN="L&B Gallery":MAILTO:galeria@lbcontemporaryart.com
END:VEVENT
BEGIN:VEVENT
DTSTART;TZID=Europe/Madrid:20220430T100000
DTEND;TZID=Europe/Madrid:20220430T190000
DTSTAMP:20260420T223503
CREATED:20220316T150749Z
LAST-MODIFIED:20220404T105817Z
UID:10002370-1651312800-1651345200@poblenouurbandistrict.com
SUMMARY:[:ca]Exposició col·lectiva: Blanc i Negre[:es]Exposición colectiva: Blanco y Negro[:]
DESCRIPTION:L&B Gallery inaugura el 31 de març la nova exposició col·lectiva Blanc i Negre\, amb els artistes Pietro Capogrosso\, Antonio Lazo\, Vanessa Pey\, Joan Ill\, Sito Mujiza\, Xavi Muñoz i Meta Isæus-Berlin.
URL:https://poblenouurbandistrict.com/ca/agenda/exposicio-col%c2%b7lectiva-blanc-i-negre/2022-04-30/
LOCATION:L&B Gallery\, Àlaba 58\, Barcelona\, Barcelona\, 08005\, Espanya
CATEGORIES:Exposició
ATTACH;FMTTYPE=image/jpeg:https://media.poblenouurbandistrict.com/2022/03/25045345/pud-agenda-15.jpg
ORGANIZER;CN="L&B Gallery":MAILTO:galeria@lbcontemporaryart.com
END:VEVENT
BEGIN:VEVENT
DTSTART;TZID=Europe/Madrid:20220429T100000
DTEND;TZID=Europe/Madrid:20220429T190000
DTSTAMP:20260420T223503
CREATED:20220316T150749Z
LAST-MODIFIED:20220404T105817Z
UID:10002369-1651226400-1651258800@poblenouurbandistrict.com
SUMMARY:[:ca]Exposició col·lectiva: Blanc i Negre[:es]Exposición colectiva: Blanco y Negro[:]
DESCRIPTION:L&B Gallery inaugura el 31 de març la nova exposició col·lectiva Blanc i Negre\, amb els artistes Pietro Capogrosso\, Antonio Lazo\, Vanessa Pey\, Joan Ill\, Sito Mujiza\, Xavi Muñoz i Meta Isæus-Berlin.
URL:https://poblenouurbandistrict.com/ca/agenda/exposicio-col%c2%b7lectiva-blanc-i-negre/2022-04-29/
LOCATION:L&B Gallery\, Àlaba 58\, Barcelona\, Barcelona\, 08005\, Espanya
CATEGORIES:Exposició
ATTACH;FMTTYPE=image/jpeg:https://media.poblenouurbandistrict.com/2022/03/25045345/pud-agenda-15.jpg
ORGANIZER;CN="L&B Gallery":MAILTO:galeria@lbcontemporaryart.com
END:VEVENT
BEGIN:VEVENT
DTSTART;TZID=Europe/Madrid:20220428T100000
DTEND;TZID=Europe/Madrid:20220428T190000
DTSTAMP:20260420T223503
CREATED:20220316T150749Z
LAST-MODIFIED:20220404T105817Z
UID:10002368-1651140000-1651172400@poblenouurbandistrict.com
SUMMARY:[:ca]Exposició col·lectiva: Blanc i Negre[:es]Exposición colectiva: Blanco y Negro[:]
DESCRIPTION:L&B Gallery inaugura el 31 de març la nova exposició col·lectiva Blanc i Negre\, amb els artistes Pietro Capogrosso\, Antonio Lazo\, Vanessa Pey\, Joan Ill\, Sito Mujiza\, Xavi Muñoz i Meta Isæus-Berlin.
URL:https://poblenouurbandistrict.com/ca/agenda/exposicio-col%c2%b7lectiva-blanc-i-negre/2022-04-28/
LOCATION:L&B Gallery\, Àlaba 58\, Barcelona\, Barcelona\, 08005\, Espanya
CATEGORIES:Exposició
ATTACH;FMTTYPE=image/jpeg:https://media.poblenouurbandistrict.com/2022/03/25045345/pud-agenda-15.jpg
ORGANIZER;CN="L&B Gallery":MAILTO:galeria@lbcontemporaryart.com
END:VEVENT
BEGIN:VEVENT
DTSTART;TZID=Europe/Madrid:20220427T100000
DTEND;TZID=Europe/Madrid:20220427T190000
DTSTAMP:20260420T223503
CREATED:20220316T150749Z
LAST-MODIFIED:20220404T105817Z
UID:10002367-1651053600-1651086000@poblenouurbandistrict.com
SUMMARY:[:ca]Exposició col·lectiva: Blanc i Negre[:es]Exposición colectiva: Blanco y Negro[:]
DESCRIPTION:L&B Gallery inaugura el 31 de març la nova exposició col·lectiva Blanc i Negre\, amb els artistes Pietro Capogrosso\, Antonio Lazo\, Vanessa Pey\, Joan Ill\, Sito Mujiza\, Xavi Muñoz i Meta Isæus-Berlin.
URL:https://poblenouurbandistrict.com/ca/agenda/exposicio-col%c2%b7lectiva-blanc-i-negre/2022-04-27/
LOCATION:L&B Gallery\, Àlaba 58\, Barcelona\, Barcelona\, 08005\, Espanya
CATEGORIES:Exposició
ATTACH;FMTTYPE=image/jpeg:https://media.poblenouurbandistrict.com/2022/03/25045345/pud-agenda-15.jpg
ORGANIZER;CN="L&B Gallery":MAILTO:galeria@lbcontemporaryart.com
END:VEVENT
BEGIN:VEVENT
DTSTART;TZID=Europe/Madrid:20220426T100000
DTEND;TZID=Europe/Madrid:20220426T190000
DTSTAMP:20260420T223503
CREATED:20220316T150749Z
LAST-MODIFIED:20220404T105817Z
UID:10002366-1650967200-1650999600@poblenouurbandistrict.com
SUMMARY:[:ca]Exposició col·lectiva: Blanc i Negre[:es]Exposición colectiva: Blanco y Negro[:]
DESCRIPTION:L&B Gallery inaugura el 31 de març la nova exposició col·lectiva Blanc i Negre\, amb els artistes Pietro Capogrosso\, Antonio Lazo\, Vanessa Pey\, Joan Ill\, Sito Mujiza\, Xavi Muñoz i Meta Isæus-Berlin.
URL:https://poblenouurbandistrict.com/ca/agenda/exposicio-col%c2%b7lectiva-blanc-i-negre/2022-04-26/
LOCATION:L&B Gallery\, Àlaba 58\, Barcelona\, Barcelona\, 08005\, Espanya
CATEGORIES:Exposició
ATTACH;FMTTYPE=image/jpeg:https://media.poblenouurbandistrict.com/2022/03/25045345/pud-agenda-15.jpg
ORGANIZER;CN="L&B Gallery":MAILTO:galeria@lbcontemporaryart.com
END:VEVENT
BEGIN:VEVENT
DTSTART;TZID=Europe/Madrid:20220423T100000
DTEND;TZID=Europe/Madrid:20220423T190000
DTSTAMP:20260420T223503
CREATED:20220316T150749Z
LAST-MODIFIED:20220404T105817Z
UID:10002365-1650708000-1650740400@poblenouurbandistrict.com
SUMMARY:[:ca]Exposició col·lectiva: Blanc i Negre[:es]Exposición colectiva: Blanco y Negro[:]
DESCRIPTION:L&B Gallery inaugura el 31 de març la nova exposició col·lectiva Blanc i Negre\, amb els artistes Pietro Capogrosso\, Antonio Lazo\, Vanessa Pey\, Joan Ill\, Sito Mujiza\, Xavi Muñoz i Meta Isæus-Berlin.
URL:https://poblenouurbandistrict.com/ca/agenda/exposicio-col%c2%b7lectiva-blanc-i-negre/2022-04-23/
LOCATION:L&B Gallery\, Àlaba 58\, Barcelona\, Barcelona\, 08005\, Espanya
CATEGORIES:Exposició
ATTACH;FMTTYPE=image/jpeg:https://media.poblenouurbandistrict.com/2022/03/25045345/pud-agenda-15.jpg
ORGANIZER;CN="L&B Gallery":MAILTO:galeria@lbcontemporaryart.com
END:VEVENT
BEGIN:VEVENT
DTSTART;TZID=Europe/Madrid:20220422T100000
DTEND;TZID=Europe/Madrid:20220422T190000
DTSTAMP:20260420T223503
CREATED:20220316T150749Z
LAST-MODIFIED:20220404T105817Z
UID:10002364-1650621600-1650654000@poblenouurbandistrict.com
SUMMARY:[:ca]Exposició col·lectiva: Blanc i Negre[:es]Exposición colectiva: Blanco y Negro[:]
DESCRIPTION:L&B Gallery inaugura el 31 de març la nova exposició col·lectiva Blanc i Negre\, amb els artistes Pietro Capogrosso\, Antonio Lazo\, Vanessa Pey\, Joan Ill\, Sito Mujiza\, Xavi Muñoz i Meta Isæus-Berlin.
URL:https://poblenouurbandistrict.com/ca/agenda/exposicio-col%c2%b7lectiva-blanc-i-negre/2022-04-22/
LOCATION:L&B Gallery\, Àlaba 58\, Barcelona\, Barcelona\, 08005\, Espanya
CATEGORIES:Exposició
ATTACH;FMTTYPE=image/jpeg:https://media.poblenouurbandistrict.com/2022/03/25045345/pud-agenda-15.jpg
ORGANIZER;CN="L&B Gallery":MAILTO:galeria@lbcontemporaryart.com
END:VEVENT
BEGIN:VEVENT
DTSTART;TZID=Europe/Madrid:20220421T100000
DTEND;TZID=Europe/Madrid:20220421T190000
DTSTAMP:20260420T223503
CREATED:20220316T150749Z
LAST-MODIFIED:20220404T105817Z
UID:10002363-1650535200-1650567600@poblenouurbandistrict.com
SUMMARY:[:ca]Exposició col·lectiva: Blanc i Negre[:es]Exposición colectiva: Blanco y Negro[:]
DESCRIPTION:L&B Gallery inaugura el 31 de març la nova exposició col·lectiva Blanc i Negre\, amb els artistes Pietro Capogrosso\, Antonio Lazo\, Vanessa Pey\, Joan Ill\, Sito Mujiza\, Xavi Muñoz i Meta Isæus-Berlin.
URL:https://poblenouurbandistrict.com/ca/agenda/exposicio-col%c2%b7lectiva-blanc-i-negre/2022-04-21/
LOCATION:L&B Gallery\, Àlaba 58\, Barcelona\, Barcelona\, 08005\, Espanya
CATEGORIES:Exposició
ATTACH;FMTTYPE=image/jpeg:https://media.poblenouurbandistrict.com/2022/03/25045345/pud-agenda-15.jpg
ORGANIZER;CN="L&B Gallery":MAILTO:galeria@lbcontemporaryart.com
END:VEVENT
BEGIN:VEVENT
DTSTART;TZID=Europe/Madrid:20220420T100000
DTEND;TZID=Europe/Madrid:20220420T190000
DTSTAMP:20260420T223503
CREATED:20220316T150749Z
LAST-MODIFIED:20220404T105817Z
UID:10002362-1650448800-1650481200@poblenouurbandistrict.com
SUMMARY:[:ca]Exposició col·lectiva: Blanc i Negre[:es]Exposición colectiva: Blanco y Negro[:]
DESCRIPTION:L&B Gallery inaugura el 31 de març la nova exposició col·lectiva Blanc i Negre\, amb els artistes Pietro Capogrosso\, Antonio Lazo\, Vanessa Pey\, Joan Ill\, Sito Mujiza\, Xavi Muñoz i Meta Isæus-Berlin.
URL:https://poblenouurbandistrict.com/ca/agenda/exposicio-col%c2%b7lectiva-blanc-i-negre/2022-04-20/
LOCATION:L&B Gallery\, Àlaba 58\, Barcelona\, Barcelona\, 08005\, Espanya
CATEGORIES:Exposició
ATTACH;FMTTYPE=image/jpeg:https://media.poblenouurbandistrict.com/2022/03/25045345/pud-agenda-15.jpg
ORGANIZER;CN="L&B Gallery":MAILTO:galeria@lbcontemporaryart.com
END:VEVENT
BEGIN:VEVENT
DTSTART;TZID=Europe/Madrid:20220419T100000
DTEND;TZID=Europe/Madrid:20220419T190000
DTSTAMP:20260420T223503
CREATED:20220316T150749Z
LAST-MODIFIED:20220404T105817Z
UID:10002361-1650362400-1650394800@poblenouurbandistrict.com
SUMMARY:[:ca]Exposició col·lectiva: Blanc i Negre[:es]Exposición colectiva: Blanco y Negro[:]
DESCRIPTION:L&B Gallery inaugura el 31 de març la nova exposició col·lectiva Blanc i Negre\, amb els artistes Pietro Capogrosso\, Antonio Lazo\, Vanessa Pey\, Joan Ill\, Sito Mujiza\, Xavi Muñoz i Meta Isæus-Berlin.
URL:https://poblenouurbandistrict.com/ca/agenda/exposicio-col%c2%b7lectiva-blanc-i-negre/2022-04-19/
LOCATION:L&B Gallery\, Àlaba 58\, Barcelona\, Barcelona\, 08005\, Espanya
CATEGORIES:Exposició
ATTACH;FMTTYPE=image/jpeg:https://media.poblenouurbandistrict.com/2022/03/25045345/pud-agenda-15.jpg
ORGANIZER;CN="L&B Gallery":MAILTO:galeria@lbcontemporaryart.com
END:VEVENT
BEGIN:VEVENT
DTSTART;TZID=Europe/Madrid:20220416T100000
DTEND;TZID=Europe/Madrid:20220416T190000
DTSTAMP:20260420T223503
CREATED:20220316T150749Z
LAST-MODIFIED:20220404T105817Z
UID:10002360-1650103200-1650135600@poblenouurbandistrict.com
SUMMARY:[:ca]Exposició col·lectiva: Blanc i Negre[:es]Exposición colectiva: Blanco y Negro[:]
DESCRIPTION:L&B Gallery inaugura el 31 de març la nova exposició col·lectiva Blanc i Negre\, amb els artistes Pietro Capogrosso\, Antonio Lazo\, Vanessa Pey\, Joan Ill\, Sito Mujiza\, Xavi Muñoz i Meta Isæus-Berlin.
URL:https://poblenouurbandistrict.com/ca/agenda/exposicio-col%c2%b7lectiva-blanc-i-negre/2022-04-16/
LOCATION:L&B Gallery\, Àlaba 58\, Barcelona\, Barcelona\, 08005\, Espanya
CATEGORIES:Exposició
ATTACH;FMTTYPE=image/jpeg:https://media.poblenouurbandistrict.com/2022/03/25045345/pud-agenda-15.jpg
ORGANIZER;CN="L&B Gallery":MAILTO:galeria@lbcontemporaryart.com
END:VEVENT
BEGIN:VEVENT
DTSTART;TZID=Europe/Madrid:20220415T100000
DTEND;TZID=Europe/Madrid:20220415T190000
DTSTAMP:20260420T223503
CREATED:20220316T150749Z
LAST-MODIFIED:20220404T105817Z
UID:10002359-1650016800-1650049200@poblenouurbandistrict.com
SUMMARY:[:ca]Exposició col·lectiva: Blanc i Negre[:es]Exposición colectiva: Blanco y Negro[:]
DESCRIPTION:L&B Gallery inaugura el 31 de març la nova exposició col·lectiva Blanc i Negre\, amb els artistes Pietro Capogrosso\, Antonio Lazo\, Vanessa Pey\, Joan Ill\, Sito Mujiza\, Xavi Muñoz i Meta Isæus-Berlin.
URL:https://poblenouurbandistrict.com/ca/agenda/exposicio-col%c2%b7lectiva-blanc-i-negre/2022-04-15/
LOCATION:L&B Gallery\, Àlaba 58\, Barcelona\, Barcelona\, 08005\, Espanya
CATEGORIES:Exposició
ATTACH;FMTTYPE=image/jpeg:https://media.poblenouurbandistrict.com/2022/03/25045345/pud-agenda-15.jpg
ORGANIZER;CN="L&B Gallery":MAILTO:galeria@lbcontemporaryart.com
END:VEVENT
BEGIN:VEVENT
DTSTART;TZID=Europe/Madrid:20220414T100000
DTEND;TZID=Europe/Madrid:20220414T190000
DTSTAMP:20260420T223503
CREATED:20220316T150749Z
LAST-MODIFIED:20220404T105817Z
UID:10002358-1649930400-1649962800@poblenouurbandistrict.com
SUMMARY:[:ca]Exposició col·lectiva: Blanc i Negre[:es]Exposición colectiva: Blanco y Negro[:]
DESCRIPTION:L&B Gallery inaugura el 31 de març la nova exposició col·lectiva Blanc i Negre\, amb els artistes Pietro Capogrosso\, Antonio Lazo\, Vanessa Pey\, Joan Ill\, Sito Mujiza\, Xavi Muñoz i Meta Isæus-Berlin.
URL:https://poblenouurbandistrict.com/ca/agenda/exposicio-col%c2%b7lectiva-blanc-i-negre/2022-04-14/
LOCATION:L&B Gallery\, Àlaba 58\, Barcelona\, Barcelona\, 08005\, Espanya
CATEGORIES:Exposició
ATTACH;FMTTYPE=image/jpeg:https://media.poblenouurbandistrict.com/2022/03/25045345/pud-agenda-15.jpg
ORGANIZER;CN="L&B Gallery":MAILTO:galeria@lbcontemporaryart.com
END:VEVENT
BEGIN:VEVENT
DTSTART;TZID=Europe/Madrid:20220413T100000
DTEND;TZID=Europe/Madrid:20220413T190000
DTSTAMP:20260420T223503
CREATED:20220316T150749Z
LAST-MODIFIED:20220404T105817Z
UID:10002357-1649844000-1649876400@poblenouurbandistrict.com
SUMMARY:[:ca]Exposició col·lectiva: Blanc i Negre[:es]Exposición colectiva: Blanco y Negro[:]
DESCRIPTION:L&B Gallery inaugura el 31 de març la nova exposició col·lectiva Blanc i Negre\, amb els artistes Pietro Capogrosso\, Antonio Lazo\, Vanessa Pey\, Joan Ill\, Sito Mujiza\, Xavi Muñoz i Meta Isæus-Berlin.
URL:https://poblenouurbandistrict.com/ca/agenda/exposicio-col%c2%b7lectiva-blanc-i-negre/2022-04-13/
LOCATION:L&B Gallery\, Àlaba 58\, Barcelona\, Barcelona\, 08005\, Espanya
CATEGORIES:Exposició
ATTACH;FMTTYPE=image/jpeg:https://media.poblenouurbandistrict.com/2022/03/25045345/pud-agenda-15.jpg
ORGANIZER;CN="L&B Gallery":MAILTO:galeria@lbcontemporaryart.com
END:VEVENT
BEGIN:VEVENT
DTSTART;TZID=Europe/Madrid:20220412T100000
DTEND;TZID=Europe/Madrid:20220412T190000
DTSTAMP:20260420T223503
CREATED:20220316T150749Z
LAST-MODIFIED:20220404T105817Z
UID:10002356-1649757600-1649790000@poblenouurbandistrict.com
SUMMARY:[:ca]Exposició col·lectiva: Blanc i Negre[:es]Exposición colectiva: Blanco y Negro[:]
DESCRIPTION:L&B Gallery inaugura el 31 de març la nova exposició col·lectiva Blanc i Negre\, amb els artistes Pietro Capogrosso\, Antonio Lazo\, Vanessa Pey\, Joan Ill\, Sito Mujiza\, Xavi Muñoz i Meta Isæus-Berlin.
URL:https://poblenouurbandistrict.com/ca/agenda/exposicio-col%c2%b7lectiva-blanc-i-negre/2022-04-12/
LOCATION:L&B Gallery\, Àlaba 58\, Barcelona\, Barcelona\, 08005\, Espanya
CATEGORIES:Exposició
ATTACH;FMTTYPE=image/jpeg:https://media.poblenouurbandistrict.com/2022/03/25045345/pud-agenda-15.jpg
ORGANIZER;CN="L&B Gallery":MAILTO:galeria@lbcontemporaryart.com
END:VEVENT
BEGIN:VEVENT
DTSTART;TZID=Europe/Madrid:20220409T100000
DTEND;TZID=Europe/Madrid:20220409T190000
DTSTAMP:20260420T223503
CREATED:20220316T150749Z
LAST-MODIFIED:20220404T105817Z
UID:10002355-1649498400-1649530800@poblenouurbandistrict.com
SUMMARY:[:ca]Exposició col·lectiva: Blanc i Negre[:es]Exposición colectiva: Blanco y Negro[:]
DESCRIPTION:L&B Gallery inaugura el 31 de març la nova exposició col·lectiva Blanc i Negre\, amb els artistes Pietro Capogrosso\, Antonio Lazo\, Vanessa Pey\, Joan Ill\, Sito Mujiza\, Xavi Muñoz i Meta Isæus-Berlin.
URL:https://poblenouurbandistrict.com/ca/agenda/exposicio-col%c2%b7lectiva-blanc-i-negre/2022-04-09/
LOCATION:L&B Gallery\, Àlaba 58\, Barcelona\, Barcelona\, 08005\, Espanya
CATEGORIES:Exposició
ATTACH;FMTTYPE=image/jpeg:https://media.poblenouurbandistrict.com/2022/03/25045345/pud-agenda-15.jpg
ORGANIZER;CN="L&B Gallery":MAILTO:galeria@lbcontemporaryart.com
END:VEVENT
BEGIN:VEVENT
DTSTART;TZID=Europe/Madrid:20220408T100000
DTEND;TZID=Europe/Madrid:20220408T190000
DTSTAMP:20260420T223503
CREATED:20220316T150749Z
LAST-MODIFIED:20220404T105817Z
UID:10002354-1649412000-1649444400@poblenouurbandistrict.com
SUMMARY:[:ca]Exposició col·lectiva: Blanc i Negre[:es]Exposición colectiva: Blanco y Negro[:]
DESCRIPTION:L&B Gallery inaugura el 31 de març la nova exposició col·lectiva Blanc i Negre\, amb els artistes Pietro Capogrosso\, Antonio Lazo\, Vanessa Pey\, Joan Ill\, Sito Mujiza\, Xavi Muñoz i Meta Isæus-Berlin.
URL:https://poblenouurbandistrict.com/ca/agenda/exposicio-col%c2%b7lectiva-blanc-i-negre/2022-04-08/
LOCATION:L&B Gallery\, Àlaba 58\, Barcelona\, Barcelona\, 08005\, Espanya
CATEGORIES:Exposició
ATTACH;FMTTYPE=image/jpeg:https://media.poblenouurbandistrict.com/2022/03/25045345/pud-agenda-15.jpg
ORGANIZER;CN="L&B Gallery":MAILTO:galeria@lbcontemporaryart.com
END:VEVENT
BEGIN:VEVENT
DTSTART;TZID=Europe/Madrid:20220407T100000
DTEND;TZID=Europe/Madrid:20220407T190000
DTSTAMP:20260420T223503
CREATED:20220316T150749Z
LAST-MODIFIED:20220404T105817Z
UID:10002353-1649325600-1649358000@poblenouurbandistrict.com
SUMMARY:[:ca]Exposició col·lectiva: Blanc i Negre[:es]Exposición colectiva: Blanco y Negro[:]
DESCRIPTION:L&B Gallery inaugura el 31 de març la nova exposició col·lectiva Blanc i Negre\, amb els artistes Pietro Capogrosso\, Antonio Lazo\, Vanessa Pey\, Joan Ill\, Sito Mujiza\, Xavi Muñoz i Meta Isæus-Berlin.
URL:https://poblenouurbandistrict.com/ca/agenda/exposicio-col%c2%b7lectiva-blanc-i-negre/2022-04-07/
LOCATION:L&B Gallery\, Àlaba 58\, Barcelona\, Barcelona\, 08005\, Espanya
CATEGORIES:Exposició
ATTACH;FMTTYPE=image/jpeg:https://media.poblenouurbandistrict.com/2022/03/25045345/pud-agenda-15.jpg
ORGANIZER;CN="L&B Gallery":MAILTO:galeria@lbcontemporaryart.com
END:VEVENT
BEGIN:VEVENT
DTSTART;TZID=Europe/Madrid:20220406T100000
DTEND;TZID=Europe/Madrid:20220406T190000
DTSTAMP:20260420T223503
CREATED:20220316T150749Z
LAST-MODIFIED:20220404T105817Z
UID:10002352-1649239200-1649271600@poblenouurbandistrict.com
SUMMARY:[:ca]Exposició col·lectiva: Blanc i Negre[:es]Exposición colectiva: Blanco y Negro[:]
DESCRIPTION:L&B Gallery inaugura el 31 de març la nova exposició col·lectiva Blanc i Negre\, amb els artistes Pietro Capogrosso\, Antonio Lazo\, Vanessa Pey\, Joan Ill\, Sito Mujiza\, Xavi Muñoz i Meta Isæus-Berlin.
URL:https://poblenouurbandistrict.com/ca/agenda/exposicio-col%c2%b7lectiva-blanc-i-negre/2022-04-06/
LOCATION:L&B Gallery\, Àlaba 58\, Barcelona\, Barcelona\, 08005\, Espanya
CATEGORIES:Exposició
ATTACH;FMTTYPE=image/jpeg:https://media.poblenouurbandistrict.com/2022/03/25045345/pud-agenda-15.jpg
ORGANIZER;CN="L&B Gallery":MAILTO:galeria@lbcontemporaryart.com
END:VEVENT
BEGIN:VEVENT
DTSTART;TZID=Europe/Madrid:20220405T100000
DTEND;TZID=Europe/Madrid:20220405T190000
DTSTAMP:20260420T223503
CREATED:20220316T150749Z
LAST-MODIFIED:20220404T105817Z
UID:10002351-1649152800-1649185200@poblenouurbandistrict.com
SUMMARY:[:ca]Exposició col·lectiva: Blanc i Negre[:es]Exposición colectiva: Blanco y Negro[:]
DESCRIPTION:L&B Gallery inaugura el 31 de març la nova exposició col·lectiva Blanc i Negre\, amb els artistes Pietro Capogrosso\, Antonio Lazo\, Vanessa Pey\, Joan Ill\, Sito Mujiza\, Xavi Muñoz i Meta Isæus-Berlin.
URL:https://poblenouurbandistrict.com/ca/agenda/exposicio-col%c2%b7lectiva-blanc-i-negre/2022-04-05/
LOCATION:L&B Gallery\, Àlaba 58\, Barcelona\, Barcelona\, 08005\, Espanya
CATEGORIES:Exposició
ATTACH;FMTTYPE=image/jpeg:https://media.poblenouurbandistrict.com/2022/03/25045345/pud-agenda-15.jpg
ORGANIZER;CN="L&B Gallery":MAILTO:galeria@lbcontemporaryart.com
END:VEVENT
BEGIN:VEVENT
DTSTART;TZID=Europe/Madrid:20220402T100000
DTEND;TZID=Europe/Madrid:20220402T190000
DTSTAMP:20260420T223503
CREATED:20220316T150749Z
LAST-MODIFIED:20220404T105817Z
UID:10002350-1648893600-1648926000@poblenouurbandistrict.com
SUMMARY:[:ca]Exposició col·lectiva: Blanc i Negre[:es]Exposición colectiva: Blanco y Negro[:]
DESCRIPTION:L&B Gallery inaugura el 31 de març la nova exposició col·lectiva Blanc i Negre\, amb els artistes Pietro Capogrosso\, Antonio Lazo\, Vanessa Pey\, Joan Ill\, Sito Mujiza\, Xavi Muñoz i Meta Isæus-Berlin.
URL:https://poblenouurbandistrict.com/ca/agenda/exposicio-col%c2%b7lectiva-blanc-i-negre/2022-04-02/
LOCATION:L&B Gallery\, Àlaba 58\, Barcelona\, Barcelona\, 08005\, Espanya
CATEGORIES:Exposició
ATTACH;FMTTYPE=image/jpeg:https://media.poblenouurbandistrict.com/2022/03/25045345/pud-agenda-15.jpg
ORGANIZER;CN="L&B Gallery":MAILTO:galeria@lbcontemporaryart.com
END:VEVENT
BEGIN:VEVENT
DTSTART;TZID=Europe/Madrid:20220401T100000
DTEND;TZID=Europe/Madrid:20220401T190000
DTSTAMP:20260420T223503
CREATED:20220316T150749Z
LAST-MODIFIED:20220404T105817Z
UID:10002349-1648807200-1648839600@poblenouurbandistrict.com
SUMMARY:[:ca]Exposició col·lectiva: Blanc i Negre[:es]Exposición colectiva: Blanco y Negro[:]
DESCRIPTION:L&B Gallery inaugura el 31 de març la nova exposició col·lectiva Blanc i Negre\, amb els artistes Pietro Capogrosso\, Antonio Lazo\, Vanessa Pey\, Joan Ill\, Sito Mujiza\, Xavi Muñoz i Meta Isæus-Berlin.
URL:https://poblenouurbandistrict.com/ca/agenda/exposicio-col%c2%b7lectiva-blanc-i-negre/2022-04-01/
LOCATION:L&B Gallery\, Àlaba 58\, Barcelona\, Barcelona\, 08005\, Espanya
CATEGORIES:Exposició
ATTACH;FMTTYPE=image/jpeg:https://media.poblenouurbandistrict.com/2022/03/25045345/pud-agenda-15.jpg
ORGANIZER;CN="L&B Gallery":MAILTO:galeria@lbcontemporaryart.com
END:VEVENT
END:VCALENDAR