BEGIN:VCALENDAR
VERSION:2.0
PRODID:-//Poblenou Urban District - ECPv6.15.20//NONSGML v1.0//EN
CALSCALE:GREGORIAN
METHOD:PUBLISH
X-WR-CALNAME:Poblenou Urban District
X-ORIGINAL-URL:https://poblenouurbandistrict.com/ca
X-WR-CALDESC:Esdeveniments per Poblenou Urban District
REFRESH-INTERVAL;VALUE=DURATION:PT1H
X-Robots-Tag:noindex
X-PUBLISHED-TTL:PT1H
BEGIN:VTIMEZONE
TZID:Europe/Madrid
BEGIN:DAYLIGHT
TZOFFSETFROM:+0100
TZOFFSETTO:+0200
TZNAME:CEST
DTSTART:20210328T010000
END:DAYLIGHT
BEGIN:STANDARD
TZOFFSETFROM:+0200
TZOFFSETTO:+0100
TZNAME:CET
DTSTART:20211031T010000
END:STANDARD
BEGIN:DAYLIGHT
TZOFFSETFROM:+0100
TZOFFSETTO:+0200
TZNAME:CEST
DTSTART:20220327T010000
END:DAYLIGHT
BEGIN:STANDARD
TZOFFSETFROM:+0200
TZOFFSETTO:+0100
TZNAME:CET
DTSTART:20221030T010000
END:STANDARD
BEGIN:DAYLIGHT
TZOFFSETFROM:+0100
TZOFFSETTO:+0200
TZNAME:CEST
DTSTART:20230326T010000
END:DAYLIGHT
BEGIN:STANDARD
TZOFFSETFROM:+0200
TZOFFSETTO:+0100
TZNAME:CET
DTSTART:20231029T010000
END:STANDARD
END:VTIMEZONE
BEGIN:VEVENT
DTSTART;TZID=Europe/Madrid:20220607T170000
DTEND;TZID=Europe/Madrid:20220607T200000
DTSTAMP:20260420T173354
CREATED:20220519T154450Z
LAST-MODIFIED:20220519T154450Z
UID:10003552-1654621200-1654632000@poblenouurbandistrict.com
SUMMARY:[:ca]Tallers: Damos la corriente[:es]Talleres: Damos la corriente[:en]Workshops: Damos la corriente[:]
DESCRIPTION:Demos la corriente són una sèrie de tallers entorn de la cura d’equips electroacústics i les maneres d’obtenir d’ells el millor rendiment possible. Està pensat per a residents i sòcies de La Escocesa pero està obert a qualsevol persona interessada. Aquí aprendreu a utilitzar l’equipament sonor de la fàbrica\, a muntar sets d’efectes\, a fabricar micròfons de contacte\, realitzar enregistraments de camp i familiaritzar-te amb els rudiments bàsics de la postproducció d’àudio.
URL:https://poblenouurbandistrict.com/ca/agenda/tallers-damos-la-corriente/2022-06-07/
LOCATION:La Escocesa\, C. de Pere IV\, 345\, Barcelona\, Barcelona\, 08020\, Espanya
CATEGORIES:Curs,Música,Taller
ATTACH;FMTTYPE=image/jpeg:https://media.poblenouurbandistrict.com/2022/05/25051839/et-communicator-cropped-by-mattingly23-cc-by30.jpg
END:VEVENT
BEGIN:VEVENT
DTSTART;TZID=Europe/Madrid:20220531T170000
DTEND;TZID=Europe/Madrid:20220531T200000
DTSTAMP:20260420T173354
CREATED:20220519T154450Z
LAST-MODIFIED:20220519T154450Z
UID:10003551-1654016400-1654027200@poblenouurbandistrict.com
SUMMARY:[:ca]Tallers: Damos la corriente[:es]Talleres: Damos la corriente[:en]Workshops: Damos la corriente[:]
DESCRIPTION:Demos la corriente són una sèrie de tallers entorn de la cura d’equips electroacústics i les maneres d’obtenir d’ells el millor rendiment possible. Està pensat per a residents i sòcies de La Escocesa pero està obert a qualsevol persona interessada. Aquí aprendreu a utilitzar l’equipament sonor de la fàbrica\, a muntar sets d’efectes\, a fabricar micròfons de contacte\, realitzar enregistraments de camp i familiaritzar-te amb els rudiments bàsics de la postproducció d’àudio.
URL:https://poblenouurbandistrict.com/ca/agenda/tallers-damos-la-corriente/2022-05-31/
LOCATION:La Escocesa\, C. de Pere IV\, 345\, Barcelona\, Barcelona\, 08020\, Espanya
CATEGORIES:Curs,Música,Taller
ATTACH;FMTTYPE=image/jpeg:https://media.poblenouurbandistrict.com/2022/05/25051839/et-communicator-cropped-by-mattingly23-cc-by30.jpg
END:VEVENT
BEGIN:VEVENT
DTSTART;TZID=Europe/Madrid:20220527T113000
DTEND;TZID=Europe/Madrid:20220527T123000
DTSTAMP:20260420T173354
CREATED:20220519T153636Z
LAST-MODIFIED:20220519T153636Z
UID:10003549-1653651000-1653654600@poblenouurbandistrict.com
SUMMARY:[:ca]Visita guiada: La Escocesa[:es]Visita guiada: La Escocesa[:en]Guided visit: La Escocesa[:]
DESCRIPTION:El 27 de maig\, La Escocesa torna a obrir les seves portes! Vine a visitar l’espai\, a conèixer el seu funcionament\, i a viure’n la seva realitat aquest divendres a les 11:30 h.
URL:https://poblenouurbandistrict.com/ca/agenda/visita-guiada-la-escocesa/
LOCATION:La Escocesa\, C. de Pere IV\, 345\, Barcelona\, Barcelona\, 08020\, Espanya
CATEGORIES:Exposició,Xerrada
ATTACH;FMTTYPE=image/jpeg:https://media.poblenouurbandistrict.com/2022/05/25051838/282831021-3252605958344052-8524832273192592215-n.jpg
END:VEVENT
BEGIN:VEVENT
DTSTART;TZID=Europe/Madrid:20220524T170000
DTEND;TZID=Europe/Madrid:20220524T200000
DTSTAMP:20260420T173354
CREATED:20220519T154450Z
LAST-MODIFIED:20220519T154450Z
UID:10003550-1653411600-1653422400@poblenouurbandistrict.com
SUMMARY:[:ca]Tallers: Damos la corriente[:es]Talleres: Damos la corriente[:en]Workshops: Damos la corriente[:]
DESCRIPTION:Demos la corriente són una sèrie de tallers entorn de la cura d’equips electroacústics i les maneres d’obtenir d’ells el millor rendiment possible. Està pensat per a residents i sòcies de La Escocesa pero està obert a qualsevol persona interessada. Aquí aprendreu a utilitzar l’equipament sonor de la fàbrica\, a muntar sets d’efectes\, a fabricar micròfons de contacte\, realitzar enregistraments de camp i familiaritzar-te amb els rudiments bàsics de la postproducció d’àudio.
URL:https://poblenouurbandistrict.com/ca/agenda/tallers-damos-la-corriente/2022-05-24/
LOCATION:La Escocesa\, C. de Pere IV\, 345\, Barcelona\, Barcelona\, 08020\, Espanya
CATEGORIES:Curs,Música,Taller
ATTACH;FMTTYPE=image/jpeg:https://media.poblenouurbandistrict.com/2022/05/25051839/et-communicator-cropped-by-mattingly23-cc-by30.jpg
END:VEVENT
BEGIN:VEVENT
DTSTART;TZID=Europe/Madrid:20220331T180000
DTEND;TZID=Europe/Madrid:20220331T180000
DTSTAMP:20260420T173354
CREATED:20220303T165356Z
LAST-MODIFIED:20220303T165356Z
UID:10002628-1648749600-1648749600@poblenouurbandistrict.com
SUMMARY:[:ca]Future Forest Diorama - La Escocesa[:es]Future Forest Diorama - La Escocesa[:]
DESCRIPTION:Ves a la presentació final del projecte de recerca artística Future Forest Diorama. Les artistes Carola Moujan i Agustín Ortiz Herrera\, acompanyades d’un grup de còmplices\, proposen una sessió experimental en la qual s’activaran alguns dels materials amb els quals han treballat durant el procés. També presentaran la publicació produïda al final del projecte. Aquest projecte ha estat realitzat en col·laboració amb el CREAF.
URL:https://poblenouurbandistrict.com/ca/agenda/future-forest-diorama-la-escocesa/
LOCATION:La Escocesa\, C. de Pere IV\, 345\, Barcelona\, Barcelona\, 08020\, Espanya
ATTACH;FMTTYPE=image/jpeg:https://media.poblenouurbandistrict.com/2022/03/25045023/unnamed.jpg
END:VEVENT
BEGIN:VEVENT
DTSTART;VALUE=DATE:20220325
DTEND;VALUE=DATE:20220326
DTSTAMP:20260420T173354
CREATED:20220303T164248Z
LAST-MODIFIED:20220303T164331Z
UID:10002627-1648166400-1648252799@poblenouurbandistrict.com
SUMMARY:[:ca]Portes Obertes en La Escocesa[:es]Puertas Abiertas en La Escocesa[:]
DESCRIPTION:Les portes per realitzar visites guiades on podràs conèixer l’espai i  entendre el seu funcionament.
URL:https://poblenouurbandistrict.com/ca/agenda/portes-obertes-en-la-escocesa/
LOCATION:La Escocesa\, C. de Pere IV\, 345\, Barcelona\, Barcelona\, 08020\, Espanya
CATEGORIES:Exposició
ATTACH;FMTTYPE=image/png:https://poblenouurbandistrict.com/wp-content/uploads/2022/03/diseno-sin-titulo-5.jpg
END:VEVENT
BEGIN:VEVENT
DTSTART;TZID=Europe/Madrid:20220324T180000
DTEND;TZID=Europe/Madrid:20220324T200000
DTSTAMP:20260420T173354
CREATED:20220303T162848Z
LAST-MODIFIED:20220303T162848Z
UID:10002315-1648144800-1648152000@poblenouurbandistrict.com
SUMMARY:[:ca]PROJECTES SELECCIONATS EN LA CONVOCATÒRIA 2021 NEXES CIUTAT I LA ESCOCESA[:es]PROYECTOS SELECCIONADOS EN LA CONVOCATORIA 2021 NEXOS CIUDAD Y LA ESCOCESA[:]
DESCRIPTION:Es durà a terme la presentació final dels projectes seleccionats en 2021 en les beques de recerca artística de La Escocesa + IDENSITAT.
URL:https://poblenouurbandistrict.com/ca/agenda/projectes-seleccionats-en-la-convocatoria-2021-nexes-ciutat-i-la-escocesa/
LOCATION:La Escocesa\, C. de Pere IV\, 345\, Barcelona\, Barcelona\, 08020\, Espanya
CATEGORIES:Xerrada
ATTACH;FMTTYPE=image/jpeg:https://media.poblenouurbandistrict.com/2022/03/25045021/diseno-sin-titulo-4-2.jpg
END:VEVENT
BEGIN:VEVENT
DTSTART;TZID=Europe/Madrid:20220303T110000
DTEND;TZID=Europe/Madrid:20220303T190000
DTSTAMP:20260420T173354
CREATED:20220303T151730Z
LAST-MODIFIED:20220303T151730Z
UID:10002312-1646305200-1646334000@poblenouurbandistrict.com
SUMMARY:[:ca]Presentació final del projecte - La escocesa[:es]Presentación final de proyecto - La Escocesa[:]
DESCRIPTION:Presentació final del projecte seleccionat en les beques de recerca artística de La Escocesa 2021 Memorias de las diásporas fabriles. 
URL:https://poblenouurbandistrict.com/ca/agenda/presentacio-final-del-projecte-la-escocesa/
LOCATION:La Escocesa\, C. de Pere IV\, 345\, Barcelona\, Barcelona\, 08020\, Espanya
CATEGORIES:Xerrada
ATTACH;FMTTYPE=image/png:https://poblenouurbandistrict.com/wp-content/uploads/2022/03/diseno-sin-titulo-2-1.jpg
END:VEVENT
BEGIN:VEVENT
DTSTART;TZID=Europe/Madrid:20220225T113000
DTEND;TZID=Europe/Madrid:20220225T123000
DTSTAMP:20260420T173354
CREATED:20220204T164652Z
LAST-MODIFIED:20220208T105936Z
UID:10002203-1645788600-1645792200@poblenouurbandistrict.com
SUMMARY:[:ca]Visita guiada a La Escocesa[:es]Visita guiada a La Escocesa[:]
DESCRIPTION:El divendres 25 de febrer a les 11:30h obrim les portes per realitzar visites guiades on podràs conèixer l’espai i  entendre el seu funcionament. \n 
URL:https://poblenouurbandistrict.com/ca/agenda/visita-guiada-a-la-escocesa/
LOCATION:La Escocesa\, C. de Pere IV\, 345\, Barcelona\, Barcelona\, 08020\, Espanya
ATTACH;FMTTYPE=image/jpeg:https://media.poblenouurbandistrict.com/2022/02/25044539/271252917-464176415337248-7734497069940267796-n.jpg
END:VEVENT
BEGIN:VEVENT
DTSTART;TZID=Europe/Madrid:20220216T170000
DTEND;TZID=Europe/Madrid:20220216T200000
DTSTAMP:20260420T173354
CREATED:20220204T162129Z
LAST-MODIFIED:20220204T162129Z
UID:10002202-1645030800-1645041600@poblenouurbandistrict.com
SUMMARY:[:ca]RISOGRAFIA. ABRAÇAR L'ERROR[:es]RISOGRAFIA. ABRAÇAR L'ERROR[:]
DESCRIPTION:Presentació de les publicacions auto-editades al taller de risografia de La Escocesa amb els programes Entreteixides — Can Felipa Diàlegs — PAAC
URL:https://poblenouurbandistrict.com/ca/agenda/risografia-abracar-lerror/
LOCATION:La Escocesa\, C. de Pere IV\, 345\, Barcelona\, Barcelona\, 08020\, Espanya
ATTACH;FMTTYPE=image/jpeg:https://media.poblenouurbandistrict.com/2022/02/25044517/unnamed-1.jpg
END:VEVENT
BEGIN:VEVENT
DTSTART;TZID=Europe/Madrid:20220210T170000
DTEND;TZID=Europe/Madrid:20220210T183000
DTSTAMP:20260420T173354
CREATED:20220204T160228Z
LAST-MODIFIED:20220204T160228Z
UID:10002201-1644512400-1644517800@poblenouurbandistrict.com
SUMMARY:[:ca]PRESENTACIÓ "MANIOBRAS ACELERACIONISTAS"[:es]PRESENTACIÓN "MANIOBRAS ACELERACIONISTAS"[:]
DESCRIPTION:El 10 de febrer a les 17h\, Pablo Roso presenta el llibre resultat del projecte de recerca i experimentació artística La Escocesa 2020.
URL:https://poblenouurbandistrict.com/ca/agenda/presentacio-maniobras-aceleracionistas/
LOCATION:La Escocesa\, C. de Pere IV\, 345\, Barcelona\, Barcelona\, 08020\, Espanya
ATTACH;FMTTYPE=image/jpeg:https://media.poblenouurbandistrict.com/2022/02/25044515/unnamed.jpg
END:VEVENT
END:VCALENDAR