BEGIN:VCALENDAR
VERSION:2.0
PRODID:-//Poblenou Urban District - ECPv6.15.20//NONSGML v1.0//EN
CALSCALE:GREGORIAN
METHOD:PUBLISH
X-ORIGINAL-URL:https://poblenouurbandistrict.com/en
X-WR-CALDESC:Events for Poblenou Urban District
REFRESH-INTERVAL;VALUE=DURATION:PT1H
X-Robots-Tag:noindex
X-PUBLISHED-TTL:PT1H
BEGIN:VTIMEZONE
TZID:Europe/Madrid
BEGIN:DAYLIGHT
TZOFFSETFROM:+0100
TZOFFSETTO:+0200
TZNAME:CEST
DTSTART:20240331T010000
END:DAYLIGHT
BEGIN:STANDARD
TZOFFSETFROM:+0200
TZOFFSETTO:+0100
TZNAME:CET
DTSTART:20241027T010000
END:STANDARD
BEGIN:DAYLIGHT
TZOFFSETFROM:+0100
TZOFFSETTO:+0200
TZNAME:CEST
DTSTART:20250330T010000
END:DAYLIGHT
BEGIN:STANDARD
TZOFFSETFROM:+0200
TZOFFSETTO:+0100
TZNAME:CET
DTSTART:20251026T010000
END:STANDARD
BEGIN:DAYLIGHT
TZOFFSETFROM:+0100
TZOFFSETTO:+0200
TZNAME:CEST
DTSTART:20260329T010000
END:DAYLIGHT
BEGIN:STANDARD
TZOFFSETFROM:+0200
TZOFFSETTO:+0100
TZNAME:CET
DTSTART:20261025T010000
END:STANDARD
END:VTIMEZONE
BEGIN:VEVENT
DTSTART;TZID=Europe/Madrid:20250915T200000
DTEND;TZID=Europe/Madrid:20251015T200000
DTSTAMP:20260421T125030
CREATED:20250903T110426Z
LAST-MODIFIED:20250903T110426Z
UID:10007223-1757966400-1760558400@poblenouurbandistrict.com
SUMMARY:[:ca]El potser com a públic\, de Perejaume[:es]El potser com a públic de Perejaume[:en]El potser com a públic de Perejaume[:]
DESCRIPTION:Sorry\, this entry is only available in Català and Castellano.
URL:https://poblenouurbandistrict.com/en/agenda/el-potser-com-a-public-de-perejaume/
LOCATION:Sala Beckett\, C. de Pere IV\, 228\, 232\, Barcelona\, Barcelona\, 08005
ATTACH;FMTTYPE=image/jpeg:https://media.poblenouurbandistrict.com/2025/09/25092436/unnamed-3.jpg
END:VEVENT
BEGIN:VEVENT
DTSTART;VALUE=DATE:20250917
DTEND;VALUE=DATE:20251020
DTSTAMP:20260421T125030
CREATED:20250903T102708Z
LAST-MODIFIED:20250903T104003Z
UID:10007219-1758067200-1760918399@poblenouurbandistrict.com
SUMMARY:DEL FANDOM AL TROLEIG Una sàtira del bla bla bla de Berta Prieto
DESCRIPTION:Sorry\, this entry is only available in Català and Castellano.
URL:https://poblenouurbandistrict.com/en/agenda/del-fandom-al-troleig-una-satira-del-bla-bla-bla-de-berta-prieto-2/
LOCATION:Sala Beckett\, C. de Pere IV\, 228\, 232\, Barcelona\, Barcelona\, 08005
ATTACH;FMTTYPE=image/jpeg:https://media.poblenouurbandistrict.com/2025/09/25092427/unnamed-2.jpg
END:VEVENT
BEGIN:VEVENT
DTSTART;VALUE=DATE:20250918
DTEND;VALUE=DATE:20251014
DTSTAMP:20260421T125030
CREATED:20250916T120135Z
LAST-MODIFIED:20250916T120344Z
UID:10007260-1758153600-1760399999@poblenouurbandistrict.com
SUMMARY:[:ca]Inauguració "The Soft Collapse" de Per Hendrik Adolfsson a La Plataforma[:es]Inauguración "The Soft Collapse" de Per Hendrik Adolfsson en La Plataforma[:]
DESCRIPTION:Sorry\, this entry is only available in Castellano.
URL:https://poblenouurbandistrict.com/en/agenda/inauguracio-the-soft-collapse-de-per-hendrik-adolfsson-a-la-plataforma/
LOCATION:La Plataforma\, Pujades 99\, bxs.\, Barcelona\, Catalunya\, España
ATTACH;FMTTYPE=image/jpeg:https://media.poblenouurbandistrict.com/2025/09/25092809/banner-nesletter.jpg
ORGANIZER;CN="La Plataforma":MAILTO:bcnplataforma@gmail.com
END:VEVENT
BEGIN:VEVENT
DTSTART;VALUE=DATE:20250919
DTEND;VALUE=DATE:20251013
DTSTAMP:20260421T125030
CREATED:20250903T103238Z
LAST-MODIFIED:20250903T103847Z
UID:10007220-1758240000-1760313599@poblenouurbandistrict.com
SUMMARY:[:ca]EL MEU GERMÀ\, BERNARD de Cia La Segona Millor[:es]EL MEU GERMÀ\, BERNARD de Cia La Segona Millor[:en] EL MEU GERMÀ\, BERNARD de Cia La Segona Millor[:]
DESCRIPTION:Sorry\, this entry is only available in Català and Castellano.
URL:https://poblenouurbandistrict.com/en/agenda/el-meu-germa-bernard-de-cia-la-segona-millor/
LOCATION:Sala Beckett\, C. de Pere IV\, 228\, 232\, Barcelona\, Barcelona\, 08005
END:VEVENT
BEGIN:VEVENT
DTSTART;VALUE=DATE:20250923
DTEND;VALUE=DATE:20251017
DTSTAMP:20260421T125030
CREATED:20250917T095121Z
LAST-MODIFIED:20250917T095251Z
UID:10007263-1758585600-1760659199@poblenouurbandistrict.com
SUMMARY:De los juegos de niñez\, de Letícia Costelha
DESCRIPTION:
URL:https://poblenouurbandistrict.com/en/agenda/de-los-juegos-de-ninez-de-leticia-costelha/
LOCATION:BAU\, Carrer de Pujades\, 118\, Barcelona\, Barcelona\, 08005\, Espanya
ATTACH;FMTTYPE=image/jpeg:https://media.poblenouurbandistrict.com/2025/09/25092959/save-the-date-presentamos-de-los-juegos-de-ninez-exposicion-individual-de-leticia-cos.jpg
END:VEVENT
BEGIN:VEVENT
DTSTART;VALUE=DATE:20250923
DTEND;VALUE=DATE:20251027
DTSTAMP:20260421T125030
CREATED:20250917T093143Z
LAST-MODIFIED:20250917T093143Z
UID:10007261-1758585600-1761523199@poblenouurbandistrict.com
SUMMARY:[:ca]Museu Can Framis: Premi Antoni Vila Casas de Pintura 2025[:es]Museu Can Framis: Premio Antoni Vila Casas de Pintura 2025[:en]Museu Can Framis: Antoni Vila Casas Painting Prize 2025[:]
DESCRIPTION:
URL:https://poblenouurbandistrict.com/en/agenda/museu-can-framis-premi-antoni-vila-casas-de-pintura-2025/
LOCATION:Museu Can Framis\, carrer de Roc Boronat\, 116\, 126\, Barcelona\, Barcelona\, 08018\, Espanya
END:VEVENT
BEGIN:VEVENT
DTSTART;VALUE=DATE:20250923
DTEND;VALUE=DATE:20251027
DTSTAMP:20260421T125030
CREATED:20250917T094141Z
LAST-MODIFIED:20250917T095406Z
UID:10007262-1758585600-1761523199@poblenouurbandistrict.com
SUMMARY:Marc Larré\, Escultura i poder - Museu Can Framis
DESCRIPTION:
URL:https://poblenouurbandistrict.com/en/agenda/marc-larre-escultura-i-poder-museu-can-framis/
LOCATION:Museu Can Framis\, carrer de Roc Boronat\, 116\, 126\, Barcelona\, Barcelona\, 08018\, Espanya
END:VEVENT
BEGIN:VEVENT
DTSTART;VALUE=DATE:20250924
DTEND;VALUE=DATE:20251010
DTSTAMP:20260421T125030
CREATED:20250905T113150Z
LAST-MODIFIED:20250905T113212Z
UID:10007241-1758672000-1760054399@poblenouurbandistrict.com
SUMMARY:La mort i la primavera
DESCRIPTION:Sorry\, this entry is only available in Català.
URL:https://poblenouurbandistrict.com/en/agenda/la-mort-i-la-primavera/
LOCATION:Teatre Nacional de Catalunya\, Plaça de les Arts\, 1\, Barcelona\, 08013
ATTACH;FMTTYPE=image/jpeg:https://media.poblenouurbandistrict.com/2025/09/25092610/740x740-la-mort-i-la-primavera.jpg
END:VEVENT
BEGIN:VEVENT
DTSTART;TZID=Europe/Madrid:20250925T190000
DTEND;TZID=Europe/Madrid:20250925T190000
DTSTAMP:20260421T125030
CREATED:20250915T083136Z
LAST-MODIFIED:20250915T083136Z
UID:10007252-1758826800-1758826800@poblenouurbandistrict.com
SUMMARY:HAPPY MONDAYS + THE GULPS
DESCRIPTION:
URL:https://poblenouurbandistrict.com/en/agenda/happy-mondays-the-gulps/
LOCATION:Sala Razzmatazz\, C/ dels Almogàvers\, 122\, Barcelona\, Barcelona\, 08018\, Espanya
ATTACH;FMTTYPE=image/jpeg:https://media.poblenouurbandistrict.com/2025/09/25092853/hm1.jpg
END:VEVENT
BEGIN:VEVENT
DTSTART;TZID=Europe/Madrid:20250925T200000
DTEND;TZID=Europe/Madrid:20250925T200000
DTSTAMP:20260421T125030
CREATED:20250903T101314Z
LAST-MODIFIED:20250903T101314Z
UID:10007216-1758830400-1758830400@poblenouurbandistrict.com
SUMMARY:NICE GUYS El mejor tributo a Green Day del mundo
DESCRIPTION:Sorry\, this entry is only available in Castellano.
URL:https://poblenouurbandistrict.com/en/agenda/nice-guys-el-mejor-tributo-a-green-day-del-mundo/
LOCATION:La Nau
ATTACH;FMTTYPE=image/jpeg:https://media.poblenouurbandistrict.com/2025/09/25092339/barcelona-800x800-web.jpg
END:VEVENT
BEGIN:VEVENT
DTSTART;TZID=Europe/Madrid:20250925T200000
DTEND;TZID=Europe/Madrid:20250925T200000
DTSTAMP:20260421T125030
CREATED:20250915T082903Z
LAST-MODIFIED:20250915T082903Z
UID:10007251-1758830400-1758830400@poblenouurbandistrict.com
SUMMARY:EDAPOLLO + JUNO MAMBA
DESCRIPTION:
URL:https://poblenouurbandistrict.com/en/agenda/edapollo-juno-mamba/
LOCATION:Sala Razzmatazz\, C/ dels Almogàvers\, 122\, Barcelona\, Barcelona\, 08018\, Espanya
ATTACH;FMTTYPE=image/png:https://media.poblenouurbandistrict.com/2025/09/25092850/edapollo-1000x540-1.png
END:VEVENT
END:VCALENDAR