BEGIN:VCALENDAR
VERSION:2.0
PRODID:-//Poblenou Urban District - ECPv6.15.20//NONSGML v1.0//EN
CALSCALE:GREGORIAN
METHOD:PUBLISH
X-WR-CALNAME:Poblenou Urban District
X-ORIGINAL-URL:https://poblenouurbandistrict.com/en
X-WR-CALDESC:Events for Poblenou Urban District
REFRESH-INTERVAL;VALUE=DURATION:PT1H
X-Robots-Tag:noindex
X-PUBLISHED-TTL:PT1H
BEGIN:VTIMEZONE
TZID:Europe/Madrid
BEGIN:DAYLIGHT
TZOFFSETFROM:+0100
TZOFFSETTO:+0200
TZNAME:CEST
DTSTART:20240331T010000
END:DAYLIGHT
BEGIN:STANDARD
TZOFFSETFROM:+0200
TZOFFSETTO:+0100
TZNAME:CET
DTSTART:20241027T010000
END:STANDARD
BEGIN:DAYLIGHT
TZOFFSETFROM:+0100
TZOFFSETTO:+0200
TZNAME:CEST
DTSTART:20250330T010000
END:DAYLIGHT
BEGIN:STANDARD
TZOFFSETFROM:+0200
TZOFFSETTO:+0100
TZNAME:CET
DTSTART:20251026T010000
END:STANDARD
BEGIN:DAYLIGHT
TZOFFSETFROM:+0100
TZOFFSETTO:+0200
TZNAME:CEST
DTSTART:20260329T010000
END:DAYLIGHT
BEGIN:STANDARD
TZOFFSETFROM:+0200
TZOFFSETTO:+0100
TZNAME:CET
DTSTART:20261025T010000
END:STANDARD
BEGIN:DAYLIGHT
TZOFFSETFROM:+0100
TZOFFSETTO:+0200
TZNAME:CEST
DTSTART:20270328T010000
END:DAYLIGHT
BEGIN:STANDARD
TZOFFSETFROM:+0200
TZOFFSETTO:+0100
TZNAME:CET
DTSTART:20271031T010000
END:STANDARD
END:VTIMEZONE
BEGIN:VEVENT
DTSTART;VALUE=DATE:20251122
DTEND;VALUE=DATE:20260121
DTSTAMP:20260423T220052
CREATED:20251216T094318Z
LAST-MODIFIED:20251216T094329Z
UID:10007368-1763769600-1768953599@poblenouurbandistrict.com
SUMMARY:Piramidón: "Un impulso de último momento" Román de Castro
DESCRIPTION:
URL:https://poblenouurbandistrict.com/en/agenda/piramidon-un-impulso-de-ultimo-momento-roman-de-castro/
LOCATION:Piramidón\, Centre D’art Contemporani\, Carrer del Concili de Trento\, 313\, Barcelona\, Barcelona\, 08020\, Espanya
END:VEVENT
BEGIN:VEVENT
DTSTART;VALUE=DATE:20251204
DTEND;VALUE=DATE:20260214
DTSTAMP:20260423T220052
CREATED:20251216T093028Z
LAST-MODIFIED:20251216T093028Z
UID:10007367-1764806400-1771027199@poblenouurbandistrict.com
SUMMARY:[:en]La Plataforma: "A las penas\, puñaladas"[:]
DESCRIPTION:
URL:https://poblenouurbandistrict.com/en/agenda/la-plataforma-a-las-penas-punaladas/
LOCATION:La Plataforma\, Pujades 99\, bxs.\, Barcelona\, Catalunya\, España
ATTACH;FMTTYPE=image/png:https://media.poblenouurbandistrict.com/2025/12/25095852/patitos-nathalie-rey.png
ORGANIZER;CN="La Plataforma":MAILTO:bcnplataforma@gmail.com
END:VEVENT
BEGIN:VEVENT
DTSTART;VALUE=DATE:20251218
DTEND;VALUE=DATE:20260215
DTSTAMP:20260423T220052
CREATED:20251216T092703Z
LAST-MODIFIED:20251216T092703Z
UID:10007366-1766016000-1771113599@poblenouurbandistrict.com
SUMMARY:Load: Let's Slow Down Time Together de Yatreda ያጥሬዳ
DESCRIPTION:
URL:https://poblenouurbandistrict.com/en/agenda/load-lets-slow-down-time-together-de-yatreda-%e1%8b%ab%e1%8c%a5%e1%88%ac%e1%8b%b3/
LOCATION:Load Gallery\, C/Llull 134\, Barcelona\, Barcelona\, 08005\, Spain
ATTACH;FMTTYPE=image/avif:https://media.poblenouurbandistrict.com/2025/12/25095936/yatreda.avif
END:VEVENT
BEGIN:VEVENT
DTSTART;TZID=Europe/Madrid:20260113T190000
DTEND;TZID=Europe/Madrid:20260113T190000
DTSTAMP:20260423T220052
CREATED:20251216T095750Z
LAST-MODIFIED:20251219T100932Z
UID:10007371-1768330800-1768330800@poblenouurbandistrict.com
SUMMARY:[:ca]Recital: Ecografia de Greta Sibling[:es]Recital: Ecografia de Greta Sibling[:en]Recital: Ecografia by Greta Sibling[:]
DESCRIPTION:
URL:https://poblenouurbandistrict.com/en/agenda/recital-ecografia-de-greta-sibling/
LOCATION:Sala Beckett\, C. de Pere IV\, 228\, 232\, Barcelona\, Barcelona\, 08005
CATEGORIES:Theater
ATTACH;FMTTYPE=image/png:https://media.poblenouurbandistrict.com/2025/12/25095950/greta-1000x600-1-768x461-1.png
END:VEVENT
END:VCALENDAR