BEGIN:VCALENDAR
VERSION:2.0
PRODID:-//Poblenou Urban District - ECPv6.15.20//NONSGML v1.0//EN
CALSCALE:GREGORIAN
METHOD:PUBLISH
X-WR-CALNAME:Poblenou Urban District
X-ORIGINAL-URL:https://poblenouurbandistrict.com/es
X-WR-CALDESC:Eventos para Poblenou Urban District
REFRESH-INTERVAL;VALUE=DURATION:PT1H
X-Robots-Tag:noindex
X-PUBLISHED-TTL:PT1H
BEGIN:VTIMEZONE
TZID:Europe/Madrid
BEGIN:DAYLIGHT
TZOFFSETFROM:+0100
TZOFFSETTO:+0200
TZNAME:CEST
DTSTART:20250330T010000
END:DAYLIGHT
BEGIN:STANDARD
TZOFFSETFROM:+0200
TZOFFSETTO:+0100
TZNAME:CET
DTSTART:20251026T010000
END:STANDARD
BEGIN:DAYLIGHT
TZOFFSETFROM:+0100
TZOFFSETTO:+0200
TZNAME:CEST
DTSTART:20260329T010000
END:DAYLIGHT
BEGIN:STANDARD
TZOFFSETFROM:+0200
TZOFFSETTO:+0100
TZNAME:CET
DTSTART:20261025T010000
END:STANDARD
BEGIN:DAYLIGHT
TZOFFSETFROM:+0100
TZOFFSETTO:+0200
TZNAME:CEST
DTSTART:20270328T010000
END:DAYLIGHT
BEGIN:STANDARD
TZOFFSETFROM:+0200
TZOFFSETTO:+0100
TZNAME:CET
DTSTART:20271031T010000
END:STANDARD
END:VTIMEZONE
BEGIN:VEVENT
DTSTART;VALUE=DATE:20260124
DTEND;VALUE=DATE:20260318
DTSTAMP:20260423T181753
CREATED:20260224T093022Z
LAST-MODIFIED:20260224T102841Z
UID:10007424-1769212800-1773791999@poblenouurbandistrict.com
SUMMARY:[:ca]Piramidón: Revisions #4: Patricio Reig[:es]Piramidón: Revisiones #4: Patricio Reig[:en]Piramidón: Revisions #4: Patricio Reig[:]
DESCRIPTION:
URL:https://poblenouurbandistrict.com/es/agenda/piramidon-revisions-4-patricio-reig/
LOCATION:Piramidón\, Centre D’art Contemporani\, Carrer del Concili de Trento\, 313\, Barcelona\, Barcelona\, 08020\, Espanya
CATEGORIES:Arte
ATTACH;FMTTYPE=image/jpeg:https://media.poblenouurbandistrict.com/2026/02/25101300/1-1.jpg
END:VEVENT
BEGIN:VEVENT
DTSTART;VALUE=DATE:20260124
DTEND;VALUE=DATE:20260422
DTSTAMP:20260423T181753
CREATED:20260224T093309Z
LAST-MODIFIED:20260224T093309Z
UID:10007425-1769212800-1776815999@poblenouurbandistrict.com
SUMMARY:[:ca]Piramidón: Col·lectiva 2026_N1[:es]Piramidón: Colectiva 2026_N1[:en]Piramidón: Collective 2026_N1[:]
DESCRIPTION:
URL:https://poblenouurbandistrict.com/es/agenda/piramidon-collectiva-2026_n1/
LOCATION:Piramidón\, Centre D’art Contemporani\, Carrer del Concili de Trento\, 313\, Barcelona\, Barcelona\, 08020\, Espanya
CATEGORIES:Arte
ATTACH;FMTTYPE=image/jpeg:https://media.poblenouurbandistrict.com/2026/02/25101305/002.jpg
END:VEVENT
BEGIN:VEVENT
DTSTART;VALUE=DATE:20260225
DTEND;VALUE=DATE:20260316
DTSTAMP:20260423T181753
CREATED:20251216T101742Z
LAST-MODIFIED:20251216T101742Z
UID:10007374-1771977600-1773619199@poblenouurbandistrict.com
SUMMARY:"Un tall\, dos terços" de Les Lloronas\, Marc Cartanyà Pena y Rita Molina Vallicrosa
DESCRIPTION:
URL:https://poblenouurbandistrict.com/es/agenda/un-tall-dos-tercos-de-les-lloronas-marc-cartanya-pena-y-rita-molina-vallicrosa/
LOCATION:Sala Beckett\, C. de Pere IV\, 228\, 232\, Barcelona\, Barcelona\, 08005
CATEGORIES:Teatro
ATTACH;FMTTYPE=image/jpeg:https://media.poblenouurbandistrict.com/2025/12/25095959/un-tall-web-nova.jpg
END:VEVENT
BEGIN:VEVENT
DTSTART;VALUE=DATE:20260305
DTEND;VALUE=DATE:20260426
DTSTAMP:20260423T181753
CREATED:20260325T102705Z
LAST-MODIFIED:20260325T104046Z
UID:10007437-1772668800-1777161599@poblenouurbandistrict.com
SUMMARY:[:ca]LOAD Gallery: Paramnésico de Desilence[:es]LOAD Gallery: Paramnésico de Desilence[:en]LOAD Gallery: Paramnésico by Desilence[:]
DESCRIPTION:
URL:https://poblenouurbandistrict.com/es/agenda/load-gallery-paramnesico-de-desilence/
LOCATION:Load Gallery\, C/Llull 134\, Barcelona\, Barcelona\, 08005\, Spain
CATEGORIES:Arte
ATTACH;FMTTYPE=image/avif:https://media.poblenouurbandistrict.com/2026/03/25112657/tdl6ivey5iyqwxyhyubmmebas.avif
END:VEVENT
BEGIN:VEVENT
DTSTART;VALUE=DATE:20260311
DTEND;VALUE=DATE:20260601
DTSTAMP:20260423T181753
CREATED:20260224T093801Z
LAST-MODIFIED:20260224T093801Z
UID:10007426-1773187200-1780271999@poblenouurbandistrict.com
SUMMARY:[:ca]Gonçal Sobrer - Un gran fracàs[:es]Gonçal Sobrer - Un gran fracaso[:en]Gonçal Sobrer - A big failure[:]
DESCRIPTION:
URL:https://poblenouurbandistrict.com/es/agenda/goncal-sobrer-un-gran-fracas/
LOCATION:Museu Can Framis\, carrer de Roc Boronat\, 116\, 126\, Barcelona\, Barcelona\, 08018\, Espanya
CATEGORIES:Arte
ATTACH;FMTTYPE=image/jpeg:https://media.poblenouurbandistrict.com/2026/02/25101309/th-th-a48563241.jpg
END:VEVENT
BEGIN:VEVENT
DTSTART;TZID=Europe/Madrid:20260311T110000
DTEND;TZID=Europe/Madrid:20260312T133000
DTSTAMP:20260423T181753
CREATED:20260305T115614Z
LAST-MODIFIED:20260305T115614Z
UID:10007434-1773226800-1773322200@poblenouurbandistrict.com
SUMMARY:[:ca]Curs flash de ceràmica[:es]Curso exprés de cerámica[:en]Flash Ceramics Workshop[:]
DESCRIPTION:Disculpa\, pero esta entrada está disponible sólo en Català.
URL:https://poblenouurbandistrict.com/es/agenda/curs-flash-de-ceramica/
LOCATION:La Escocesa\, C. de Pere IV\, 345\, Barcelona\, Barcelona\, 08020\, Espanya
CATEGORIES:Curso,Taller
ATTACH;FMTTYPE=image/webp:https://media.poblenouurbandistrict.com/2026/03/05124848/esco-2.webp
END:VEVENT
BEGIN:VEVENT
DTSTART;TZID=Europe/Madrid:20260312T183000
DTEND;TZID=Europe/Madrid:20260326T200000
DTSTAMP:20260423T181753
CREATED:20260305T114651Z
LAST-MODIFIED:20260305T120048Z
UID:10007431-1773340200-1774555200@poblenouurbandistrict.com
SUMMARY:Imaginando futuros colectivos
DESCRIPTION:
URL:https://poblenouurbandistrict.com/es/agenda/imaginando-futuros-colectivos/
LOCATION:La Escocesa\, C. de Pere IV\, 345\, Barcelona\, Barcelona\, 08020\, Espanya
CATEGORIES:Taller
ATTACH;FMTTYPE=image/webp:https://media.poblenouurbandistrict.com/2026/03/05124856/esco-3.webp
END:VEVENT
END:VCALENDAR