BEGIN:VCALENDAR
VERSION:2.0
PRODID:-//Poblenou Urban District - ECPv6.15.20//NONSGML v1.0//EN
CALSCALE:GREGORIAN
METHOD:PUBLISH
X-WR-CALNAME:Poblenou Urban District
X-ORIGINAL-URL:https://poblenouurbandistrict.com/es
X-WR-CALDESC:Eventos para Poblenou Urban District
REFRESH-INTERVAL;VALUE=DURATION:PT1H
X-Robots-Tag:noindex
X-PUBLISHED-TTL:PT1H
BEGIN:VTIMEZONE
TZID:Europe/Madrid
BEGIN:DAYLIGHT
TZOFFSETFROM:+0100
TZOFFSETTO:+0200
TZNAME:CEST
DTSTART:20210328T010000
END:DAYLIGHT
BEGIN:STANDARD
TZOFFSETFROM:+0200
TZOFFSETTO:+0100
TZNAME:CET
DTSTART:20211031T010000
END:STANDARD
BEGIN:DAYLIGHT
TZOFFSETFROM:+0100
TZOFFSETTO:+0200
TZNAME:CEST
DTSTART:20220327T010000
END:DAYLIGHT
BEGIN:STANDARD
TZOFFSETFROM:+0200
TZOFFSETTO:+0100
TZNAME:CET
DTSTART:20221030T010000
END:STANDARD
BEGIN:DAYLIGHT
TZOFFSETFROM:+0100
TZOFFSETTO:+0200
TZNAME:CEST
DTSTART:20230326T010000
END:DAYLIGHT
BEGIN:STANDARD
TZOFFSETFROM:+0200
TZOFFSETTO:+0100
TZNAME:CET
DTSTART:20231029T010000
END:STANDARD
END:VTIMEZONE
BEGIN:VEVENT
DTSTART;TZID=Europe/Madrid:20220423T090000
DTEND;TZID=Europe/Madrid:20220423T210000
DTSTAMP:20260420T200435
CREATED:20220422T103838Z
LAST-MODIFIED:20220422T103838Z
UID:10003188-1650704400-1650747600@poblenouurbandistrict.com
SUMMARY:[:ca]Exposició: Mirades Extraterrestres[:es]Exposición Miradas Extraterrestres[:en]Exhibition: Extraterrestrial Views[:]
DESCRIPTION:El Departamento de Arte de BAU y la librería La Insòlita proponen una exposición sobre la fusión del mundo artificial\, natural y dinámico para la creación de nuevas criaturas. Una muestra de cómo el alumnado ha evaluado y reflexionado sobre el mundo que nos rodea al tiempo que ha explorado diferentes lenguajes gráficos. \n 
URL:https://poblenouurbandistrict.com/es/agenda/exposicio-mirades-extraterrestres/2022-04-23/
LOCATION:BAU\, Carrer de Pujades\, 118\, Barcelona\, Barcelona\, 08005\, Espanya
CATEGORIES:Arte,Exposición
ATTACH;FMTTYPE=image/jpeg:https://media.poblenouurbandistrict.com/2022/04/25050525/screenshot-2022-04-22-at-123740.jpg
END:VEVENT
BEGIN:VEVENT
DTSTART;TZID=Europe/Madrid:20220423T090000
DTEND;TZID=Europe/Madrid:20220423T210000
DTSTAMP:20260420T200435
CREATED:20220427T163938Z
LAST-MODIFIED:20220427T163938Z
UID:10003239-1650704400-1650747600@poblenouurbandistrict.com
SUMMARY:[:ca]Exposició: Vestit floral[:es]Exposición: Vestido floral[:en]Exhibition: Floral dress[:]
DESCRIPTION:Un vestido de cola elaborado con flores dará la bienvenida en la entrada del Disseny Hub\, una muestra instalada hasta el 15 de mayo.
URL:https://poblenouurbandistrict.com/es/agenda/exposicio-vestit-floral/2022-04-23/
LOCATION:Disseny Hub\, Pl. de les Glòries Catalanes 37\, Barcelona\, Catalunya\, 08018\, España
CATEGORIES:Arte,Exposición
ATTACH;FMTTYPE=image/jpeg:https://media.poblenouurbandistrict.com/2022/04/25050752/screenshot-2022-04-27-at-183838.jpg
ORGANIZER;CN="Disseny Hub":MAILTO:dissenyhub@bcn.cat
END:VEVENT
BEGIN:VEVENT
DTSTART;TZID=Europe/Madrid:20220423T110000
DTEND;TZID=Europe/Madrid:20220423T150000
DTSTAMP:20260420T200435
CREATED:20220421T153209Z
LAST-MODIFIED:20220421T161450Z
UID:10003163-1650711600-1650726000@poblenouurbandistrict.com
SUMMARY:[:ca]Vermut & Art\, clausura de «Parafernalia» de Jan Vallverdú[:es]Vermut & Art\, clausura de «Parafernalia» de Jan Vallverdú[:en]Vermut & Art\, closure of «Parafernalia» by Jan Vallverdú[:]
DESCRIPTION:El próximo sábado 23 de abril la galería La Plataforma clausura “Parafernalia”\, la exposición individual del artista Jan Vallverdú\, donde podrás disfutar de un vermut y conocer personalmente al artista.
URL:https://poblenouurbandistrict.com/es/agenda/vermut-art-clausura-de-parafernalia-de-jan-vallverdu/
LOCATION:La Plataforma\, Pujades 99\, bxs.\, Barcelona\, Catalunya\, España
CATEGORIES:Arte,Exposición
ATTACH;FMTTYPE=image/jpeg:https://media.poblenouurbandistrict.com/2022/04/25050513/unnamed.jpg
ORGANIZER;CN="La Plataforma":MAILTO:bcnplataforma@gmail.com
END:VEVENT
END:VCALENDAR