BEGIN:VCALENDAR
VERSION:2.0
PRODID:-//Poblenou Urban District - ECPv6.15.20//NONSGML v1.0//EN
CALSCALE:GREGORIAN
METHOD:PUBLISH
X-ORIGINAL-URL:https://poblenouurbandistrict.com/es
X-WR-CALDESC:Eventos para Poblenou Urban District
REFRESH-INTERVAL;VALUE=DURATION:PT1H
X-Robots-Tag:noindex
X-PUBLISHED-TTL:PT1H
BEGIN:VTIMEZONE
TZID:Europe/Madrid
BEGIN:DAYLIGHT
TZOFFSETFROM:+0100
TZOFFSETTO:+0200
TZNAME:CEST
DTSTART:20210328T010000
END:DAYLIGHT
BEGIN:STANDARD
TZOFFSETFROM:+0200
TZOFFSETTO:+0100
TZNAME:CET
DTSTART:20211031T010000
END:STANDARD
BEGIN:DAYLIGHT
TZOFFSETFROM:+0100
TZOFFSETTO:+0200
TZNAME:CEST
DTSTART:20220327T010000
END:DAYLIGHT
BEGIN:STANDARD
TZOFFSETFROM:+0200
TZOFFSETTO:+0100
TZNAME:CET
DTSTART:20221030T010000
END:STANDARD
BEGIN:DAYLIGHT
TZOFFSETFROM:+0100
TZOFFSETTO:+0200
TZNAME:CEST
DTSTART:20230326T010000
END:DAYLIGHT
BEGIN:STANDARD
TZOFFSETFROM:+0200
TZOFFSETTO:+0100
TZNAME:CET
DTSTART:20231029T010000
END:STANDARD
END:VTIMEZONE
BEGIN:VEVENT
DTSTART;TZID=Europe/Madrid:20220429T090000
DTEND;TZID=Europe/Madrid:20220429T210000
DTSTAMP:20260420T170747
CREATED:20220427T163938Z
LAST-MODIFIED:20220427T163938Z
UID:10003245-1651222800-1651266000@poblenouurbandistrict.com
SUMMARY:[:ca]Exposició: Vestit floral[:es]Exposición: Vestido floral[:en]Exhibition: Floral dress[:]
DESCRIPTION:Un vestido de cola elaborado con flores dará la bienvenida en la entrada del Disseny Hub\, una muestra instalada hasta el 15 de mayo.
URL:https://poblenouurbandistrict.com/es/agenda/exposicio-vestit-floral/2022-04-29/
LOCATION:Disseny Hub\, Pl. de les Glòries Catalanes 37\, Barcelona\, Catalunya\, 08018\, España
CATEGORIES:Arte,Exposición
ATTACH;FMTTYPE=image/jpeg:https://media.poblenouurbandistrict.com/2022/04/25050752/screenshot-2022-04-27-at-183838.jpg
ORGANIZER;CN="Disseny Hub":MAILTO:dissenyhub@bcn.cat
END:VEVENT
BEGIN:VEVENT
DTSTART;TZID=Europe/Madrid:20220429T180000
DTEND;TZID=Europe/Madrid:20220429T210000
DTSTAMP:20260420T170747
CREATED:20220421T155139Z
LAST-MODIFIED:20220421T155139Z
UID:10003168-1651255200-1651266000@poblenouurbandistrict.com
SUMMARY:[:ca]Exposició: "De la Desfragmentació a la Unificació"[:es]Exposición: "De la Desfragmentación a la Unificación"[:en]Exposition: "From Defragmentation to Unification"[:]
DESCRIPTION:El 22 de abril en la encantadora galería de Chez Xefo en Poble Nou\, Magda Ćwik va a presentar al público una serie de obras llamadas “De la Defragmentación a la Unificación”\, una exposición que quiere llevar al espectador a una experiencia significativa en la que la artista compartirá algunas de sus “herramientas catárticas” que le fueron reveladas en sus últimas meditaciones e investigaciones científicas. Disponible hasta el 8 de mayo.
URL:https://poblenouurbandistrict.com/es/agenda/exposicio-de-la-desfragmentacio-a-la-unificacio/2022-04-29/
LOCATION:Chez Xefo\, Carrer de Badajoz\, 46\, Barcelona\, 08005
CATEGORIES:Arte,Exposición
ATTACH;FMTTYPE=image/jpeg:https://media.poblenouurbandistrict.com/2022/04/25050507/chez-xefo-square.jpg
END:VEVENT
END:VCALENDAR