BEGIN:VCALENDAR
VERSION:2.0
PRODID:-//Poblenou Urban District - ECPv6.15.20//NONSGML v1.0//EN
CALSCALE:GREGORIAN
METHOD:PUBLISH
X-ORIGINAL-URL:https://poblenouurbandistrict.com/es
X-WR-CALDESC:Eventos para Poblenou Urban District
REFRESH-INTERVAL;VALUE=DURATION:PT1H
X-Robots-Tag:noindex
X-PUBLISHED-TTL:PT1H
BEGIN:VTIMEZONE
TZID:Europe/Madrid
BEGIN:DAYLIGHT
TZOFFSETFROM:+0100
TZOFFSETTO:+0200
TZNAME:CEST
DTSTART:20210328T010000
END:DAYLIGHT
BEGIN:STANDARD
TZOFFSETFROM:+0200
TZOFFSETTO:+0100
TZNAME:CET
DTSTART:20211031T010000
END:STANDARD
BEGIN:DAYLIGHT
TZOFFSETFROM:+0100
TZOFFSETTO:+0200
TZNAME:CEST
DTSTART:20220327T010000
END:DAYLIGHT
BEGIN:STANDARD
TZOFFSETFROM:+0200
TZOFFSETTO:+0100
TZNAME:CET
DTSTART:20221030T010000
END:STANDARD
BEGIN:DAYLIGHT
TZOFFSETFROM:+0100
TZOFFSETTO:+0200
TZNAME:CEST
DTSTART:20230326T010000
END:DAYLIGHT
BEGIN:STANDARD
TZOFFSETFROM:+0200
TZOFFSETTO:+0100
TZNAME:CET
DTSTART:20231029T010000
END:STANDARD
END:VTIMEZONE
BEGIN:VEVENT
DTSTART;TZID=Europe/Madrid:20220603T100000
DTEND;TZID=Europe/Madrid:20220828T200000
DTSTAMP:20260420T131217
CREATED:20220602T133754Z
LAST-MODIFIED:20220719T081014Z
UID:10003276-1654250400-1661716800@poblenouurbandistrict.com
SUMMARY:[:ca]Exposició: El millor disseny de l'any[:es]Exposición: El mejor diseño del año[:en]Exhibition: The best design of the year[:]
DESCRIPTION:Una valiosa panorámica del mejor diseño del año con las propuestas más destacadas en diseño gráfico y comunicación visual\, diseño industrial\, arquitectura e interiorismo. \nDisponible hasta el 28 de agosto. \nCerrado los lunes
URL:https://poblenouurbandistrict.com/es/agenda/exposicio-el-millor-disseny-de-lany/
LOCATION:Museu del Disseny\, Plaça de les Glòries Catalanes\,\, 37\, Barcelona\, Barcelona\, 08018\, Espanya
CATEGORIES:Arte,Exposición
ATTACH;FMTTYPE=image/jpeg:https://media.poblenouurbandistrict.com/2022/06/25052545/screenshot-2022-06-02-at-153711.jpg
END:VEVENT
BEGIN:VEVENT
DTSTART;TZID=Europe/Madrid:20220609T100000
DTEND;TZID=Europe/Madrid:20220828T200000
DTSTAMP:20260420T131217
CREATED:20220519T132809Z
LAST-MODIFIED:20220627T100116Z
UID:10003540-1654768800-1661716800@poblenouurbandistrict.com
SUMMARY:[:ca]Exposició: Transgressions[:es]Exposición: Transgresiones[:en]Exhibition: Transgressions[:]
DESCRIPTION:La muestra\, una producción del Museo del Diseño de Barcelona\, exhibirá la nueva colección de ceráimca contemporánea\, haciendo hincapié a un momento creativo de contrastes\, crítica y reflexión sobre temas de actualidad. \nCerrado los lunes
URL:https://poblenouurbandistrict.com/es/agenda/exposicio-transgressions/
LOCATION:Museu del Disseny\, Plaça de les Glòries Catalanes\,\, 37\, Barcelona\, Barcelona\, 08018\, Espanya
CATEGORIES:Arte,Exposición
ATTACH;FMTTYPE=image/jpeg:https://media.poblenouurbandistrict.com/2022/05/25051740/screenshot-2022-05-19-at-152701.jpg
END:VEVENT
BEGIN:VEVENT
DTSTART;TZID=Europe/Madrid:20220609T190000
DTEND;TZID=Europe/Madrid:20220701T210000
DTSTAMP:20260420T131217
CREATED:20220607T091815Z
LAST-MODIFIED:20220627T100940Z
UID:10003851-1654801200-1656709200@poblenouurbandistrict.com
SUMMARY:[:ca]Exposició: L'Art que ens fa lliures[:es]Exposición: El Arte que nos hace libres[:en]Exhibition: The Art that sets us free.[:]
DESCRIPTION:Nueva exposición en la galería Chez Xefo de la artista de Sitges Arantza Liceaga. \nInauguración el 9 de junio a las 19 hs. \nDisponible hasta el 1 de julio. \nCerrado los lunes y fines de semana
URL:https://poblenouurbandistrict.com/es/agenda/exposicio-lart-que-ens-fa-lliures/
LOCATION:Chez Xefo\, Carrer de Badajoz\, 46\, Barcelona\, 08005
CATEGORIES:Arte,Exposición
ATTACH;FMTTYPE=image/jpeg:https://media.poblenouurbandistrict.com/2022/06/25052657/screenshot-2022-06-07-at-111703.jpg
END:VEVENT
BEGIN:VEVENT
DTSTART;TZID=Europe/Madrid:20220622T080000
DTEND;TZID=Europe/Madrid:20220629T200000
DTSTAMP:20260420T131217
CREATED:20220623T120946Z
LAST-MODIFIED:20220627T083516Z
UID:10003860-1655884800-1656532800@poblenouurbandistrict.com
SUMMARY:[:ca]Exposició: Extended Interactions[:es]Exposición: Extended Interactions[:]
DESCRIPTION:Del 22 al 29 de junio la nave Escoleta acoge “Extended Interactions”\, una exposición que amalgama una diversidad de enfoques sobre las interacciones de lo humano con su entorno desde un futuro biotecnológico. \nDesde un presente caótico\, marcado por crisis ambientales\, sociales y un determinismo tecnológico cada vez más evidente\, los estudiantes del Máster en Diseño de Futuros Emergentes del IAAC (Instituto de Arquitectura Avanzada de Cataluña) llevan al extremo sus propuestas de diseño. \nExtended Interactions exhibe diferentes acercamientos sobre las relaciones entre lo humano y lo no humano\, sus interacciones con la tecnología y los sentidos más allá de lo ordinario; los olores\, frutas\, parásitos y espirulina son exploraciones que convergen en prototipos\, artefactos\, muestras audiovisuales y tecnología interactiva en esta muestra a la que te invitamos a asistir.
URL:https://poblenouurbandistrict.com/es/agenda/extended-interactions/
LOCATION:Palo Alto\, Carrer dels Pellaires\, 30 - 38\, Barcelona\, 08019
CATEGORIES:Arte,Charla
ATTACH;FMTTYPE=image/jpeg:https://media.poblenouurbandistrict.com/2022/06/25053159/iaac1.jpeg
END:VEVENT
BEGIN:VEVENT
DTSTART;TZID=Europe/Madrid:20220627T090000
DTEND;TZID=Europe/Madrid:20220701T140000
DTSTAMP:20260420T131217
CREATED:20220628T092438Z
LAST-MODIFIED:20220628T092438Z
UID:10003353-1656320400-1656684000@poblenouurbandistrict.com
SUMMARY:[:ca]Exposició: "Loneliness or Me-Time?"[:es]Exposición: "Loneliness or Me-Time?"[:en]Exhibition: "Loneliness or Me-Time?"[:]
DESCRIPTION:Exposición de la artista Ana Jarén en The Folio Club. Del 3 de junio al 8 de julio. \nEn la sociedad en la que vivimos\, el alto ritmo del día a día\, las tecnologías\, los excesivos estímulos\, las redes sociales\, los compromisos\, entre tantas cosas\, nos pueden llevar a situaciones de soledad. A veces buscada y abrazada con agrado y en otras ocasiones nos encierra contra nuestra voluntad. \nLos mismos estímulos externos pueden llevarnos a esta soledad que\, según la persona y sus circunstancias\, puede ser un momento hedonista de celebración del ‘Me-time’ o una situación de tristeza y soledad no elegida. \n 
URL:https://poblenouurbandistrict.com/es/agenda/exposicio-loneliness-or-me-time/2022-06-27/
LOCATION:The Folio Club\, Carrer de Roc Boronat\, 37\, Barcelona\, 08005
CATEGORIES:Arte,Exposición
ATTACH;FMTTYPE=image/jpeg:https://media.poblenouurbandistrict.com/2022/06/25053238/capture-decran-2022-06-28-a-110902.jpg
END:VEVENT
BEGIN:VEVENT
DTSTART;TZID=Europe/Madrid:20220627T100000
DTEND;TZID=Europe/Madrid:20220701T190000
DTSTAMP:20260420T131217
CREATED:20220610T090904Z
LAST-MODIFIED:20220912T153820Z
UID:10003812-1656324000-1656702000@poblenouurbandistrict.com
SUMMARY:[:ca]Exposició: Headspace[:es]Exposición: Headspace[:en]Exhibition: Headspace[:]
DESCRIPTION:La Plataforma\, galería de arte contemporáneo y estudio de producción\, abre sus puertas el próximo 16 de junio a las 19h para presentar la exposición “Headspace”\, que mostrará las obras de las artistas Amalia Caputo\, Janice Sloane\, Eugenia Vargas Pereira y Michelle Weinberg. \n“Headspace”\, exposición curada por Amalia Caputo\, propone tejer a través de la obra de estas cuatro artistas\, hilos y enredos conceptuales que develan distintas facetas del proceso mental en el que vivimos en época de post pandemia\, crisis ambiental y desasosiego generalizado\, producido por los conflictos mundiales en un amplio sentido\, desde la pregunta: ¿cómo vemos\, sentimos y pensamos el mundo las mujeres? \nHeadspace se podrá visitar hasta el 9 de septiembre dentro del horario habitual de la galería: \nL – 10:00- 14:00 y 15:00- 18:00\nM\, M\, J\, V – 10:00- 14:00 y 15:00- 19:00\nS – abierto para eventos especiales \nDel 16 de junio al 9 de septiembre
URL:https://poblenouurbandistrict.com/es/agenda/exposicio-headspace/2022-06-27/
LOCATION:La Plataforma\, Pujades 99\, bxs.\, Barcelona\, Catalunya\, España
CATEGORIES:Arte,Exposición
ATTACH;FMTTYPE=image/jpeg:https://media.poblenouurbandistrict.com/2022/06/25052935/screenshot-2022-06-10-at-110820.jpg
ORGANIZER;CN="La Plataforma":MAILTO:bcnplataforma@gmail.com
END:VEVENT
BEGIN:VEVENT
DTSTART;TZID=Europe/Madrid:20220627T100000
DTEND;TZID=Europe/Madrid:20220701T190000
DTSTAMP:20260420T131217
CREATED:20220628T093516Z
LAST-MODIFIED:20220628T093516Z
UID:10003362-1656324000-1656702000@poblenouurbandistrict.com
SUMMARY:[:ca]Exposició: ÀFRICA[:es]Exposición: ÀFRICA[:en]Exhibition: ÀFRICA[:]
DESCRIPTION:Piramidón presenta la exposición individual del antiguo artista residentes Khalid El Bekay (Casablanca\, 1966). La muestra se compone de las obras más recientes del artistas\, donde se puede observar un salto evolutivo en su carrera pictórica. Mediantes el uso de elementos y técnicas recurrentes en su producción artística\, el artistas representa por primera vez el ser humano y su entorno.
URL:https://poblenouurbandistrict.com/es/agenda/exposicio-africa/2022-06-27/
LOCATION:Piramidón\, Centre D’art Contemporani\, Carrer del Concili de Trento\, 313\, Barcelona\, Barcelona\, 08020\, Espanya
CATEGORIES:Arte,Exposición
ATTACH;FMTTYPE=image/jpeg:https://media.poblenouurbandistrict.com/2022/06/25053240/capture-decran-2022-06-28-a-112913.jpg
END:VEVENT
BEGIN:VEVENT
DTSTART;TZID=Europe/Madrid:20220627T100000
DTEND;TZID=Europe/Madrid:20220701T190000
DTSTAMP:20260420T131217
CREATED:20220628T094347Z
LAST-MODIFIED:20220720T090732Z
UID:10003375-1656324000-1656702000@poblenouurbandistrict.com
SUMMARY:[:ca]Exposició: 2022_N2[:es]Exposición: 2022_N2[:en]Exhibition: 2022_N2[:]
DESCRIPTION:Artistas: Jose Bonell\, Pepe Castellanos\, Yamandú Canosa\, Tono Carbajo\, Rosanna Casano\, Iván Franco\, Dedé Lins\, Ana Monsó\, Marco Noris\, Pol Pintó\, Stella Rahola\, Eduard Resbier\, Pere de Ribot\, Kati Riquelme y Estefanía Urrutia.
URL:https://poblenouurbandistrict.com/es/agenda/exposicio-2022_n2/2022-06-27/
LOCATION:Piramidón\, Centre D’art Contemporani\, Carrer del Concili de Trento\, 313\, Barcelona\, Barcelona\, 08020\, Espanya
CATEGORIES:Arte,Exposición
ATTACH;FMTTYPE=image/jpeg:https://media.poblenouurbandistrict.com/2022/06/25053242/capture-decran-2022-06-28-a-114221.jpg
END:VEVENT
BEGIN:VEVENT
DTSTART;TZID=Europe/Madrid:20220628T110000
DTEND;TZID=Europe/Madrid:20220703T180000
DTSTAMP:20260420T131217
CREATED:20220511T143132Z
LAST-MODIFIED:20220912T141204Z
UID:10003433-1656414000-1656871200@poblenouurbandistrict.com
SUMMARY:[:ca]Exposició: Stella Rahola Matutes - L’Habitació de les Desateses[:es]Exposición: Stella Rahola Matutes - L’Habitació de les Desateses[:en]Exhibition: Stella Rahola Matutes - L’Habitació de les Desateses[:]
DESCRIPTION:Stella Rahola Matutes reivindica la materialidad como sustancia siempre sujeta al cambio\, ya sea a través de una implicación con seres humanos y no humanos y de su manipulación\, la interacción con su entorno o la vida dinámica de sus reacciones químicas. Esta cuestión implica políticamente considerar los procesos de fabricación y sus relaciones asociadas de poder\, esto es\, las trabajadoras\, sus herramientas y los espacios de producción. \nMartes a sábado: 11h – 18h\, Domingo: 11h – 14h \nDel 31 de mayo al 18 de septiembre \n 
URL:https://poblenouurbandistrict.com/es/agenda/exposicio-stella-rahola-matutes-lhabitacio-de-les-desateses/2022-06-28/
LOCATION:Museu Can Framis\, carrer de Roc Boronat\, 116\, 126\, Barcelona\, Barcelona\, 08018\, Espanya
CATEGORIES:Arte,Exposición
ATTACH;FMTTYPE=image/jpeg:https://media.poblenouurbandistrict.com/2022/05/25051526/screenshot-2022-05-11-at-162652.jpg
END:VEVENT
BEGIN:VEVENT
DTSTART;TZID=Europe/Madrid:20220628T183000
DTEND;TZID=Europe/Madrid:20220628T193000
DTSTAMP:20260420T131217
CREATED:20220615T092637Z
LAST-MODIFIED:20220615T092637Z
UID:10003829-1656441000-1656444600@poblenouurbandistrict.com
SUMMARY:[:ca]Xerrada: Homenatge a Joan Costa “El llibre és l’ampolla del nàufrag”[:es]Charla: Homenaje a Joan Costa “El libro es la botella del náufrago”[:en]Talk: Homage to Joan Costa "The book is the castaway's bottle".[:]
DESCRIPTION:Des de Blanc! y con el soporte del Museu del Disseny de Barcelona se abre un acto especial de Maestros. Un diálogo a tres voces alrededor de la trayectoria de Joan Costa. Con la participación de Albert Isern como experto\, testimonio y conocedor de su legado y con la de Vicent Almiñana como moderador y promotor del evento.
URL:https://poblenouurbandistrict.com/es/agenda/xerrada-homenatge-a-joan-costa-el-llibre-es-lampolla-del-naufrag/
LOCATION:Museu del Disseny\, Plaça de les Glòries Catalanes\,\, 37\, Barcelona\, Barcelona\, 08018\, Espanya
CATEGORIES:Arte,Charla
ATTACH;FMTTYPE=image/jpeg:https://media.poblenouurbandistrict.com/2022/06/25053000/screenshot-2022-06-15-at-112557.jpg
END:VEVENT
END:VCALENDAR