BEGIN:VCALENDAR
VERSION:2.0
PRODID:-//Poblenou Urban District - ECPv6.15.20//NONSGML v1.0//EN
CALSCALE:GREGORIAN
METHOD:PUBLISH
X-WR-CALNAME:Poblenou Urban District
X-ORIGINAL-URL:https://poblenouurbandistrict.com/es
X-WR-CALDESC:Eventos para Poblenou Urban District
REFRESH-INTERVAL;VALUE=DURATION:PT1H
X-Robots-Tag:noindex
X-PUBLISHED-TTL:PT1H
BEGIN:VTIMEZONE
TZID:Europe/Madrid
BEGIN:DAYLIGHT
TZOFFSETFROM:+0100
TZOFFSETTO:+0200
TZNAME:CEST
DTSTART:20210328T010000
END:DAYLIGHT
BEGIN:STANDARD
TZOFFSETFROM:+0200
TZOFFSETTO:+0100
TZNAME:CET
DTSTART:20211031T010000
END:STANDARD
BEGIN:DAYLIGHT
TZOFFSETFROM:+0100
TZOFFSETTO:+0200
TZNAME:CEST
DTSTART:20220327T010000
END:DAYLIGHT
BEGIN:STANDARD
TZOFFSETFROM:+0200
TZOFFSETTO:+0100
TZNAME:CET
DTSTART:20221030T010000
END:STANDARD
BEGIN:DAYLIGHT
TZOFFSETFROM:+0100
TZOFFSETTO:+0200
TZNAME:CEST
DTSTART:20230326T010000
END:DAYLIGHT
BEGIN:STANDARD
TZOFFSETFROM:+0200
TZOFFSETTO:+0100
TZNAME:CET
DTSTART:20231029T010000
END:STANDARD
END:VTIMEZONE
BEGIN:VEVENT
DTSTART;TZID=Europe/Madrid:20220603T100000
DTEND;TZID=Europe/Madrid:20220828T200000
DTSTAMP:20260420T131046
CREATED:20220602T133754Z
LAST-MODIFIED:20220719T081014Z
UID:10003276-1654250400-1661716800@poblenouurbandistrict.com
SUMMARY:[:ca]Exposició: El millor disseny de l'any[:es]Exposición: El mejor diseño del año[:en]Exhibition: The best design of the year[:]
DESCRIPTION:Una valiosa panorámica del mejor diseño del año con las propuestas más destacadas en diseño gráfico y comunicación visual\, diseño industrial\, arquitectura e interiorismo. \nDisponible hasta el 28 de agosto. \nCerrado los lunes
URL:https://poblenouurbandistrict.com/es/agenda/exposicio-el-millor-disseny-de-lany/
LOCATION:Museu del Disseny\, Plaça de les Glòries Catalanes\,\, 37\, Barcelona\, Barcelona\, 08018\, Espanya
CATEGORIES:Arte,Exposición
ATTACH;FMTTYPE=image/jpeg:https://media.poblenouurbandistrict.com/2022/06/25052545/screenshot-2022-06-02-at-153711.jpg
END:VEVENT
BEGIN:VEVENT
DTSTART;TZID=Europe/Madrid:20220609T100000
DTEND;TZID=Europe/Madrid:20220828T200000
DTSTAMP:20260420T131046
CREATED:20220519T132809Z
LAST-MODIFIED:20220627T100116Z
UID:10003540-1654768800-1661716800@poblenouurbandistrict.com
SUMMARY:[:ca]Exposició: Transgressions[:es]Exposición: Transgresiones[:en]Exhibition: Transgressions[:]
DESCRIPTION:La muestra\, una producción del Museo del Diseño de Barcelona\, exhibirá la nueva colección de ceráimca contemporánea\, haciendo hincapié a un momento creativo de contrastes\, crítica y reflexión sobre temas de actualidad. \nCerrado los lunes
URL:https://poblenouurbandistrict.com/es/agenda/exposicio-transgressions/
LOCATION:Museu del Disseny\, Plaça de les Glòries Catalanes\,\, 37\, Barcelona\, Barcelona\, 08018\, Espanya
CATEGORIES:Arte,Exposición
ATTACH;FMTTYPE=image/jpeg:https://media.poblenouurbandistrict.com/2022/05/25051740/screenshot-2022-05-19-at-152701.jpg
END:VEVENT
BEGIN:VEVENT
DTSTART;TZID=Europe/Madrid:20220705T110000
DTEND;TZID=Europe/Madrid:20220710T180000
DTSTAMP:20260420T131046
CREATED:20220511T143132Z
LAST-MODIFIED:20220912T141204Z
UID:10003434-1657018800-1657476000@poblenouurbandistrict.com
SUMMARY:[:ca]Exposició: Stella Rahola Matutes - L’Habitació de les Desateses[:es]Exposición: Stella Rahola Matutes - L’Habitació de les Desateses[:en]Exhibition: Stella Rahola Matutes - L’Habitació de les Desateses[:]
DESCRIPTION:Stella Rahola Matutes reivindica la materialidad como sustancia siempre sujeta al cambio\, ya sea a través de una implicación con seres humanos y no humanos y de su manipulación\, la interacción con su entorno o la vida dinámica de sus reacciones químicas. Esta cuestión implica políticamente considerar los procesos de fabricación y sus relaciones asociadas de poder\, esto es\, las trabajadoras\, sus herramientas y los espacios de producción. \nMartes a sábado: 11h – 18h\, Domingo: 11h – 14h \nDel 31 de mayo al 18 de septiembre \n 
URL:https://poblenouurbandistrict.com/es/agenda/exposicio-stella-rahola-matutes-lhabitacio-de-les-desateses/2022-07-05/
LOCATION:Museu Can Framis\, carrer de Roc Boronat\, 116\, 126\, Barcelona\, Barcelona\, 08018\, Espanya
CATEGORIES:Arte,Exposición
ATTACH;FMTTYPE=image/jpeg:https://media.poblenouurbandistrict.com/2022/05/25051526/screenshot-2022-05-11-at-162652.jpg
END:VEVENT
BEGIN:VEVENT
DTSTART;TZID=Europe/Madrid:20220705T110000
DTEND;TZID=Europe/Madrid:20220710T180000
DTSTAMP:20260420T131046
CREATED:20220607T095803Z
LAST-MODIFIED:20220912T141032Z
UID:10003863-1657018800-1657476000@poblenouurbandistrict.com
SUMMARY:[:ca]Exposició: Premi de Pintura 2022[:es]Exposición: Premios de Pintura 2022[:en]Exhibition: Painting Award 2022[:]
DESCRIPTION:Exposición de las 30 obras finalistas del Premio de Pintura 2022 en Can Framis entre el 5 de julio y el 18 de septiembre. \nDurante la inauguración\, lunes 4 de julio a las 19 hs\, se leerá el veredicto del jurado y se entregará el premio a la obra ganadora.
URL:https://poblenouurbandistrict.com/es/agenda/exposicio-premi-de-pintura-2022/2022-07-05/
LOCATION:Museu Can Framis\, carrer de Roc Boronat\, 116\, 126\, Barcelona\, Barcelona\, 08018\, Espanya
CATEGORIES:Arte,Exposición
ATTACH;FMTTYPE=image/jpeg:https://media.poblenouurbandistrict.com/2022/06/25052707/screenshot-2022-06-07-at-115722.jpg
END:VEVENT
BEGIN:VEVENT
DTSTART;TZID=Europe/Madrid:20220707T090000
DTEND;TZID=Europe/Madrid:20220710T153000
DTSTAMP:20260420T131046
CREATED:20220608T084120Z
LAST-MODIFIED:20220627T092255Z
UID:10003880-1657184400-1657467000@poblenouurbandistrict.com
SUMMARY:[:ca]Curs: Aquarel·la botànica[:es]Curso: Acuarela botánica[:en]Course: Botanical watercolors[:]
DESCRIPTION:Introdúcete en el mundo de la acuarela o refresca conocimientos de la mano de Mary Dillon\, del 7 al 10 de julio\, en Art Valles.
URL:https://poblenouurbandistrict.com/es/agenda/curs-aquarel%c2%b7la-botanica/
LOCATION:ArtValles\, Carrer Pallars 152\, Barcelona\, Catalunya\, 08005\, España
CATEGORIES:Arte,Curso,Taller
ATTACH;FMTTYPE=image/jpeg:https://media.poblenouurbandistrict.com/2022/06/25052720/screenshot-2022-06-08-at-104029.jpg
ORGANIZER;CN="ArtValles":MAILTO:artnuriavalles@gmail.com
END:VEVENT
BEGIN:VEVENT
DTSTART;TZID=Europe/Madrid:20220708T100000
DTEND;TZID=Europe/Madrid:20220904T200000
DTSTAMP:20260420T131046
CREATED:20220615T093437Z
LAST-MODIFIED:20220725T101337Z
UID:10003830-1657274400-1662321600@poblenouurbandistrict.com
SUMMARY:[:ca]Exposició: Salvapantalles fantasma[:es]Exposición: Salvapantallas fantasma[:en]Exhibition: Ghost Screensaver[:]
DESCRIPTION:Dentro del programa Creació i Museus os invitamos a visitar\, en el Museu del Disseny\, Salvapantallas fantasma. A partir de una instalación audiovisual formada por diversos televisores «obsoletos» y por un sistema de emisión de televisión analógica\, Daniel Moreno Roldán quiere reflexionar sobre la cultura actual del tecno progreso\, la obsolescencia y la nostalgia hacia la tecnología. \nCerrado los lunes
URL:https://poblenouurbandistrict.com/es/agenda/exposicio-salvapantalles-fantasma/
LOCATION:Museu del Disseny\, Plaça de les Glòries Catalanes\,\, 37\, Barcelona\, Barcelona\, 08018\, Espanya
CATEGORIES:Arte,Audiovisual,Exposición
ATTACH;FMTTYPE=image/jpeg:https://media.poblenouurbandistrict.com/2022/06/25053002/screenshot-2022-06-15-at-113348.jpg
END:VEVENT
BEGIN:VEVENT
DTSTART;TZID=Europe/Madrid:20220708T203000
DTEND;TZID=Europe/Madrid:20220710T143000
DTSTAMP:20260420T131046
CREATED:20220615T084248Z
LAST-MODIFIED:20220627T091556Z
UID:10003826-1657312200-1657463400@poblenouurbandistrict.com
SUMMARY:[:ca]Taller: Cap de setmana Creativitat Inside Out[:es]Taller: Fin de semana Creatividad Inside Out[:en]Workshop: Weekend Inside Out Creativity[:]
DESCRIPTION:En este taller de tres días\, aprenderás otra forma de explorar y crear conectando con tus propios recursos. Y lo harás mediante el trabajo corporal para focalizar el trabajo creativo con mayor eficacia y fluidez. \nDel 8 al 10 de julio 2022\, de viernes tarde hasta domingo tarde
URL:https://poblenouurbandistrict.com/es/agenda/taller-cap-de-setmana-creativitat-inside-out/
LOCATION:Barcelona School of Creativity\, Carrer Pallars\, 65\, Nau 4\, Barcelona\, Catalunya\, 08018\, España
CATEGORIES:Arte,Curso,Taller,Charla
ATTACH;FMTTYPE=image/jpeg:https://media.poblenouurbandistrict.com/2022/06/25052953/bosc.jpg
ORGANIZER;CN="Barcelona School of Creativity":MAILTO:hola@barcelonaschoolofcreativity.com
END:VEVENT
END:VCALENDAR