BEGIN:VCALENDAR
VERSION:2.0
PRODID:-//Poblenou Urban District - ECPv6.15.20//NONSGML v1.0//EN
CALSCALE:GREGORIAN
METHOD:PUBLISH
X-WR-CALNAME:Poblenou Urban District
X-ORIGINAL-URL:https://poblenouurbandistrict.com/es
X-WR-CALDESC:Eventos para Poblenou Urban District
REFRESH-INTERVAL;VALUE=DURATION:PT1H
X-Robots-Tag:noindex
X-PUBLISHED-TTL:PT1H
BEGIN:VTIMEZONE
TZID:Europe/Madrid
BEGIN:DAYLIGHT
TZOFFSETFROM:+0100
TZOFFSETTO:+0200
TZNAME:CEST
DTSTART:20210328T010000
END:DAYLIGHT
BEGIN:STANDARD
TZOFFSETFROM:+0200
TZOFFSETTO:+0100
TZNAME:CET
DTSTART:20211031T010000
END:STANDARD
BEGIN:DAYLIGHT
TZOFFSETFROM:+0100
TZOFFSETTO:+0200
TZNAME:CEST
DTSTART:20220327T010000
END:DAYLIGHT
BEGIN:STANDARD
TZOFFSETFROM:+0200
TZOFFSETTO:+0100
TZNAME:CET
DTSTART:20221030T010000
END:STANDARD
BEGIN:DAYLIGHT
TZOFFSETFROM:+0100
TZOFFSETTO:+0200
TZNAME:CEST
DTSTART:20230326T010000
END:DAYLIGHT
BEGIN:STANDARD
TZOFFSETFROM:+0200
TZOFFSETTO:+0100
TZNAME:CET
DTSTART:20231029T010000
END:STANDARD
END:VTIMEZONE
BEGIN:VEVENT
DTSTART;TZID=Europe/Madrid:20220919T080000
DTEND;TZID=Europe/Madrid:20220923T190000
DTSTAMP:20260420T094646
CREATED:20220912T152524Z
LAST-MODIFIED:20220912T152524Z
UID:10003994-1663574400-1663959600@poblenouurbandistrict.com
SUMMARY:[:ca]Exposició: Poblenou - La Memòria Pintada[:es]Exposición: Poblenou - La Memoria Pintada[:en]Exhibition: Poblenou - La Memòria Pintada[:]
DESCRIPTION:30 años de transformación del Poblenou a pincel por el artista Neus Martin Royo\n\n\n\n\n\nLa pintora realista Neus Martín Royo muestra la transformación del Poblenou en una gran antológica con 130 obras distribuidas en cuatro sedes del barrio. \nPalo Alto Barcelona es una de las sedes que acogerá obras de los últimos treinta años de la artista Neus Martin Royo\, acompañadas de documentación histórica y fotografías que radiografían la transformación de nuestro barrio. \nDesde hace muchos años la Neus Martín Royo ha retratado Palo Alto\, su interior\, exterior y su vida. Ahora es un momento único para disfrutar del arte\, pero también para disfrutar de nuestra historia. \nLa exposición ocupará dos salas de Palo Alto: La Sala XYZ\, una de las más antiguas del recinto\, que acogerá obras sobre el tren\, el mar y la playa\, cuadros de gran formato híbridos con fotografías antiguas que muestran la transformación del litoral. La Sala Escoleta contará con obras sobre el jardín de Palo Alto y el Gasómetro.
URL:https://poblenouurbandistrict.com/es/agenda/exposicio-poblenou-la-memoria-pintada/2022-09-19/
LOCATION:Palo Alto\, Carrer dels Pellaires\, 30 - 38\, Barcelona\, 08019
CATEGORIES:Arte,Exposición
ATTACH;FMTTYPE=image/jpeg:https://media.poblenouurbandistrict.com/2022/09/25054100/capture-decran-2022-09-12-a-171910.jpg
END:VEVENT
BEGIN:VEVENT
DTSTART;TZID=Europe/Madrid:20220920T100000
DTEND;TZID=Europe/Madrid:20220924T190000
DTSTAMP:20260420T094646
CREATED:20220912T150431Z
LAST-MODIFIED:20220912T150525Z
UID:10003984-1663668000-1664046000@poblenouurbandistrict.com
SUMMARY:[:ca]Exposició: Somni atemporal[:es]Exposición: Somni atemporal[:en]Exhibition: Timeless dream[:]
DESCRIPTION:JOAN ILL \nSueño atemporal\n15.09 >> 11.11.2022 \nINAUGURACIÓN JUEVES 15 DE SEPTIEMBRE\n19h a 21:30h en L&B Gallery \nJUEVES 15\nVideo-instalación site-specific de Joan Ill Sueño\na bordo de la embarcación Niña Luisita en el Real Club Náutico de Barcelona\n1er turno 21:30h a 22:30h\n2º turno 22:30h a 23:30h\nSólo con reserva vía galeria@ibcontemporaryart.com (COMPLETO) \nVIERNES 16\nAperitivo con el artista\n13h en L&B Gallery \nSÁBADO 17\nAperitivo con el artista\n12h en L&B Gallery
URL:https://poblenouurbandistrict.com/es/agenda/exposicio-somni-atemporal-2022-09-20/2022-09-20/
LOCATION:L&B Gallery\, Àlaba 58\, Barcelona\, Barcelona\, 08005\, Espanya
CATEGORIES:Arte,Exposición
ATTACH;FMTTYPE=image/jpeg:https://media.poblenouurbandistrict.com/2022/09/25054055/capture-decran-2022-09-12-a-170026.jpg
ORGANIZER;CN="L&B Gallery":MAILTO:galeria@lbcontemporaryart.com
END:VEVENT
END:VCALENDAR